Workbook

Sheet Entradas
A1: ENTRADAS | C1: Martes | D1: Miércoles | E1: Jueves | F1: Viernes | G1: Sábado | H1: Domingo | I1: Lunes | J1: Martes | K1: Miércoles | L1: Jueves | M1: Viernes | N1: Sábado | O1: Domingo | P1: Lunes | Q1: Martes | R1: Miércoles | S1: Jueves | T1: Viernes | U1: Sábado | V1: Domingo | W1: Lunes | X1: Martes | Y1: Miércoles | Z1: Jueves | AA1: Viernes | AB1: Sábado | AC1: Domingo | AD1: Lunes | AE1: Martes | AF1: Miércoles | AG1: Jueves | AH1: Viernes | AI1: Sábado | AJ1: Domingo
A2: ESTACIÓN | C2: 40575 | D2: 40576 | E2: 40577 | F2: 40578 | G2: 40579 | H2: 40580 | I2: 40581 | J2: 40582 | K2: 40583 | L2: 40584 | M2: 40585 | N2: 40586 | O2: 40587 | P2: 40588 | Q2: 40589 | R2: 40590 | S2: 40591 | T2: 40592 | U2: 40593 | V2: 40594 | W2: 40595 | X2: 40596 | Y2: 40597 | Z2: 40598 | AA2: 40599 | AB2: 40600 | AC2: 40601 | AD2: 40602 | AE2: 40603 | AF2: 40604 | AG2: 40605 | AH2: 40606 | AI2: 40607 | AJ2: 40608
A3: FASE 1 | B3: PORTAL 80 | C3: =[1]entradas!$H$11 -> 79458 | D3: =[2]entradas!$H$11 -> 79318 | E3: =[3]entradas!$H$11 -> 80967 | F3: =[4]entradas!$H$11 -> 81340 | G3: =[5]entradas!$H$11 -> 57434 | H3: =[6]entradas!$H$11 -> 25839 | I3: =[7]entradas!$H$11 -> 80094 | J3: =[8]entradas!$H$11 -> 81614 | K3: =[9]entradas!$H$11 -> 80438 | L3: =[10]entradas!$H$11 -> 80980 | M3: =[11]entradas!$H$11 -> 82260 | N3: =[12]entradas!$H$11 -> 57046 | O3: =[13]entradas!$H$11 -> 25128 | P3: =[14]entradas!$H$11 -> 84823 | Q3: =[15]entradas!$H$11 -> 84223 | R3: =[16]entradas!$H$11 -> 84854 | S3: =[17]entradas!$H$11 -> 84584 | T3: =[18]entradas!$H$11 -> 85208 | U3: =[19]entradas!$H$11 -> 58867 | V3: =[20]entradas!$H$11 -> 26485 | W3: =[21]entradas!$H$11 -> 82135 | X3: =[22]entradas!$H$11 -> 82152 | Y3: =[23]entradas!$H$11 -> 82167 | Z3: =[24]entradas!$H$11 -> 81360 | AA3: =[25]entradas!$H$11 -> 83908 | AB3: =[26]entradas!$H$11 -> 59580 | AC3: =[27]entradas!$H$11 -> 26264 | AD3: =[28]entradas!$H$11 -> 82997 | AE3: =[29]entradas!$H$11 -> 84338 | AF3: =[30]entradas!$H$11 -> 83777 | AG3: =[31]entradas!$H$11 -> 83486 | AH3: =[32]entradas!$H$11 -> 86451 | AI3: =[33]entradas!$H$11 -> 61055 | AJ3: =[34]entradas!$H$11 -> 26768
B4: QUIRIGUA | C4: =[1]entradas!$H20 -> 5244 | D4: =[2]entradas!$H20 -> 5243 | E4: =[3]entradas!$H20 -> 4938 | F4: =[4]entradas!$H20 -> 5347 | G4: =[5]entradas!$H20 -> 4136 | H4: =[6]entradas!$H20 -> 2114 | I4: =[7]entradas!$H20 -> 5077 | J4: =[8]entradas!$H20 -> 5244 | K4: =[9]entradas!$H20 -> 5333 | L4: =[10]entradas!$H20 -> 5176 | M4: =[11]entradas!$H20 -> 5295 | N4: =[12]entradas!$H20 -> 4158 | O4: =[13]entradas!$H20 -> 1915 | P4: =[14]entradas!$H20 -> 5573 | Q4: =[15]entradas!$H20 -> 5574 | R4: =[16]entradas!$H20 -> 5321 | S4: =[17]entradas!$H20 -> 5431 | T4: =[18]entradas!$H20 -> 5619 | U4: =[19]entradas!$H20 -> 4244 | V4: =[20]entradas!$H20 -> 2002 | W4: =[21]entradas!$H20 -> 5274 | X4: =[22]entradas!$H20 -> 5322 | Y4: =[23]entradas!$H20 -> 5435 | Z4: =[24]entradas!$H20 -> 5173 | AA4: =[25]entradas!$H20 -> 5495 | AB4: =[26]entradas!$H20 -> 4182 | AC4: =[27]entradas!$H20 -> 2071 | AD4: =[28]entradas!$H20 -> 5411 | AE4: =[29]entradas!$H20 -> 5685 | AF4: =[30]entradas!$H20 -> 5645 | AG4: =[31]entradas!$H20 -> 5592 | AH4: =[32]entradas!$H20 -> 5589 | AI4: =[33]entradas!$H20 -> 4315 | AJ4: =[34]entradas!$H20 -> 2071
B5: CARRERA 90 | C5: =[1]entradas!$H21 -> 5964 | D5: =[2]entradas!$H21 -> 5794 | E5: =[3]entradas!$H21 -> 5829 | F5: =[4]entradas!$H21 -> 5958 | G5: =[5]entradas!$H21 -> 3957 | H5: =[6]entradas!$H21 -> 1333 | I5: =[7]entradas!$H21 -> 5864 | J5: =[8]entradas!$H21 -> 5842 | K5: =[9]entradas!$H21 -> 5903 | L5: =[10]entradas!$H21 -> 5976 | M5: =[11]entradas!$H21 -> 5962 | N5: =[12]entradas!$H21 -> 4144 | O5: =[13]entradas!$H21 -> 1319 | P5: =[14]entradas!$H21 -> 6029 | Q5: =[15]entradas!$H21 -> 6235 | R5: =[16]entradas!$H21 -> 6125 | S5: =[17]entradas!$H21 -> 6178 | T5: =[18]entradas!$H21 -> 6218 | U5: =[19]entradas!$H21 -> 4238 | V5: =[20]entradas!$H21 -> 1404 | W5: =[21]entradas!$H21 -> 6151 | X5: =[22]entradas!$H21 -> 6182 | Y5: =[23]entradas!$H21 -> 5932 | Z5: =[24]entradas!$H21 -> 5923 | AA5: =[25]entradas!$H21 -> 6070 | AB5: =[26]entradas!$H21 -> 4256 | AC5: =[27]entradas!$H21 -> 1439 | AD5: =[28]entradas!$H21 -> 6234 | AE5: =[29]entradas!$H21 -> 6218 | AF5: =[30]entradas!$H21 -> 6078 | AG5: =[31]entradas!$H21 -> 6258 | AH5: =[32]entradas!$H21 -> 6218 | AI5: =[33]entradas!$H21 -> 4268 | AJ5: =[34]entradas!$H21 -> 1394
B6: AV. CIUD. DE CALI TAQ | C6: =[1]entradas!$H22 -> 9969 | D6: =[2]entradas!$H22 -> 10167 | E6: =[3]entradas!$H22 -> 9882 | F6: =[4]entradas!$H22 -> 10288 | G6: =[5]entradas!$H22 -> 7221 | H6: =[6]entradas!$H22 -> 3179 | I6: =[7]entradas!$H22 -> 10294 | J6: =[8]entradas!$H22 -> 10515 | K6: =[9]entradas!$H22 -> 10678 | L6: =[10]entradas!$H22 -> 10639 | M6: =[11]entradas!$H22 -> 10700 | N6: =[12]entradas!$H22 -> 7273 | O6: =[13]entradas!$H22 -> 2954 | P6: =[14]entradas!$H22 -> 10824 | Q6: =[15]entradas!$H22 -> 10744 | R6: =[16]entradas!$H22 -> 10918 | S6: =[17]entradas!$H22 -> 10714 | T6: =[18]entradas!$H22 -> 10898 | U6: =[19]entradas!$H22 -> 7565 | V6: =[20]entradas!$H22 -> 3064 | W6: =[21]entradas!$H22 -> 10506 | X6: =[22]entradas!$H22 -> 10613 | Y6: =[23]entradas!$H22 -> 10714 | Z6: =[24]entradas!$H22 -> 10528 | AA6: =[25]entradas!$H22 -> 10815 | AB6: =[26]entradas!$H22 -> 7462 | AC6: =[27]entradas!$H22 -> 3007 | AD6: =[28]entradas!$H22 -> 10451 | AE6: =[29]entradas!$H22 -> 11033 | AF6: =[30]entradas!$H22 -> 10811 | AG6: =[31]entradas!$H22 -> 10740 | AH6: =[32]entradas!$H22 -> 11145 | AI6: =[33]entradas!$H22 -> 7850 | AJ6: =[34]entradas!$H22 -> 3022
B7: AV. CIUD. DE CALI ALIM | C7: =[1]entradas!$H23 -> 3205 | D7: =[2]entradas!$H23 -> 3135 | E7: =[3]entradas!$H23 -> 3334 | F7: =[4]entradas!$H23 -> 3371 | G7: =[5]entradas!$H23 -> 2337 | H7: =[6]entradas!$H23 -> 903 | I7: =[7]entradas!$H23 -> 3616 | J7: =[8]entradas!$H23 -> 3705 | K7: =[9]entradas!$H23 -> 3170 | L7: =[10]entradas!$H23 -> 3580 | M7: =[11]entradas!$H23 -> 3514 | N7: =[12]entradas!$H23 -> 2270 | O7: =[13]entradas!$H23 -> 950 | P7: =[14]entradas!$H23 -> 3404 | Q7: =[15]entradas!$H23 -> 3518 | R7: =[16]entradas!$H23 -> 3674 | S7: =[17]entradas!$H23 -> 3352 | T7: =[18]entradas!$H23 -> 3545 | U7: =[19]entradas!$H23 -> 2349 | V7: =[20]entradas!$H23 -> 980 | W7: =[21]entradas!$H23 -> 3027 | X7: =[22]entradas!$H23 -> 3575 | Y7: =[23]entradas!$H23 -> 3687 | Z7: =[24]entradas!$H23 -> 3453 | AA7: =[25]entradas!$H23 -> 3638 | AB7: =[26]entradas!$H23 -> 2357 | AC7: =[27]entradas!$H23 -> 897 | AD7: =[28]entradas!$H23 -> 3312 | AE7: =[29]entradas!$H23 -> 3094 | AF7: =[30]entradas!$H23 -> 3298 | AG7: =[31]entradas!$H23 -> 3320 | AH7: =[32]entradas!$H23 -> 3311 | AI7: =[33]entradas!$H23 -> 2392 | AJ7: =[34]entradas!$H23 -> 952
B8: LA GRANJA | C8: =[1]entradas!$H24 -> 4342 | D8: =[2]entradas!$H24 -> 4295 | E8: =[3]entradas!$H24 -> 4275 | F8: =[4]entradas!$H24 -> 4263 | G8: =[5]entradas!$H24 -> 3052 | H8: =[6]entradas!$H24 -> 1321 | I8: =[7]entradas!$H24 -> 4227 | J8: =[8]entradas!$H24 -> 4287 | K8: =[9]entradas!$H24 -> 4243 | L8: =[10]entradas!$H24 -> 4368 | M8: =[11]entradas!$H24 -> 4256 | N8: =[12]entradas!$H24 -> 3155 | O8: =[13]entradas!$H24 -> 1280 | P8: =[14]entradas!$H24 -> 4392 | Q8: =[15]entradas!$H24 -> 4364 | R8: =[16]entradas!$H24 -> 4528 | S8: =[17]entradas!$H24 -> 4427 | T8: =[18]entradas!$H24 -> 4462 | U8: =[19]entradas!$H24 -> 3218 | V8: =[20]entradas!$H24 -> 1295 | W8: =[21]entradas!$H24 -> 4304 | X8: =[22]entradas!$H24 -> 4372 | Y8: =[23]entradas!$H24 -> 4271 | Z8: =[24]entradas!$H24 -> 4349 | AA8: =[25]entradas!$H24 -> 4404 | AB8: =[26]entradas!$H24 -> 3224 | AC8: =[27]entradas!$H24 -> 1374 | AD8: =[28]entradas!$H24 -> 4404 | AE8: =[29]entradas!$H24 -> 4422 | AF8: =[30]entradas!$H24 -> 4435 | AG8: =[31]entradas!$H24 -> 4449 | AH8: =[32]entradas!$H24 -> 4435 | AI8: =[33]entradas!$H24 -> 3297 | AJ8: =[34]entradas!$H24 -> 1345
B9: CARRERA 77 | C9: =[1]entradas!$H25 -> 13508 | D9: =[2]entradas!$H25 -> 13429 | E9: =[3]entradas!$H25 -> 13377 | F9: =[4]entradas!$H25 -> 14010 | G9: =[5]entradas!$H25 -> 10024 | H9: =[6]entradas!$H25 -> 4836 | I9: =[7]entradas!$H25 -> 13012 | J9: =[8]entradas!$H25 -> 13472 | K9: =[9]entradas!$H25 -> 13126 | L9: =[10]entradas!$H25 -> 12884 | M9: =[11]entradas!$H25 -> 13130 | N9: =[12]entradas!$H25 -> 10015 | O9: =[13]entradas!$H25 -> 4699 | P9: =[14]entradas!$H25 -> 13906 | Q9: =[15]entradas!$H25 -> 13822 | R9: =[16]entradas!$H25 -> 13336 | S9: =[17]entradas!$H25 -> 13639 | T9: =[18]entradas!$H25 -> 13577 | U9: =[19]entradas!$H25 -> 10384 | V9: =[20]entradas!$H25 -> 5139 | W9: =[21]entradas!$H25 -> 13322 | X9: =[22]entradas!$H25 -> 13359 | Y9: =[23]entradas!$H25 -> 13096 | Z9: =[24]entradas!$H25 -> 13354 | AA9: =[25]entradas!$H25 -> 13403 | AB9: =[26]entradas!$H25 -> 10234 | AC9: =[27]entradas!$H25 -> 4929 | AD9: =[28]entradas!$H25 -> 13462 | AE9: =[29]entradas!$H25 -> 13572 | AF9: =[30]entradas!$H25 -> 13577 | AG9: =[31]entradas!$H25 -> 13779 | AH9: =[32]entradas!$H25 -> 13652 | AI9: =[33]entradas!$H25 -> 10745 | AJ9: =[34]entradas!$H25 -> 4954
B10: CARRERA 77 ALIM.NORTE | C10: =[1]entradas!$H26 -> 5044 | D10: =[2]entradas!$H26 -> 5129 | E10: =[3]entradas!$H26 -> 5485 | F10: =[4]entradas!$H26 -> 5657 | G10: =[5]entradas!$H26 -> 3546 | H10: =[6]entradas!$H26 -> 1942 | I10: =[7]entradas!$H26 -> 4443 | J10: =[8]entradas!$H26 -> 4514 | K10: =[9]entradas!$H26 -> 4062 | L10: =[10]entradas!$H26 -> 4605 | M10: =[11]entradas!$H26 -> 4351 | N10: =[12]entradas!$H26 -> 3665 | O10: =[13]entradas!$H26 -> 1868 | P10: =[14]entradas!$H26 -> 4862 | Q10: =[15]entradas!$H26 -> 3949 | R10: =[16]entradas!$H26 -> 4315 | S10: =[17]entradas!$H26 -> 4298 | T10: =[18]entradas!$H26 -> 4621 | U10: =[19]entradas!$H26 -> 3612 | V10: =[20]entradas!$H26 -> 2044 | W10: =[21]entradas!$H26 -> 4519 | X10: =[22]entradas!$H26 -> 4588 | Y10: =[23]entradas!$H26 -> 4342 | Z10: =[24]entradas!$H26 -> 4296 | AA10: =[25]entradas!$H26 -> 3849 | AB10: =[26]entradas!$H26 -> 3711 | AC10: =[27]entradas!$H26 -> 1922 | AD10: =[28]entradas!$H26 -> 4590 | AE10: =[29]entradas!$H26 -> 3833 | AF10: =[30]entradas!$H26 -> 4081 | AG10: =[31]entradas!$H26 -> 4615 | AH10: =[32]entradas!$H26 -> 3888 | AI10: =[33]entradas!$H26 -> 3790 | AJ10: =[34]entradas!$H26 -> 1965
B11: CARRERA 77 ALIM.SUR | C11: =[1]entradas!$H27 -> 2382 | D11: =[2]entradas!$H27 -> 2204 | E11: =[3]entradas!$H27 -> 2317 | F11: =[4]entradas!$H27 -> 2516 | G11: =[5]entradas!$H27 -> 1766 | H11: =[6]entradas!$H27 -> 804 | I11: =[7]entradas!$H27 -> 2197 | J11: =[8]entradas!$H27 -> 2584 | K11: =[9]entradas!$H27 -> 2250 | L11: =[10]entradas!$H27 -> 2190 | M11: =[11]entradas!$H27 -> 1998 | N11: =[12]entradas!$H27 -> 1438 | O11: =[13]entradas!$H27 -> 750 | P11: =[14]entradas!$H27 -> 2210 | Q11: =[15]entradas!$H27 -> 2478 | R11: =[16]entradas!$H27 -> 2164 | S11: =[17]entradas!$H27 -> 2144 | T11: =[18]entradas!$H27 -> 2342 | U11: =[19]entradas!$H27 -> 1515 | V11: =[20]entradas!$H27 -> 897 | W11: =[21]entradas!$H27 -> 2283 | X11: =[22]entradas!$H27 -> 2307 | Y11: =[23]entradas!$H27 -> 2273 | Z11: =[24]entradas!$H27 -> 2221 | AA11: =[25]entradas!$H27 -> 2177 | AB11: =[26]entradas!$H27 -> 1546 | AC11: =[27]entradas!$H27 -> 834 | AD11: =[28]entradas!$H27 -> 2496 | AE11: =[29]entradas!$H27 -> 2539 | AF11: =[30]entradas!$H27 -> 2454 | AG11: =[31]entradas!$H27 -> 2421 | AH11: =[32]entradas!$H27 -> 2414 | AI11: =[33]entradas!$H27 -> 1685 | AJ11: =[34]entradas!$H27 -> 875
B12: MINUTO DE DIOS | C12: =[1]entradas!$H28 -> 7978 | D12: =[2]entradas!$H28 -> 7882 | E12: =[3]entradas!$H28 -> 8135 | F12: =[4]entradas!$H28 -> 8244 | G12: =[5]entradas!$H28 -> 5121 | H12: =[6]entradas!$H28 -> 1749 | I12: =[7]entradas!$H28 -> 8045 | J12: =[8]entradas!$H28 -> 8224 | K12: =[9]entradas!$H28 -> 7886 | L12: =[10]entradas!$H28 -> 8141 | M12: =[11]entradas!$H28 -> 8115 | N12: =[12]entradas!$H28 -> 5109 | O12: =[13]entradas!$H28 -> 1475 | P12: =[14]entradas!$H28 -> 8417 | Q12: =[15]entradas!$H28 -> 8250 | R12: =[16]entradas!$H28 -> 8090 | S12: =[17]entradas!$H28 -> 8152 | T12: =[18]entradas!$H28 -> 8200 | U12: =[19]entradas!$H28 -> 5729 | V12: =[20]entradas!$H28 -> 1556 | W12: =[21]entradas!$H28 -> 7816 | X12: =[22]entradas!$H28 -> 8000 | Y12: =[23]entradas!$H28 -> 7698 | Z12: =[24]entradas!$H28 -> 8030 | AA12: =[25]entradas!$H28 -> 8215 | AB12: =[26]entradas!$H28 -> 5227 | AC12: =[27]entradas!$H28 -> 1566 | AD12: =[28]entradas!$H28 -> 7840 | AE12: =[29]entradas!$H28 -> 8295 | AF12: =[30]entradas!$H28 -> 8056 | AG12: =[31]entradas!$H28 -> 8097 | AH12: =[32]entradas!$H28 -> 8382 | AI12: =[33]entradas!$H28 -> 5320 | AJ12: =[34]entradas!$H28 -> 1666
B13: AV. BOYACA | C13: =[1]entradas!$H29 -> 3448 | D13: =[2]entradas!$H29 -> 3447 | E13: =[3]entradas!$H29 -> 3619 | F13: =[4]entradas!$H29 -> 3529 | G13: =[5]entradas!$H29 -> 2321 | H13: =[6]entradas!$H29 -> 910 | I13: =[7]entradas!$H29 -> 3507 | J13: =[8]entradas!$H29 -> 3527 | K13: =[9]entradas!$H29 -> 3583 | L13: =[10]entradas!$H29 -> 3492 | M13: =[11]entradas!$H29 -> 3549 | N13: =[12]entradas!$H29 -> 2348 | O13: =[13]entradas!$H29 -> 861 | P13: =[14]entradas!$H29 -> 3775 | Q13: =[15]entradas!$H29 -> 3760 | R13: =[16]entradas!$H29 -> 3581 | S13: =[17]entradas!$H29 -> 3625 | T13: =[18]entradas!$H29 -> 3671 | U13: =[19]entradas!$H29 -> 2461 | V13: =[20]entradas!$H29 -> 923 | W13: =[21]entradas!$H29 -> 3527 | X13: =[22]entradas!$H29 -> 3491 | Y13: =[23]entradas!$H29 -> 3559 | Z13: =[24]entradas!$H29 -> 3573 | AA13: =[25]entradas!$H29 -> 3631 | AB13: =[26]entradas!$H29 -> 2492 | AC13: =[27]entradas!$H29 -> 913 | AD13: =[28]entradas!$H29 -> 3529 | AE13: =[29]entradas!$H29 -> 3640 | AF13: =[30]entradas!$H29 -> 3704 | AG13: =[31]entradas!$H29 -> 3704 | AH13: =[32]entradas!$H29 -> 3799 | AI13: =[33]entradas!$H29 -> 2577 | AJ13: =[34]entradas!$H29 -> 838
B14: FERIAS | C14: =[1]entradas!$H30 -> 4564 | D14: =[2]entradas!$H30 -> 4578 | E14: =[3]entradas!$H30 -> 4400 | F14: =[4]entradas!$H30 -> 4620 | G14: =[5]entradas!$H30 -> 3844 | H14: =[6]entradas!$H30 -> 1837 | I14: =[7]entradas!$H30 -> 4332 | J14: =[8]entradas!$H30 -> 4421 | K14: =[9]entradas!$H30 -> 4390 | L14: =[10]entradas!$H30 -> 4342 | M14: =[11]entradas!$H30 -> 4408 | N14: =[12]entradas!$H30 -> 3611 | O14: =[13]entradas!$H30 -> 1608 | P14: =[14]entradas!$H30 -> 4423 | Q14: =[15]entradas!$H30 -> 4507 | R14: =[16]entradas!$H30 -> 4616 | S14: =[17]entradas!$H30 -> 4490 | T14: =[18]entradas!$H30 -> 4670 | U14: =[19]entradas!$H30 -> 3647 | V14: =[20]entradas!$H30 -> 1850 | W14: =[21]entradas!$H30 -> 4361 | X14: =[22]entradas!$H30 -> 4597 | Y14: =[23]entradas!$H30 -> 4557 | Z14: =[24]entradas!$H30 -> 4429 | AA14: =[25]entradas!$H30 -> 4545 | AB14: =[26]entradas!$H30 -> 3761 | AC14: =[27]entradas!$H30 -> 2064 | AD14: =[28]entradas!$H30 -> 4684 | AE14: =[29]entradas!$H30 -> 4735 | AF14: =[30]entradas!$H30 -> 4750 | AG14: =[31]entradas!$H30 -> 4649 | AH14: =[32]entradas!$H30 -> 4886 | AI14: =[33]entradas!$H30 -> 3980 | AJ14: =[34]entradas!$H30 -> 1855
B15: AVENIDA 68 | C15: =[1]entradas!$H31 -> 10628 | D15: =[2]entradas!$H31 -> 10480 | E15: =[3]entradas!$H31 -> 9963 | F15: =[4]entradas!$H31 -> 10408 | G15: =[5]entradas!$H31 -> 7152 | H15: =[6]entradas!$H31 -> 3386 | I15: =[7]entradas!$H31 -> 10269 | J15: =[8]entradas!$H31 -> 10292 | K15: =[9]entradas!$H31 -> 9993 | L15: =[10]entradas!$H31 -> 10040 | M15: =[11]entradas!$H31 -> 10213 | N15: =[12]entradas!$H31 -> 6925 | O15: =[13]entradas!$H31 -> 3309 | P15: =[14]entradas!$H31 -> 10751 | Q15: =[15]entradas!$H31 -> 10205 | R15: =[16]entradas!$H31 -> 10202 | S15: =[17]entradas!$H31 -> 10291 | T15: =[18]entradas!$H31 -> 10660 | U15: =[19]entradas!$H31 -> 7075 | V15: =[20]entradas!$H31 -> 3337 | W15: =[21]entradas!$H31 -> 10171 | X15: =[22]entradas!$H31 -> 10145 | Y15: =[23]entradas!$H31 -> 10088 | Z15: =[24]entradas!$H31 -> 10073 | AA15: =[25]entradas!$H31 -> 10563 | AB15: =[26]entradas!$H31 -> 6941 | AC15: =[27]entradas!$H31 -> 3257 | AD15: =[28]entradas!$H31 -> 10577 | AE15: =[29]entradas!$H31 -> 10842 | AF15: =[30]entradas!$H31 -> 10503 | AG15: =[31]entradas!$H31 -> 10654 | AH15: =[32]entradas!$H31 -> 11014 | AI15: =[33]entradas!$H31 -> 7136 | AJ15: =[34]entradas!$H31 -> 3245
... B40: PORTAL DEL NORTE | C40: =[1]entradas!$H56 -> 100648 | D40: =[2]entradas!$H56 -> 108579 | E40: =[3]entradas!$H56 -> 109791 | F40: =[4]entradas!$H56 -> 112157 | G40: =[5]entradas!$H56 -> 78266 | H40: =[6]entradas!$H56 -> 44495 | I40: =[7]entradas!$H56 -> 109982 | J40: =[8]entradas!$H56 -> 111596 | K40: =[9]entradas!$H56 -> 109788 | L40: =[10]entradas!$H56 -> 111837 | M40: =[11]entradas!$H56 -> 113976 | N40: =[12]entradas!$H56 -> 78315 | O40: =[13]entradas!$H56 -> 42137 | P40: =[14]entradas!$H56 -> 112037 | Q40: =[15]entradas!$H56 -> 109127 | R40: =[16]entradas!$H56 -> 109366 | S40: =[17]entradas!$H56 -> 110103 | T40: =[18]entradas!$H56 -> 114193 | U40: =[19]entradas!$H56 -> 80256 | V40: =[20]entradas!$H56 -> 43986 | W40: =[21]entradas!$H56 -> 112272 | X40: =[22]entradas!$H56 -> 112224 | Y40: =[23]entradas!$H56 -> 111757 | Z40: =[24]entradas!$H56 -> 111088 | AA40: =[25]entradas!$H56 -> 114578 | AB40: =[26]entradas!$H56 -> 80091 | AC40: =[27]entradas!$H56 -> 42610 | AD40: =[28]entradas!$H56 -> 112401 | AE40: =[29]entradas!$H56 -> 113107 | AF40: =[30]entradas!$H56 -> 112024 | AG40: =[31]entradas!$H56 -> 112555 | AH40: =[32]entradas!$H56 -> 117327 | AI40: =[33]entradas!$H56 -> 83967 | AJ40: =[34]entradas!$H56 -> 42554
B41: CALLE 76 N | C41: =[1]entradas!$H63 -> 21257 | D41: =[2]entradas!$H63 -> 20896 | E41: =[3]entradas!$H63 -> 20093 | F41: =[4]entradas!$H63 -> 20259 | G41: =[5]entradas!$H63 -> 11313 | H41: =[6]entradas!$H63 -> 2251 | I41: =[7]entradas!$H63 -> 21325 | J41: =[8]entradas!$H63 -> 21471 | K41: =[9]entradas!$H63 -> 20933 | L41: =[10]entradas!$H63 -> 20972 | M41: =[11]entradas!$H63 -> 20513 | N41: =[12]entradas!$H63 -> 11815 | O41: =[13]entradas!$H63 -> 2386 | P41: =[14]entradas!$H63 -> 20878 | Q41: =[15]entradas!$H63 -> 19627 | R41: =[16]entradas!$H63 -> 20912 | S41: =[17]entradas!$H63 -> 19862 | T41: =[18]entradas!$H63 -> 20603 | U41: =[19]entradas!$H63 -> 11877 | V41: =[20]entradas!$H63 -> 2296 | W41: =[21]entradas!$H63 -> 21425 | X41: =[22]entradas!$H63 -> 21300 | Y41: =[23]entradas!$H63 -> 21445 | Z41: =[24]entradas!$H63 -> 20827 | AA41: =[25]entradas!$H63 -> 20788 | AB41: =[26]entradas!$H63 -> 11979 | AC41: =[27]entradas!$H63 -> 2398 | AD41: =[28]entradas!$H63 -> 21539 | AE41: =[29]entradas!$H63 -> 22540 | AF41: =[30]entradas!$H63 -> 22093 | AG41: =[31]entradas!$H63 -> 21644 | AH41: =[32]entradas!$H63 -> 21200 | AI41: =[33]entradas!$H63 -> 12389 | AJ41: =[34]entradas!$H63 -> 2351
B42: CALLE 76 S | C42: =[1]entradas!$H64 -> 13905 | D42: =[2]entradas!$H64 -> 14527 | E42: =[3]entradas!$H64 -> 14083 | F42: =[4]entradas!$H64 -> 13744 | G42: =[5]entradas!$H64 -> 5331 | H42: =[6]entradas!$H64 -> 952 | I42: =[7]entradas!$H64 -> 13056 | J42: =[8]entradas!$H64 -> 13615 | K42: =[9]entradas!$H64 -> 13199 | L42: =[10]entradas!$H64 -> 13039 | M42: =[11]entradas!$H64 -> 12313 | N42: =[12]entradas!$H64 -> 5094 | O42: =[13]entradas!$H64 -> 830 | P42: =[14]entradas!$H64 -> 12952 | Q42: =[15]entradas!$H64 -> 12909 | R42: =[16]entradas!$H64 -> 12936 | S42: =[17]entradas!$H64 -> 12647 | T42: =[18]entradas!$H64 -> 12881 | U42: =[19]entradas!$H64 -> 5317 | V42: =[20]entradas!$H64 -> 794 | W42: =[21]entradas!$H64 -> 12969 | X42: =[22]entradas!$H64 -> 12849 | Y42: =[23]entradas!$H64 -> 12857 | Z42: =[24]entradas!$H64 -> 13240 | AA42: =[25]entradas!$H64 -> 12048 | AB42: =[26]entradas!$H64 -> 5205 | AC42: =[27]entradas!$H64 -> 859 | AD42: =[28]entradas!$H64 -> 12854 | AE42: =[29]entradas!$H64 -> 13248 | AF42: =[30]entradas!$H64 -> 13100 | AG42: =[31]entradas!$H64 -> 12821 | AH42: =[32]entradas!$H64 -> 12308 | AI42: =[33]entradas!$H64 -> 5305 | AJ42: =[34]entradas!$H64 -> 890
B43: CALLE 72 N | C43: =[1]entradas!$H65 -> 21530 | D43: =[2]entradas!$H65 -> 20997 | E43: =[3]entradas!$H65 -> 20281 | F43: =[4]entradas!$H65 -> 21211 | G43: =[5]entradas!$H65 -> 12042 | H43: =[6]entradas!$H65 -> 4590 | I43: =[7]entradas!$H65 -> 23685 | J43: =[8]entradas!$H65 -> 25503 | K43: =[9]entradas!$H65 -> 24764 | L43: =[10]entradas!$H65 -> 25434 | M43: =[11]entradas!$H65 -> 25001 | N43: =[12]entradas!$H65 -> 13751 | O43: =[13]entradas!$H65 -> 4342 | P43: =[14]entradas!$H65 -> 25406 | Q43: =[15]entradas!$H65 -> 24936 | R43: =[16]entradas!$H65 -> 25042 | S43: =[17]entradas!$H65 -> 23618 | T43: =[18]entradas!$H65 -> 24787 | U43: =[19]entradas!$H65 -> 14053 | V43: =[20]entradas!$H65 -> 4622 | W43: =[21]entradas!$H65 -> 25224 | X43: =[22]entradas!$H65 -> 26363 | Y43: =[23]entradas!$H65 -> 25739 | Z43: =[24]entradas!$H65 -> 24275 | AA43: =[25]entradas!$H65 -> 26225 | AB43: =[26]entradas!$H65 -> 14774 | AC43: =[27]entradas!$H65 -> 4405 | AD43: =[28]entradas!$H65 -> 26153 | AE43: =[29]entradas!$H65 -> 26811 | AF43: =[30]entradas!$H65 -> 26419 | AG43: =[31]entradas!$H65 -> 26423 | AH43: =[32]entradas!$H65 -> 26765 | AI43: =[33]entradas!$H65 -> 14769 | AJ43: =[34]entradas!$H65 -> 4526
B44: CALLE 72 S | C44: =[1]entradas!$H66 -> 6195 | D44: =[2]entradas!$H66 -> 6138 | E44: =[3]entradas!$H66 -> 6033 | F44: =[4]entradas!$H66 -> 5864 | G44: =[5]entradas!$H66 -> 2572 | H44: =[6]entradas!$H66 -> 756 | I44: =[7]entradas!$H66 -> 9069 | J44: =[8]entradas!$H66 -> 9820 | K44: =[9]entradas!$H66 -> 9588 | L44: =[10]entradas!$H66 -> 9643 | M44: =[11]entradas!$H66 -> 9328 | N44: =[12]entradas!$H66 -> 3783 | O44: =[13]entradas!$H66 -> 874 | P44: =[14]entradas!$H66 -> 10101 | Q44: =[15]entradas!$H66 -> 9605 | R44: =[16]entradas!$H66 -> 10092 | S44: =[17]entradas!$H66 -> 10241 | T44: =[18]entradas!$H66 -> 9980 | U44: =[19]entradas!$H66 -> 3908 | V44: =[20]entradas!$H66 -> 874 | W44: =[21]entradas!$H66 -> 10526 | X44: =[22]entradas!$H66 -> 10370 | Y44: =[23]entradas!$H66 -> 10416 | Z44: =[24]entradas!$H66 -> 10775 | AA44: =[25]entradas!$H66 -> 9701 | AB44: =[26]entradas!$H66 -> 3994 | AC44: =[27]entradas!$H66 -> 834 | AD44: =[28]entradas!$H66 -> 10443 | AE44: =[29]entradas!$H66 -> 10873 | AF44: =[30]entradas!$H66 -> 10826 | AG44: =[31]entradas!$H66 -> 10594 | AH44: =[32]entradas!$H66 -> 10025 | AI44: =[33]entradas!$H66 -> 4159 | AJ44: =[34]entradas!$H66 -> 962
B45: FLORES N | C45: =[1]entradas!$H67 -> 8230 | D45: =[2]entradas!$H67 -> 7923 | E45: =[3]entradas!$H67 -> 8225 | F45: =[4]entradas!$H67 -> 7534 | G45: =[5]entradas!$H67 -> 2923 | H45: =[6]entradas!$H67 -> 845 | I45: =[7]entradas!$H67 -> 7490 | J45: =[8]entradas!$H67 -> 7559 | K45: =[9]entradas!$H67 -> 7139 | L45: =[10]entradas!$H67 -> 6936 | M45: =[11]entradas!$H67 -> 6483 | N45: =[12]entradas!$H67 -> 3140 | O45: =[13]entradas!$H67 -> 1095 | P45: =[14]entradas!$H67 -> 7261 | Q45: =[15]entradas!$H67 -> 6844 | R45: =[16]entradas!$H67 -> 6665 | S45: =[17]entradas!$H67 -> 6878 | T45: =[18]entradas!$H67 -> 7062 | U45: =[19]entradas!$H67 -> 3223 | V45: =[20]entradas!$H67 -> 997 | W45: =[21]entradas!$H67 -> 7087 | X45: =[22]entradas!$H67 -> 7026 | Y45: =[23]entradas!$H67 -> 7014 | Z45: =[24]entradas!$H67 -> 6996 | AA45: =[25]entradas!$H67 -> 6404 | AB45: =[26]entradas!$H67 -> 3095 | AC45: =[27]entradas!$H67 -> 929 | AD45: =[28]entradas!$H67 -> 7030 | AE45: =[29]entradas!$H67 -> 7438 | AF45: =[30]entradas!$H67 -> 7337 | AG45: =[31]entradas!$H67 -> 6944 | AH45: =[32]entradas!$H67 -> 6495 | AI45: =[33]entradas!$H67 -> 3176 | AJ45: =[34]entradas!$H67 -> 988
B46: FLORES S | C46: =[1]entradas!$H68 -> 16356 | D46: =[2]entradas!$H68 -> 16879 | E46: =[3]entradas!$H68 -> 16667 | F46: =[4]entradas!$H68 -> 16315 | G46: =[5]entradas!$H68 -> 9531 | H46: =[6]entradas!$H68 -> 3594 | I46: =[7]entradas!$H68 -> 16130 | J46: =[8]entradas!$H68 -> 15961 | K46: =[9]entradas!$H68 -> 15651 | L46: =[10]entradas!$H68 -> 15720 | M46: =[11]entradas!$H68 -> 15993 | N46: =[12]entradas!$H68 -> 9485 | O46: =[13]entradas!$H68 -> 3447 | P46: =[14]entradas!$H68 -> 15932 | Q46: =[15]entradas!$H68 -> 15639 | R46: =[16]entradas!$H68 -> 15713 | S46: =[17]entradas!$H68 -> 15653 | T46: =[18]entradas!$H68 -> 15390 | U46: =[19]entradas!$H68 -> 9549 | V46: =[20]entradas!$H68 -> 3583 | W46: =[21]entradas!$H68 -> 16064 | X46: =[22]entradas!$H68 -> 16232 | Y46: =[23]entradas!$H68 -> 16187 | Z46: =[24]entradas!$H68 -> 15842 | AA46: =[25]entradas!$H68 -> 15705 | AB46: =[26]entradas!$H68 -> 9661 | AC46: =[27]entradas!$H68 -> 3597 | AD46: =[28]entradas!$H68 -> 16287 | AE46: =[29]entradas!$H68 -> 16148 | AF46: =[30]entradas!$H68 -> 15987 | AG46: =[31]entradas!$H68 -> 16421 | AH46: =[32]entradas!$H68 -> 16007 | AI46: =[33]entradas!$H68 -> 9828 | AJ46: =[34]entradas!$H68 -> 3630
B47: CALLE 63 N | C47: =[1]entradas!$H69 -> 22719 | D47: =[2]entradas!$H69 -> 22929 | E47: =[3]entradas!$H69 -> 23283 | F47: =[4]entradas!$H69 -> 23418 | G47: =[5]entradas!$H69 -> 17257 | H47: =[6]entradas!$H69 -> 6236 | I47: =[7]entradas!$H69 -> 25273 | J47: =[8]entradas!$H69 -> 25218 | K47: =[9]entradas!$H69 -> 24539 | L47: =[10]entradas!$H69 -> 25266 | M47: =[11]entradas!$H69 -> 24343 | N47: =[12]entradas!$H69 -> 18597 | O47: =[13]entradas!$H69 -> 6402 | P47: =[14]entradas!$H69 -> 26155 | Q47: =[15]entradas!$H69 -> 25144 | R47: =[16]entradas!$H69 -> 25533 | S47: =[17]entradas!$H69 -> 26056 | T47: =[18]entradas!$H69 -> 25960 | U47: =[19]entradas!$H69 -> 19448 | V47: =[20]entradas!$H69 -> 6619 | W47: =[21]entradas!$H69 -> 26300 | X47: =[22]entradas!$H69 -> 26451 | Y47: =[23]entradas!$H69 -> 26791 | Z47: =[24]entradas!$H69 -> 25744 | AA47: =[25]entradas!$H69 -> 26892 | AB47: =[26]entradas!$H69 -> 19471 | AC47: =[27]entradas!$H69 -> 6605 | AD47: =[28]entradas!$H69 -> 26675 | AE47: =[29]entradas!$H69 -> 26892 | AF47: =[30]entradas!$H69 -> 27390 | AG47: =[31]entradas!$H69 -> 27087 | AH47: =[32]entradas!$H69 -> 27838 | AI47: =[33]entradas!$H69 -> 20026 | AJ47: =[34]entradas!$H69 -> 6688
B48: CALLE 63 S | C48: =[1]entradas!$H70 -> 11167 | D48: =[2]entradas!$H70 -> 11410 | E48: =[3]entradas!$H70 -> 11500 | F48: =[4]entradas!$H70 -> 11339 | G48: =[5]entradas!$H70 -> 7131 | H48: =[6]entradas!$H70 -> 2035 | I48: =[7]entradas!$H70 -> 12904 | J48: =[8]entradas!$H70 -> 12957 | K48: =[9]entradas!$H70 -> 12823 | L48: =[10]entradas!$H70 -> 12928 | M48: =[11]entradas!$H70 -> 13104 | N48: =[12]entradas!$H70 -> 7647 | O48: =[13]entradas!$H70 -> 1992 | P48: =[14]entradas!$H70 -> 12906 | Q48: =[15]entradas!$H70 -> 12768 | R48: =[16]entradas!$H70 -> 13314 | S48: =[17]entradas!$H70 -> 12855 | T48: =[18]entradas!$H70 -> 13645 | U48: =[19]entradas!$H70 -> 8024 | V48: =[20]entradas!$H70 -> 2034 | W48: =[21]entradas!$H70 -> 13945 | X48: =[22]entradas!$H70 -> 13674 | Y48: =[23]entradas!$H70 -> 13536 | Z48: =[24]entradas!$H70 -> 13531 | AA48: =[25]entradas!$H70 -> 13070 | AB48: =[26]entradas!$H70 -> 8049 | AC48: =[27]entradas!$H70 -> 2063 | AD48: =[28]entradas!$H70 -> 13723 | AE48: =[29]entradas!$H70 -> 14346 | AF48: =[30]entradas!$H70 -> 14101 | AG48: =[31]entradas!$H70 -> 13949 | AH48: =[32]entradas!$H70 -> 13537 | AI48: =[33]entradas!$H70 -> 8463 | AJ48: =[34]entradas!$H70 -> 2071
B49: CALLE 57 N | C49: =[1]entradas!$H71 -> 10482 | D49: =[2]entradas!$H71 -> 10465 | E49: =[3]entradas!$H71 -> 10623 | F49: =[4]entradas!$H71 -> 10208 | G49: =[5]entradas!$H71 -> 6119 | H49: =[6]entradas!$H71 -> 2225 | I49: =[7]entradas!$H71 -> 9740 | J49: =[8]entradas!$H71 -> 9694 | K49: =[9]entradas!$H71 -> 9575 | L49: =[10]entradas!$H71 -> 9516 | M49: =[11]entradas!$H71 -> 9562 | N49: =[12]entradas!$H71 -> 6340 | O49: =[13]entradas!$H71 -> 1968 | P49: =[14]entradas!$H71 -> 9233 | Q49: =[15]entradas!$H71 -> 9157 | R49: =[16]entradas!$H71 -> 9343 | S49: =[17]entradas!$H71 -> 9275 | T49: =[18]entradas!$H71 -> 9877 | U49: =[19]entradas!$H71 -> 6599 | V49: =[20]entradas!$H71 -> 2004 | W49: =[21]entradas!$H71 -> 9583 | X49: =[22]entradas!$H71 -> 9502 | Y49: =[23]entradas!$H71 -> 9530 | Z49: =[24]entradas!$H71 -> 9232 | AA49: =[25]entradas!$H71 -> 9400 | AB49: =[26]entradas!$H71 -> 6275 | AC49: =[27]entradas!$H71 -> 2202 | AD49: =[28]entradas!$H71 -> 9848 | AE49: =[29]entradas!$H71 -> 10180 | AF49: =[30]entradas!$H71 -> 10003 | AG49: =[31]entradas!$H71 -> 10076 | AH49: =[32]entradas!$H71 -> 10096 | AI49: =[33]entradas!$H71 -> 6763 | AJ49: =[34]entradas!$H71 -> 2113
B50: CALLE 57 S | C50: =[1]entradas!$H72 -> 7254 | D50: =[2]entradas!$H72 -> 7381 | E50: =[3]entradas!$H72 -> 7171 | F50: =[4]entradas!$H72 -> 7204 | G50: =[5]entradas!$H72 -> 4703 | H50: =[6]entradas!$H72 -> 1587 | I50: =[7]entradas!$H72 -> 7281 | J50: =[8]entradas!$H72 -> 8087 | K50: =[9]entradas!$H72 -> 7249 | L50: =[10]entradas!$H72 -> 7680 | M50: =[11]entradas!$H72 -> 7610 | N50: =[12]entradas!$H72 -> 5000 | O50: =[13]entradas!$H72 -> 1575 | P50: =[14]entradas!$H72 -> 7528 | Q50: =[15]entradas!$H72 -> 7234 | R50: =[16]entradas!$H72 -> 7332 | S50: =[17]entradas!$H72 -> 7409 | T50: =[18]entradas!$H72 -> 7859 | U50: =[19]entradas!$H72 -> 5064 | V50: =[20]entradas!$H72 -> 1665 | W50: =[21]entradas!$H72 -> 7507 | X50: =[22]entradas!$H72 -> 7768 | Y50: =[23]entradas!$H72 -> 7584 | Z50: =[24]entradas!$H72 -> 7510 | AA50: =[25]entradas!$H72 -> 7435 | AB50: =[26]entradas!$H72 -> 5019 | AC50: =[27]entradas!$H72 -> 1755 | AD50: =[28]entradas!$H72 -> 7769 | AE50: =[29]entradas!$H72 -> 8106 | AF50: =[30]entradas!$H72 -> 7851 | AG50: =[31]entradas!$H72 -> 7924 | AH50: =[32]entradas!$H72 -> 7820 | AI50: =[33]entradas!$H72 -> 4995 | AJ50: =[34]entradas!$H72 -> 1586
B51: MARLY N | C51: =[1]entradas!$H73 -> 24333 | D51: =[2]entradas!$H73 -> 22482 | E51: =[3]entradas!$H73 -> 23102 | F51: =[4]entradas!$H73 -> 22771 | G51: =[5]entradas!$H73 -> 12767 | H51: =[6]entradas!$H73 -> 3817 | I51: =[7]entradas!$H73 -> 23311 | J51: =[8]entradas!$H73 -> 24270 | K51: =[9]entradas!$H73 -> 21726 | L51: =[10]entradas!$H73 -> 22354 | M51: =[11]entradas!$H73 -> 22664 | N51: =[12]entradas!$H73 -> 13544 | O51: =[13]entradas!$H73 -> 3621 | P51: =[14]entradas!$H73 -> 22520 | Q51: =[15]entradas!$H73 -> 22233 | R51: =[16]entradas!$H73 -> 21543 | S51: =[17]entradas!$H73 -> 22162 | T51: =[18]entradas!$H73 -> 23215 | U51: =[19]entradas!$H73 -> 13743 | V51: =[20]entradas!$H73 -> 3878 | W51: =[21]entradas!$H73 -> 22832 | X51: =[22]entradas!$H73 -> 24017 | Y51: =[23]entradas!$H73 -> 22511 | Z51: =[24]entradas!$H73 -> 22145 | AA51: =[25]entradas!$H73 -> 23117 | AB51: =[26]entradas!$H73 -> 14193 | AC51: =[27]entradas!$H73 -> 3959 | AD51: =[28]entradas!$H73 -> 23075 | AE51: =[29]entradas!$H73 -> 24597 | AF51: =[30]entradas!$H73 -> 22861 | AG51: =[31]entradas!$H73 -> 23370 | AH51: =[32]entradas!$H73 -> 24008 | AI51: =[33]entradas!$H73 -> 14670 | AJ51: =[34]entradas!$H73 -> 3860
B52: MARLY S | C52: =[1]entradas!$H74 -> 19463 | D52: =[2]entradas!$H74 -> 19641 | E52: =[3]entradas!$H74 -> 18768 | F52: =[4]entradas!$H74 -> 19161 | G52: =[5]entradas!$H74 -> 9626 | H52: =[6]entradas!$H74 -> 2643 | I52: =[7]entradas!$H74 -> 18946 | J52: =[8]entradas!$H74 -> 19387 | K52: =[9]entradas!$H74 -> 19063 | L52: =[10]entradas!$H74 -> 19205 | M52: =[11]entradas!$H74 -> 19200 | N52: =[12]entradas!$H74 -> 9998 | O52: =[13]entradas!$H74 -> 2720 | P52: =[14]entradas!$H74 -> 18550 | Q52: =[15]entradas!$H74 -> 18074 | R52: =[16]entradas!$H74 -> 17745 | S52: =[17]entradas!$H74 -> 17869 | T52: =[18]entradas!$H74 -> 18380 | U52: =[19]entradas!$H74 -> 9561 | V52: =[20]entradas!$H74 -> 2518 | W52: =[21]entradas!$H74 -> 18315 | X52: =[22]entradas!$H74 -> 18684 | Y52: =[23]entradas!$H74 -> 18071 | Z52: =[24]entradas!$H74 -> 18404 | AA52: =[25]entradas!$H74 -> 18220 | AB52: =[26]entradas!$H74 -> 9643 | AC52: =[27]entradas!$H74 -> 2542 | AD52: =[28]entradas!$H74 -> 18239 | AE52: =[29]entradas!$H74 -> 19131 | AF52: =[30]entradas!$H74 -> 18407 | AG52: =[31]entradas!$H74 -> 18596 | AH52: =[32]entradas!$H74 -> 18422 | AI52: =[33]entradas!$H74 -> 10054 | AJ52: =[34]entradas!$H74 -> 2760
... B107: PORTAL DE USME | C107: =[1]entradas!$H129 -> 43723 | D107: =[2]entradas!$H129 -> 43833 | E107: =[3]entradas!$H129 -> 43236 | F107: =[4]entradas!$H129 -> 44876 | G107: =[5]entradas!$H129 -> 34576 | H107: =[6]entradas!$H129 -> 15475 | I107: =[7]entradas!$H129 -> 45190 | J107: =[8]entradas!$H129 -> 45076 | K107: =[9]entradas!$H129 -> 44740 | L107: =[10]entradas!$H129 -> 44721 | M107: =[11]entradas!$H129 -> 45364 | N107: =[12]entradas!$H129 -> 34886 | O107: =[13]entradas!$H129 -> 15291 | P107: =[14]entradas!$H129 -> 45940 | Q107: =[15]entradas!$H129 -> 46022 | R107: =[16]entradas!$H129 -> 46029 | S107: =[17]entradas!$H129 -> 46450 | T107: =[18]entradas!$H129 -> 47110 | U107: =[19]entradas!$H129 -> 35578 | V107: =[20]entradas!$H129 -> 15588 | W107: =[21]entradas!$H129 -> 46433 | X107: =[22]entradas!$H129 -> 46740 | Y107: =[23]entradas!$H129 -> 45925 | Z107: =[24]entradas!$H129 -> 45930 | AA107: =[25]entradas!$H129 -> 46873 | AB107: =[26]entradas!$H129 -> 35607 | AC107: =[27]entradas!$H129 -> 14909 | AD107: =[28]entradas!$H129 -> 47026 | AE107: =[29]entradas!$H129 -> 47856 | AF107: =[30]entradas!$H129 -> 48233 | AG107: =[31]entradas!$H129 -> 47698 | AH107: =[32]entradas!$H129 -> 48956 | AI107: =[33]entradas!$H129 -> 36888 | AJ107: =[34]entradas!$H129 -> 15631
B108: BIBLIOTECA NORTE | C108: =[1]entradas!$H138 -> 218 | D108: =[2]entradas!$H138 -> 264 | E108: =[3]entradas!$H138 -> 270 | F108: =[4]entradas!$H138 -> 267 | G108: =[5]entradas!$H138 -> 159 | H108: =[6]entradas!$H138 -> 137 | I108: =[7]entradas!$H138 -> 274 | J108: =[8]entradas!$H138 -> 262 | K108: =[9]entradas!$H138 -> 244 | L108: =[10]entradas!$H138 -> 230 | M108: =[11]entradas!$H138 -> 249 | N108: =[12]entradas!$H138 -> 171 | O108: =[13]entradas!$H138 -> 125 | P108: =[14]entradas!$H138 -> 213 | Q108: =[15]entradas!$H138 -> 267 | R108: =[16]entradas!$H138 -> 249 | S108: =[17]entradas!$H138 -> 252 | T108: =[18]entradas!$H138 -> 272 | U108: =[19]entradas!$H138 -> 183 | V108: =[20]entradas!$H138 -> 141 | W108: =[21]entradas!$H138 -> 244 | X108: =[22]entradas!$H138 -> 235 | Y108: =[23]entradas!$H138 -> 252 | Z108: =[24]entradas!$H138 -> 229 | AA108: =[25]entradas!$H138 -> 237 | AB108: =[26]entradas!$H138 -> 151 | AC108: =[27]entradas!$H138 -> 124 | AD108: =[28]entradas!$H138 -> 255 | AE108: =[29]entradas!$H138 -> 227 | AF108: =[30]entradas!$H138 -> 250 | AG108: =[31]entradas!$H138 -> 261 | AH108: =[32]entradas!$H138 -> 250 | AI108: =[33]entradas!$H138 -> 201 | AJ108: =[34]entradas!$H138 -> 107
B109: BIBLIOTECA SUR | C109: =[1]entradas!$H139 -> 1944 | D109: =[2]entradas!$H139 -> 1966 | E109: =[3]entradas!$H139 -> 1951 | F109: =[4]entradas!$H139 -> 2062 | G109: =[5]entradas!$H139 -> 1479 | H109: =[6]entradas!$H139 -> 698 | I109: =[7]entradas!$H139 -> 1994 | J109: =[8]entradas!$H139 -> 1983 | K109: =[9]entradas!$H139 -> 2059 | L109: =[10]entradas!$H139 -> 1970 | M109: =[11]entradas!$H139 -> 2029 | N109: =[12]entradas!$H139 -> 1406 | O109: =[13]entradas!$H139 -> 654 | P109: =[14]entradas!$H139 -> 2172 | Q109: =[15]entradas!$H139 -> 1942 | R109: =[16]entradas!$H139 -> 2006 | S109: =[17]entradas!$H139 -> 1944 | T109: =[18]entradas!$H139 -> 2001 | U109: =[19]entradas!$H139 -> 1479 | V109: =[20]entradas!$H139 -> 726 | W109: =[21]entradas!$H139 -> 2046 | X109: =[22]entradas!$H139 -> 2131 | Y109: =[23]entradas!$H139 -> 2044 | Z109: =[24]entradas!$H139 -> 2020 | AA109: =[25]entradas!$H139 -> 2034 | AB109: =[26]entradas!$H139 -> 1416 | AC109: =[27]entradas!$H139 -> 685 | AD109: =[28]entradas!$H139 -> 2154 | AE109: =[29]entradas!$H139 -> 2071 | AF109: =[30]entradas!$H139 -> 2173 | AG109: =[31]entradas!$H139 -> 2125 | AH109: =[32]entradas!$H139 -> 2121 | AI109: =[33]entradas!$H139 -> 1502 | AJ109: =[34]entradas!$H139 -> 666
B110: PARQUE NORTE | C110: =[1]entradas!$H140 -> 236 | D110: =[2]entradas!$H140 -> 204 | E110: =[3]entradas!$H140 -> 229 | F110: =[4]entradas!$H140 -> 240 | G110: =[5]entradas!$H140 -> 140 | H110: =[6]entradas!$H140 -> 82 | I110: =[7]entradas!$H140 -> 216 | J110: =[8]entradas!$H140 -> 246 | K110: =[9]entradas!$H140 -> 234 | L110: =[10]entradas!$H140 -> 226 | M110: =[11]entradas!$H140 -> 257 | N110: =[12]entradas!$H140 -> 139 | O110: =[13]entradas!$H140 -> 75 | P110: =[14]entradas!$H140 -> 248 | Q110: =[15]entradas!$H140 -> 255 | R110: =[16]entradas!$H140 -> 275 | S110: =[17]entradas!$H140 -> 248 | T110: =[18]entradas!$H140 -> 269 | U110: =[19]entradas!$H140 -> 139 | V110: =[20]entradas!$H140 -> 81 | W110: =[21]entradas!$H140 -> 231 | X110: =[22]entradas!$H140 -> 294 | Y110: =[23]entradas!$H140 -> 250 | Z110: =[24]entradas!$H140 -> 242 | AA110: =[25]entradas!$H140 -> 263 | AB110: =[26]entradas!$H140 -> 146 | AC110: =[27]entradas!$H140 -> 87 | AD110: =[28]entradas!$H140 -> 263 | AE110: =[29]entradas!$H140 -> 249 | AF110: =[30]entradas!$H140 -> 248 | AG110: =[31]entradas!$H140 -> 260 | AH110: =[32]entradas!$H140 -> 257 | AI110: =[33]entradas!$H140 -> 140 | AJ110: =[34]entradas!$H140 -> 71
B111: PARQUE SUR | C111: =[1]entradas!$H141 -> 1758 | D111: =[2]entradas!$H141 -> 1895 | E111: =[3]entradas!$H141 -> 1943 | F111: =[4]entradas!$H141 -> 2177 | G111: =[5]entradas!$H141 -> 1468 | H111: =[6]entradas!$H141 -> 605 | I111: =[7]entradas!$H141 -> 2044 | J111: =[8]entradas!$H141 -> 2008 | K111: =[9]entradas!$H141 -> 1964 | L111: =[10]entradas!$H141 -> 1932 | M111: =[11]entradas!$H141 -> 1877 | N111: =[12]entradas!$H141 -> 1463 | O111: =[13]entradas!$H141 -> 585 | P111: =[14]entradas!$H141 -> 2201 | Q111: =[15]entradas!$H141 -> 1981 | R111: =[16]entradas!$H141 -> 2043 | S111: =[17]entradas!$H141 -> 2009 | T111: =[18]entradas!$H141 -> 2066 | U111: =[19]entradas!$H141 -> 1517 | V111: =[20]entradas!$H141 -> 684 | W111: =[21]entradas!$H141 -> 2002 | X111: =[22]entradas!$H141 -> 2030 | Y111: =[23]entradas!$H141 -> 1975 | Z111: =[24]entradas!$H141 -> 2258 | AA111: =[25]entradas!$H141 -> 2008 | AB111: =[26]entradas!$H141 -> 1520 | AC111: =[27]entradas!$H141 -> 616 | AD111: =[28]entradas!$H141 -> 2042 | AE111: =[29]entradas!$H141 -> 2037 | AF111: =[30]entradas!$H141 -> 2015 | AG111: =[31]entradas!$H141 -> 2028 | AH111: =[32]entradas!$H141 -> 2018 | AI111: =[33]entradas!$H141 -> 1615 | AJ111: =[34]entradas!$H141 -> 609
B112: PORTAL TUNAL | C112: =[1]entradas!$H142 -> 46819 | D112: =[2]entradas!$H142 -> 46926 | E112: =[3]entradas!$H142 -> 45700 | F112: =[4]entradas!$H142 -> 47907 | G112: =[5]entradas!$H142 -> 36455 | H112: =[6]entradas!$H142 -> 17183 | I112: =[7]entradas!$H142 -> 48147 | J112: =[8]entradas!$H142 -> 47398 | K112: =[9]entradas!$H142 -> 48339 | L112: =[10]entradas!$H142 -> 48703 | M112: =[11]entradas!$H142 -> 48999 | N112: =[12]entradas!$H142 -> 36372 | O112: =[13]entradas!$H142 -> 15778 | P112: =[14]entradas!$H142 -> 47734 | Q112: =[15]entradas!$H142 -> 49807 | R112: =[16]entradas!$H142 -> 50804 | S112: =[17]entradas!$H142 -> 50150 | T112: =[18]entradas!$H142 -> 50571 | U112: =[19]entradas!$H142 -> 37709 | V112: =[20]entradas!$H142 -> 16722 | W112: =[21]entradas!$H142 -> 49277 | X112: =[22]entradas!$H142 -> 50029 | Y112: =[23]entradas!$H142 -> 49342 | Z112: =[24]entradas!$H142 -> 47627 | AA112: =[25]entradas!$H142 -> 50333 | AB112: =[26]entradas!$H142 -> 37408 | AC112: =[27]entradas!$H142 -> 16618 | AD112: =[28]entradas!$H142 -> 51010 | AE112: =[29]entradas!$H142 -> 51272 | AF112: =[30]entradas!$H142 -> 50877 | AG112: =[31]entradas!$H142 -> 50293 | AH112: =[32]entradas!$H142 -> 51668 | AI112: =[33]entradas!$H142 -> 38851 | AJ112: =[34]entradas!$H142 -> 16783
A113: FASE 2 | B113: PORTAL AMERICAS | C113: =[35]entradas!$H$11 -> 58718 | D113: =[36]entradas!$H$11 -> 59283 | E113: =[37]entradas!$H$11 -> 57238 | F113: =[38]entradas!$H$11 -> 59300 | G113: =[39]entradas!$H$11 -> 43086 | H113: =[40]entradas!$H$11 -> 17862 | I113: =[41]entradas!$H$11 -> 60132 | J113: =[42]entradas!$H$11 -> 60468 | K113: =[43]entradas!$H$11 -> 60802 | L113: =[44]entradas!$H$11 -> 60179 | M113: =[45]entradas!$H$11 -> 60354 | N113: =[46]entradas!$H$11 -> 43388 | O113: =[47]entradas!$H$11 -> 17185 | P113: =[48]entradas!$H$11 -> 53166 | Q113: =[49]entradas!$H$11 -> 8361 | R113: =[50]entradas!$H$11 -> 33195 | S113: =[51]entradas!$H$11 -> 39624 | T113: =[52]entradas!$H$11 -> 58610 | U113: =[53]entradas!$H$11 -> 42909 | V113: =[54]entradas!$H$11 -> 17255 | W113: =[55]entradas!$H$11 -> 60358 | X113: =[56]entradas!$H$11 -> 60210 | Y113: =[57]entradas!$H$11 -> 59927 | Z113: =[58]entradas!$H$11 -> 59314 | AA113: =[59]entradas!$H$11 -> 61091 | AB113: =[60]entradas!$H$11 -> 43469 | AC113: =[61]entradas!$H$11 -> 16959 | AD113: =[62]entradas!$H$11 -> 60725 | AE113: =[63]entradas!$H$11 -> 61720 | AF113: =[64]entradas!$H$11 -> 62918 | AG113: =[65]entradas!$H$11 -> 62022 | AH113: =[66]entradas!$H$11 -> 63155 | AI113: =[67]entradas!$H$11 -> 45275 | AJ113: =[68]entradas!$H$11 -> 17939
B114: PATIO BONITO NORTE | C114: =+[35]entradas!$H23 -> 4900 | D114: =+[36]entradas!$H23 -> 4975 | E114: =+[37]entradas!$H23 -> 4879 | F114: =+[38]entradas!$H23 -> 4993 | G114: =+[39]entradas!$H23 -> 4155 | H114: =+[40]entradas!$H23 -> 1445 | I114: =+[41]entradas!$H23 -> 5137 | J114: =+[42]entradas!$H23 -> 5121 | K114: =+[43]entradas!$H23 -> 5059 | L114: =+[44]entradas!$H23 -> 4986 | M114: =+[45]entradas!$H23 -> 4949 | N114: =+[46]entradas!$H23 -> 4119 | O114: =+[47]entradas!$H23 -> 1433 | P114: =+[48]entradas!$H23 -> 4181 | Q114: =+[49]entradas!$H23 -> 66 | R114: =+[50]entradas!$H23 -> 2455 | S114: =+[51]entradas!$H23 -> 4079 | T114: =+[52]entradas!$H23 -> 5059 | U114: =+[53]entradas!$H23 -> 3952 | V114: =+[54]entradas!$H23 -> 1476 | W114: =+[55]entradas!$H23 -> 5065 | X114: =+[56]entradas!$H23 -> 4955 | Y114: =+[57]entradas!$H23 -> 5074 | Z114: =+[58]entradas!$H23 -> 4969 | AA114: =+[59]entradas!$H23 -> 5089 | AB114: =+[60]entradas!$H23 -> 4064 | AC114: =+[61]entradas!$H23 -> 1435 | AD114: =+[62]entradas!$H23 -> 5048 | AE114: =+[63]entradas!$H23 -> 5089 | AF114: =+[64]entradas!$H23 -> 5264 | AG114: =+[65]entradas!$H23 -> 5223 | AH114: =+[66]entradas!$H23 -> 5231 | AI114: =+[67]entradas!$H23 -> 4304 | AJ114: =+[68]entradas!$H23 -> 1450
B115: PATIO BONITO SUR | C115: =+[35]entradas!$H24 -> 3452 | D115: =+[36]entradas!$H24 -> 3453 | E115: =+[37]entradas!$H24 -> 3390 | F115: =+[38]entradas!$H24 -> 3511 | G115: =+[39]entradas!$H24 -> 3077 | H115: =+[40]entradas!$H24 -> 1402 | I115: =+[41]entradas!$H24 -> 3494 | J115: =+[42]entradas!$H24 -> 3504 | K115: =+[43]entradas!$H24 -> 3555 | L115: =+[44]entradas!$H24 -> 3477 | M115: =+[45]entradas!$H24 -> 3488 | N115: =+[46]entradas!$H24 -> 2963 | O115: =+[47]entradas!$H24 -> 1321 | P115: =+[48]entradas!$H24 -> 3050 | Q115: =+[49]entradas!$H24 -> 23 | R115: =+[50]entradas!$H24 -> 911 | S115: =+[51]entradas!$H24 -> 1383 | T115: =+[52]entradas!$H24 -> 3215 | U115: =+[53]entradas!$H24 -> 2936 | V115: =+[54]entradas!$H24 -> 1227 | W115: =+[55]entradas!$H24 -> 3322 | X115: =+[56]entradas!$H24 -> 3403 | Y115: =+[57]entradas!$H24 -> 3326 | Z115: =+[58]entradas!$H24 -> 3320 | AA115: =+[59]entradas!$H24 -> 3428 | AB115: =+[60]entradas!$H24 -> 2990 | AC115: =+[61]entradas!$H24 -> 1280 | AD115: =+[62]entradas!$H24 -> 3568 | AE115: =+[63]entradas!$H24 -> 3541 | AF115: =+[64]entradas!$H24 -> 3531 | AG115: =+[65]entradas!$H24 -> 3590 | AH115: =+[66]entradas!$H24 -> 3608 | AI115: =+[67]entradas!$H24 -> 3096 | AJ115: =+[68]entradas!$H24 -> 1196
B116: TINTAL NORTE | C116: =+[35]entradas!$H25 -> 9584 | D116: =+[36]entradas!$H25 -> 9577 | E116: =+[37]entradas!$H25 -> 9339 | F116: =+[38]entradas!$H25 -> 9697 | G116: =+[39]entradas!$H25 -> 6673 | H116: =+[40]entradas!$H25 -> 2794 | I116: =+[41]entradas!$H25 -> 9918 | J116: =+[42]entradas!$H25 -> 9927 | K116: =+[43]entradas!$H25 -> 10336 | L116: =+[44]entradas!$H25 -> 9980 | M116: =+[45]entradas!$H25 -> 9984 | N116: =+[46]entradas!$H25 -> 6610 | O116: =+[47]entradas!$H25 -> 2542 | P116: =+[48]entradas!$H25 -> 8884 | Q116: =+[49]entradas!$H25 -> 0 | R116: =+[50]entradas!$H25 -> 0 | S116: =+[51]entradas!$H25 -> 0 | T116: =+[52]entradas!$H25 -> 9524 | U116: =+[53]entradas!$H25 -> 6700 | V116: =+[54]entradas!$H25 -> 2618 | W116: =+[55]entradas!$H25 -> 10172 | X116: =+[56]entradas!$H25 -> 10046 | Y116: =+[57]entradas!$H25 -> 9981 | Z116: =+[58]entradas!$H25 -> 10104 | AA116: =+[59]entradas!$H25 -> 10018 | AB116: =+[60]entradas!$H25 -> 6606 | AC116: =+[61]entradas!$H25 -> 2737 | AD116: =+[62]entradas!$H25 -> 10295 | AE116: =+[63]entradas!$H25 -> 10578 | AF116: =+[64]entradas!$H25 -> 10752 | AG116: =+[65]entradas!$H25 -> 10511 | AH116: =+[66]entradas!$H25 -> 10785 | AI116: =+[67]entradas!$H25 -> 7214 | AJ116: =+[68]entradas!$H25 -> 2815
B117: TINTAL SUR | C117: =+[35]entradas!$H26 -> 3940 | D117: =+[36]entradas!$H26 -> 3832 | E117: =+[37]entradas!$H26 -> 3817 | F117: =+[38]entradas!$H26 -> 3954 | G117: =+[39]entradas!$H26 -> 2947 | H117: =+[40]entradas!$H26 -> 1265 | I117: =+[41]entradas!$H26 -> 4076 | J117: =+[42]entradas!$H26 -> 4070 | K117: =+[43]entradas!$H26 -> 4176 | L117: =+[44]entradas!$H26 -> 3995 | M117: =+[45]entradas!$H26 -> 4050 | N117: =+[46]entradas!$H26 -> 2947 | O117: =+[47]entradas!$H26 -> 1182 | P117: =+[48]entradas!$H26 -> 3647 | Q117: =+[49]entradas!$H26 -> 0 | R117: =+[50]entradas!$H26 -> 0 | S117: =+[51]entradas!$H26 -> 0 | T117: =+[52]entradas!$H26 -> 3707 | U117: =+[53]entradas!$H26 -> 2902 | V117: =+[54]entradas!$H26 -> 1240 | W117: =+[55]entradas!$H26 -> 3979 | X117: =+[56]entradas!$H26 -> 3981 | Y117: =+[57]entradas!$H26 -> 4009 | Z117: =+[58]entradas!$H26 -> 4154 | AA117: =+[59]entradas!$H26 -> 4160 | AB117: =+[60]entradas!$H26 -> 2961 | AC117: =+[61]entradas!$H26 -> 1229 | AD117: =+[62]entradas!$H26 -> 4263 | AE117: =+[63]entradas!$H26 -> 4296 | AF117: =+[64]entradas!$H26 -> 4319 | AG117: =+[65]entradas!$H26 -> 4294 | AH117: =+[66]entradas!$H26 -> 4369 | AI117: =+[67]entradas!$H26 -> 3071 | AJ117: =+[68]entradas!$H26 -> 1346
B118: ABASTOS | C118: =+[35]entradas!$H27 -> 2688 | D118: =+[36]entradas!$H27 -> 2691 | E118: =+[37]entradas!$H27 -> 2729 | F118: =+[38]entradas!$H27 -> 2680 | G118: =+[39]entradas!$H27 -> 1766 | H118: =+[40]entradas!$H27 -> 695 | I118: =+[41]entradas!$H27 -> 2752 | J118: =+[42]entradas!$H27 -> 2759 | K118: =+[43]entradas!$H27 -> 2856 | L118: =+[44]entradas!$H27 -> 2818 | M118: =+[45]entradas!$H27 -> 2738 | N118: =+[46]entradas!$H27 -> 1756 | O118: =+[47]entradas!$H27 -> 634 | P118: =+[48]entradas!$H27 -> 2584 | Q118: =+[49]entradas!$H27 -> 9922 | R118: =+[50]entradas!$H27 -> 11253 | S118: =+[51]entradas!$H27 -> 11661 | T118: =+[52]entradas!$H27 -> 2907 | U118: =+[53]entradas!$H27 -> 1847 | V118: =+[54]entradas!$H27 -> 665 | W118: =+[55]entradas!$H27 -> 2765 | X118: =+[56]entradas!$H27 -> 2791 | Y118: =+[57]entradas!$H27 -> 2774 | Z118: =+[58]entradas!$H27 -> 2713 | AA118: =+[59]entradas!$H27 -> 2803 | AB118: =+[60]entradas!$H27 -> 1805 | AC118: =+[61]entradas!$H27 -> 681 | AD118: =+[62]entradas!$H27 -> 2874 | AE118: =+[63]entradas!$H27 -> 2941 | AF118: =+[64]entradas!$H27 -> 2775 | AG118: =+[65]entradas!$H27 -> 2911 | AH118: =+[66]entradas!$H27 -> 2842 | AI118: =+[67]entradas!$H27 -> 1955 | AJ118: =+[68]entradas!$H27 -> 653
...

Sheet Salidas
A1: SALIDAS | B1: SALIDAS | C1: Martes | D1: Miércoles | E1: Jueves | F1: Viernes | G1: Sábado | H1: Domingo | I1: Lunes | J1: Martes | K1: Miércoles | L1: Jueves | M1: Viernes | N1: Sábado | O1: Domingo | P1: Lunes | Q1: Martes | R1: Miércoles | S1: Jueves | T1: Viernes | U1: Sábado | V1: Domingo | W1: Lunes | X1: Martes | Y1: Miércoles | Z1: Jueves | AA1: Viernes | AB1: Sábado | AC1: Domingo | AD1: Lunes | AE1: Martes | AF1: Miércoles | AG1: Jueves | AH1: Viernes | AI1: Sábado | AJ1: Domingo
A2: ESTACIÓN | C2: 40575 | D2: 40576 | E2: 40577 | F2: 40578 | G2: 40579 | H2: 40580 | I2: 40581 | J2: 40582 | K2: 40583 | L2: 40584 | M2: 40585 | N2: 40586 | O2: 40587 | P2: 40588 | Q2: 40589 | R2: 40590 | S2: 40591 | T2: 40592 | U2: 40593 | V2: 40594 | W2: 40595 | X2: 40596 | Y2: 40597 | Z2: 40598 | AA2: 40599 | AB2: 40600 | AC2: 40601 | AD2: 40602 | AE2: 40603 | AF2: 40604 | AG2: 40605 | AH2: 40606 | AI2: 40607 | AJ2: 40608
A3: FASE 1 | B3: PORTAL 80 | C3: =[1]Salidas!$D$11 -> 87005 | D3: =[2]Salidas!$D$11 -> 86665 | E3: =[3]Salidas!$D$11 -> 84939 | F3: =[4]Salidas!$D$11 -> 85709 | G3: =[5]Salidas!$D$11 -> 63518 | H3: =[6]Salidas!$D$11 -> 32069 | I3: =[7]Salidas!$D$11 -> 87278 | J3: =[8]Salidas!$D$11 -> 88271 | K3: =[9]Salidas!$D$11 -> 86566 | L3: =[10]Salidas!$D$11 -> 86361 | M3: =[11]Salidas!$D$11 -> 85309 | N3: =[12]Salidas!$D$11 -> 63464 | O3: =[13]Salidas!$D$11 -> 31089 | P3: =[14]Salidas!$D$11 -> 91883 | Q3: =[15]Salidas!$D$11 -> 90312 | R3: =[16]Salidas!$D$11 -> 92424 | S3: =[17]Salidas!$D$11 -> 89447 | T3: =[18]Salidas!$D$11 -> 89182 | U3: =[19]Salidas!$D$11 -> 64769 | V3: =[20]Salidas!$D$11 -> 33250 | W3: =[21]Salidas!$D$11 -> 88839 | X3: =[22]Salidas!$D$11 -> 90250 | Y3: =[23]Salidas!$D$11 -> 88157 | Z3: =[24]Salidas!$D$11 -> 88116 | AA3: =[25]Salidas!$D$11 -> 87770 | AB3: =[26]Salidas!$D$11 -> 66145 | AC3: =[27]Salidas!$D$11 -> 32494 | AD3: =[28]Salidas!$D$11 -> 89361 | AE3: =[29]Salidas!$D$11 -> 89925 | AF3: =[30]Salidas!$D$11 -> 90314 | AG3: =[31]Salidas!$D$11 -> 88431 | AH3: =[32]Salidas!$D$11 -> 88818 | AI3: =[33]Salidas!$D$11 -> 66886 | AJ3: =[34]Salidas!$D$11 -> 32320
B4: QUIRIGUA | C4: =+[1]Salidas!$D20 -> 5696 | D4: =+[2]Salidas!$D20 -> 5568 | E4: =+[3]Salidas!$D20 -> 5318 | F4: =+[4]Salidas!$D20 -> 5569 | G4: =+[5]Salidas!$D20 -> 4260 | H4: =+[6]Salidas!$D20 -> 2560 | I4: =+[7]Salidas!$D20 -> 5455 | J4: =+[8]Salidas!$D20 -> 5502 | K4: =+[9]Salidas!$D20 -> 5395 | L4: =+[10]Salidas!$D20 -> 5417 | M4: =+[11]Salidas!$D20 -> 5183 | N4: =+[12]Salidas!$D20 -> 4295 | O4: =+[13]Salidas!$D20 -> 2356 | P4: =+[14]Salidas!$D20 -> 5543 | Q4: =+[15]Salidas!$D20 -> 5747 | R4: =+[16]Salidas!$D20 -> 5445 | S4: =+[17]Salidas!$D20 -> 5541 | T4: =+[18]Salidas!$D20 -> 5684 | U4: =+[19]Salidas!$D20 -> 4402 | V4: =+[20]Salidas!$D20 -> 2689 | W4: =+[21]Salidas!$D20 -> 5534 | X4: =+[22]Salidas!$D20 -> 5503 | Y4: =+[23]Salidas!$D20 -> 5540 | Z4: =+[24]Salidas!$D20 -> 5379 | AA4: =+[25]Salidas!$D20 -> 5532 | AB4: =+[26]Salidas!$D20 -> 4279 | AC4: =+[27]Salidas!$D20 -> 2599 | AD4: =+[28]Salidas!$D20 -> 5607 | AE4: =+[29]Salidas!$D20 -> 5882 | AF4: =+[30]Salidas!$D20 -> 5651 | AG4: =+[31]Salidas!$D20 -> 5879 | AH4: =+[32]Salidas!$D20 -> 5702 | AI4: =+[33]Salidas!$D20 -> 4513 | AJ4: =+[34]Salidas!$D20 -> 2685
B5: CARRERA 90 | C5: =+[1]Salidas!$D21 -> 5591 | D5: =+[2]Salidas!$D21 -> 5513 | E5: =+[3]Salidas!$D21 -> 5632 | F5: =+[4]Salidas!$D21 -> 5426 | G5: =+[5]Salidas!$D21 -> 3617 | H5: =+[6]Salidas!$D21 -> 1334 | I5: =+[7]Salidas!$D21 -> 5418 | J5: =+[8]Salidas!$D21 -> 5548 | K5: =+[9]Salidas!$D21 -> 5419 | L5: =+[10]Salidas!$D21 -> 5542 | M5: =+[11]Salidas!$D21 -> 5302 | N5: =+[12]Salidas!$D21 -> 3854 | O5: =+[13]Salidas!$D21 -> 1336 | P5: =+[14]Salidas!$D21 -> 5663 | Q5: =+[15]Salidas!$D21 -> 5735 | R5: =+[16]Salidas!$D21 -> 5646 | S5: =+[17]Salidas!$D21 -> 5748 | T5: =+[18]Salidas!$D21 -> 5610 | U5: =+[19]Salidas!$D21 -> 3790 | V5: =+[20]Salidas!$D21 -> 1405 | W5: =+[21]Salidas!$D21 -> 5872 | X5: =+[22]Salidas!$D21 -> 5874 | Y5: =+[23]Salidas!$D21 -> 5491 | Z5: =+[24]Salidas!$D21 -> 5603 | AA5: =+[25]Salidas!$D21 -> 5298 | AB5: =+[26]Salidas!$D21 -> 3746 | AC5: =+[27]Salidas!$D21 -> 1395 | AD5: =+[28]Salidas!$D21 -> 5721 | AE5: =+[29]Salidas!$D21 -> 5847 | AF5: =+[30]Salidas!$D21 -> 5811 | AG5: =+[31]Salidas!$D21 -> 5730 | AH5: =+[32]Salidas!$D21 -> 5648 | AI5: =+[33]Salidas!$D21 -> 3877 | AJ5: =+[34]Salidas!$D21 -> 1373
B6: AV. CIUD. DE CALI TAQ | C6: =+[1]Salidas!$D22 -> 8671 | D6: =+[2]Salidas!$D22 -> 8869 | E6: =+[3]Salidas!$D22 -> 8479 | F6: =+[4]Salidas!$D22 -> 8618 | G6: =+[5]Salidas!$D22 -> 6418 | H6: =+[6]Salidas!$D22 -> 3239 | I6: =+[7]Salidas!$D22 -> 8604 | J6: =+[8]Salidas!$D22 -> 8993 | K6: =+[9]Salidas!$D22 -> 8829 | L6: =+[10]Salidas!$D22 -> 8919 | M6: =+[11]Salidas!$D22 -> 8651 | N6: =+[12]Salidas!$D22 -> 6829 | O6: =+[13]Salidas!$D22 -> 3065 | P6: =+[14]Salidas!$D22 -> 8902 | Q6: =+[15]Salidas!$D22 -> 9067 | R6: =+[16]Salidas!$D22 -> 9293 | S6: =+[17]Salidas!$D22 -> 9121 | T6: =+[18]Salidas!$D22 -> 8906 | U6: =+[19]Salidas!$D22 -> 6806 | V6: =+[20]Salidas!$D22 -> 3218 | W6: =+[21]Salidas!$D22 -> 9008 | X6: =+[22]Salidas!$D22 -> 9039 | Y6: =+[23]Salidas!$D22 -> 9032 | Z6: =+[24]Salidas!$D22 -> 8948 | AA6: =+[25]Salidas!$D22 -> 8853 | AB6: =+[26]Salidas!$D22 -> 6541 | AC6: =+[27]Salidas!$D22 -> 3170 | AD6: =+[28]Salidas!$D22 -> 9012 | AE6: =+[29]Salidas!$D22 -> 9330 | AF6: =+[30]Salidas!$D22 -> 9236 | AG6: =+[31]Salidas!$D22 -> 9313 | AH6: =+[32]Salidas!$D22 -> 9069 | AI6: =+[33]Salidas!$D22 -> 6974 | AJ6: =+[34]Salidas!$D22 -> 3119
B7: AV. CIUD. DE CALI ALI | C7: =+[1]Salidas!$D23 -> 5179 | D7: =+[2]Salidas!$D23 -> 5032 | E7: =+[3]Salidas!$D23 -> 4932 | F7: =+[4]Salidas!$D23 -> 5012 | G7: =+[5]Salidas!$D23 -> 4203 | H7: =+[6]Salidas!$D23 -> 2387 | I7: =+[7]Salidas!$D23 -> 5167 | J7: =+[8]Salidas!$D23 -> 5234 | K7: =+[9]Salidas!$D23 -> 5028 | L7: =+[10]Salidas!$D23 -> 5707 | M7: =+[11]Salidas!$D23 -> 4357 | N7: =+[12]Salidas!$D23 -> 3832 | O7: =+[13]Salidas!$D23 -> 2258 | P7: =+[14]Salidas!$D23 -> 5145 | Q7: =+[15]Salidas!$D23 -> 4752 | R7: =+[16]Salidas!$D23 -> 4580 | S7: =+[17]Salidas!$D23 -> 4865 | T7: =+[18]Salidas!$D23 -> 6244 | U7: =+[19]Salidas!$D23 -> 4078 | V7: =+[20]Salidas!$D23 -> 2163 | W7: =+[21]Salidas!$D23 -> 5020 | X7: =+[22]Salidas!$D23 -> 5424 | Y7: =+[23]Salidas!$D23 -> 5260 | Z7: =+[24]Salidas!$D23 -> 5149 | AA7: =+[25]Salidas!$D23 -> 5482 | AB7: =+[26]Salidas!$D23 -> 3451 | AC7: =+[27]Salidas!$D23 -> 2278 | AD7: =+[28]Salidas!$D23 -> 5851 | AE7: =+[29]Salidas!$D23 -> 5355 | AF7: =+[30]Salidas!$D23 -> 4859 | AG7: =+[31]Salidas!$D23 -> 4945 | AH7: =+[32]Salidas!$D23 -> 4988 | AI7: =+[33]Salidas!$D23 -> 3902 | AJ7: =+[34]Salidas!$D23 -> 2281
B8: LA GRANJA | C8: =+[1]Salidas!$D24 -> 4223 | D8: =+[2]Salidas!$D24 -> 4259 | E8: =+[3]Salidas!$D24 -> 4162 | F8: =+[4]Salidas!$D24 -> 3889 | G8: =+[5]Salidas!$D24 -> 3067 | H8: =+[6]Salidas!$D24 -> 1447 | I8: =+[7]Salidas!$D24 -> 4163 | J8: =+[8]Salidas!$D24 -> 3444 | K8: =+[9]Salidas!$D24 -> 4154 | L8: =+[10]Salidas!$D24 -> 4193 | M8: =+[11]Salidas!$D24 -> 4189 | N8: =+[12]Salidas!$D24 -> 3185 | O8: =+[13]Salidas!$D24 -> 1396 | P8: =+[14]Salidas!$D24 -> 4282 | Q8: =+[15]Salidas!$D24 -> 4169 | R8: =+[16]Salidas!$D24 -> 4321 | S8: =+[17]Salidas!$D24 -> 4271 | T8: =+[18]Salidas!$D24 -> 4232 | U8: =+[19]Salidas!$D24 -> 3022 | V8: =+[20]Salidas!$D24 -> 1484 | W8: =+[21]Salidas!$D24 -> 4154 | X8: =+[22]Salidas!$D24 -> 4190 | Y8: =+[23]Salidas!$D24 -> 4170 | Z8: =+[24]Salidas!$D24 -> 4127 | AA8: =+[25]Salidas!$D24 -> 4149 | AB8: =+[26]Salidas!$D24 -> 3181 | AC8: =+[27]Salidas!$D24 -> 1528 | AD8: =+[28]Salidas!$D24 -> 4340 | AE8: =+[29]Salidas!$D24 -> 4245 | AF8: =+[30]Salidas!$D24 -> 4325 | AG8: =+[31]Salidas!$D24 -> 4329 | AH8: =+[32]Salidas!$D24 -> 4151 | AI8: =+[33]Salidas!$D24 -> 3228 | AJ8: =+[34]Salidas!$D24 -> 1505
B9: CARRERA 77 TAQ | C9: =+[1]Salidas!$D25 -> 15863 | D9: =+[2]Salidas!$D25 -> 16438 | E9: =+[3]Salidas!$D25 -> 16067 | F9: =+[4]Salidas!$D25 -> 16546 | G9: =+[5]Salidas!$D25 -> 12071 | H9: =+[6]Salidas!$D25 -> 5629 | I9: =+[7]Salidas!$D25 -> 16654 | J9: =+[8]Salidas!$D25 -> 16610 | K9: =+[9]Salidas!$D25 -> 16150 | L9: =+[10]Salidas!$D25 -> 16395 | M9: =+[11]Salidas!$D25 -> 16400 | N9: =+[12]Salidas!$D25 -> 12275 | O9: =+[13]Salidas!$D25 -> 5696 | P9: =+[14]Salidas!$D25 -> 17006 | Q9: =+[15]Salidas!$D25 -> 17278 | R9: =+[16]Salidas!$D25 -> 17526 | S9: =+[17]Salidas!$D25 -> 17456 | T9: =+[18]Salidas!$D25 -> 17010 | U9: =+[19]Salidas!$D25 -> 11666 | V9: =+[20]Salidas!$D25 -> 5748 | W9: =+[21]Salidas!$D25 -> 17036 | X9: =+[22]Salidas!$D25 -> 16897 | Y9: =+[23]Salidas!$D25 -> 16946 | Z9: =+[24]Salidas!$D25 -> 16778 | AA9: =+[25]Salidas!$D25 -> 16894 | AB9: =+[26]Salidas!$D25 -> 12300 | AC9: =+[27]Salidas!$D25 -> 5753 | AD9: =+[28]Salidas!$D25 -> 16889 | AE9: =+[29]Salidas!$D25 -> 17602 | AF9: =+[30]Salidas!$D25 -> 17372 | AG9: =+[31]Salidas!$D25 -> 17438 | AH9: =+[32]Salidas!$D25 -> 17248 | AI9: =+[33]Salidas!$D25 -> 12836 | AJ9: =+[34]Salidas!$D25 -> 5851
B10: CARRERA 77 ALIM.NORTE | C10: =+[1]Salidas!$D26 -> 13660 | D10: =+[2]Salidas!$D26 -> 13791 | E10: =+[3]Salidas!$D26 -> 13615 | F10: =+[4]Salidas!$D26 -> 13527 | G10: =+[5]Salidas!$D26 -> 9786 | H10: =+[6]Salidas!$D26 -> 5591 | I10: =+[7]Salidas!$D26 -> 14166 | J10: =+[8]Salidas!$D26 -> 14118 | K10: =+[9]Salidas!$D26 -> 13429 | L10: =+[10]Salidas!$D26 -> 13706 | M10: =+[11]Salidas!$D26 -> 13017 | N10: =+[12]Salidas!$D26 -> 10157 | O10: =+[13]Salidas!$D26 -> 5598 | P10: =+[14]Salidas!$D26 -> 14367 | Q10: =+[15]Salidas!$D26 -> 13868 | R10: =+[16]Salidas!$D26 -> 13491 | S10: =+[17]Salidas!$D26 -> 13185 | T10: =+[18]Salidas!$D26 -> 13560 | U10: =+[19]Salidas!$D26 -> 9812 | V10: =+[20]Salidas!$D26 -> 5971 | W10: =+[21]Salidas!$D26 -> 14078 | X10: =+[22]Salidas!$D26 -> 14256 | Y10: =+[23]Salidas!$D26 -> 13469 | Z10: =+[24]Salidas!$D26 -> 13729 | AA10: =+[25]Salidas!$D26 -> 13293 | AB10: =+[26]Salidas!$D26 -> 9952 | AC10: =+[27]Salidas!$D26 -> 5802 | AD10: =+[28]Salidas!$D26 -> 14026 | AE10: =+[29]Salidas!$D26 -> 13662 | AF10: =+[30]Salidas!$D26 -> 13023 | AG10: =+[31]Salidas!$D26 -> 14099 | AH10: =+[32]Salidas!$D26 -> 13353 | AI10: =+[33]Salidas!$D26 -> 9736 | AJ10: =+[34]Salidas!$D26 -> 5834
B11: CARRERA 77 ALIM.SUR | C11: =+[1]Salidas!$D27 -> 6929 | D11: =+[2]Salidas!$D27 -> 6835 | E11: =+[3]Salidas!$D27 -> 6551 | F11: =+[4]Salidas!$D27 -> 6862 | G11: =+[5]Salidas!$D27 -> 4782 | H11: =+[6]Salidas!$D27 -> 2906 | I11: =+[7]Salidas!$D27 -> 6233 | J11: =+[8]Salidas!$D27 -> 6932 | K11: =+[9]Salidas!$D27 -> 6553 | L11: =+[10]Salidas!$D27 -> 6603 | M11: =+[11]Salidas!$D27 -> 6697 | N11: =+[12]Salidas!$D27 -> 4357 | O11: =+[13]Salidas!$D27 -> 2709 | P11: =+[14]Salidas!$D27 -> 6915 | Q11: =+[15]Salidas!$D27 -> 7385 | R11: =+[16]Salidas!$D27 -> 5739 | S11: =+[17]Salidas!$D27 -> 6861 | T11: =+[18]Salidas!$D27 -> 6771 | U11: =+[19]Salidas!$D27 -> 4718 | V11: =+[20]Salidas!$D27 -> 2830 | W11: =+[21]Salidas!$D27 -> 6805 | X11: =+[22]Salidas!$D27 -> 6861 | Y11: =+[23]Salidas!$D27 -> 6926 | Z11: =+[24]Salidas!$D27 -> 6893 | AA11: =+[25]Salidas!$D27 -> 5770 | AB11: =+[26]Salidas!$D27 -> 4800 | AC11: =+[27]Salidas!$D27 -> 2786 | AD11: =+[28]Salidas!$D27 -> 6686 | AE11: =+[29]Salidas!$D27 -> 7295 | AF11: =+[30]Salidas!$D27 -> 6850 | AG11: =+[31]Salidas!$D27 -> 6989 | AH11: =+[32]Salidas!$D27 -> 6790 | AI11: =+[33]Salidas!$D27 -> 4956 | AJ11: =+[34]Salidas!$D27 -> 2686
B12: MINUTO DE DIOS | C12: =+[1]Salidas!$D28 -> 7841 | D12: =+[2]Salidas!$D28 -> 7529 | E12: =+[3]Salidas!$D28 -> 7835 | F12: =+[4]Salidas!$D28 -> 7974 | G12: =+[5]Salidas!$D28 -> 4571 | H12: =+[6]Salidas!$D28 -> 1542 | I12: =+[7]Salidas!$D28 -> 7863 | J12: =+[8]Salidas!$D28 -> 7776 | K12: =+[9]Salidas!$D28 -> 7832 | L12: =+[10]Salidas!$D28 -> 7986 | M12: =+[11]Salidas!$D28 -> 8059 | N12: =+[12]Salidas!$D28 -> 4565 | O12: =+[13]Salidas!$D28 -> 1335 | P12: =+[14]Salidas!$D28 -> 7910 | Q12: =+[15]Salidas!$D28 -> 8031 | R12: =+[16]Salidas!$D28 -> 7964 | S12: =+[17]Salidas!$D28 -> 7967 | T12: =+[18]Salidas!$D28 -> 8300 | U12: =+[19]Salidas!$D28 -> 5309 | V12: =+[20]Salidas!$D28 -> 1433 | W12: =+[21]Salidas!$D28 -> 7717 | X12: =+[22]Salidas!$D28 -> 7929 | Y12: =+[23]Salidas!$D28 -> 7548 | Z12: =+[24]Salidas!$D28 -> 7747 | AA12: =+[25]Salidas!$D28 -> 8152 | AB12: =+[26]Salidas!$D28 -> 4652 | AC12: =+[27]Salidas!$D28 -> 1533 | AD12: =+[28]Salidas!$D28 -> 7757 | AE12: =+[29]Salidas!$D28 -> 8331 | AF12: =+[30]Salidas!$D28 -> 7776 | AG12: =+[31]Salidas!$D28 -> 8015 | AH12: =+[32]Salidas!$D28 -> 8478 | AI12: =+[33]Salidas!$D28 -> 4966 | AJ12: =+[34]Salidas!$D28 -> 1462
