Workbook

Sheet Entradas
A1: ENTRADAS | C1: Martes | D1: Miércoles | E1: Jueves | F1: Viernes | G1: Sábado | H1: Domingo | I1: Lunes | J1: Martes | K1: Miércoles | L1: Jueves | M1: Viernes | N1: Sábado | O1: Domingo | P1: Lunes | Q1: Martes | R1: Miércoles | S1: Jueves | T1: Viernes | U1: Sábado | V1: Domingo | W1: Lunes | X1: Martes | Y1: Miércoles | Z1: Jueves | AA1: Viernes | AB1: Sábado | AC1: Domingo | AD1: Lunes | AE1: Martes | AF1: Miércoles | AG1: Jueves | AH1: Viernes | AI1: Sábado | AJ1: Domingo
A2: ESTACIÓN | C2: 40575 | D2: 40576 | E2: 40577 | F2: 40578 | G2: 40579 | H2: 40580 | I2: 40581 | J2: 40582 | K2: 40583 | L2: 40584 | M2: 40585 | N2: 40586 | O2: 40587 | P2: 40588 | Q2: 40589 | R2: 40590 | S2: 40591 | T2: 40592 | U2: 40593 | V2: 40594 | W2: 40595 | X2: 40596 | Y2: 40597 | Z2: 40598 | AA2: 40599 | AB2: 40600 | AC2: 40601 | AD2: 40602 | AE2: 40603 | AF2: 40604 | AG2: 40605 | AH2: 40606 | AI2: 40607 | AJ2: 40608
A3: FASE 1 | B3: PORTAL 80 | C3: =[1]entradas!$H$11 -> 79458 | D3: =[2]entradas!$H$11 -> 79318 | E3: =[3]entradas!$H$11 -> 80967 | F3: =[4]entradas!$H$11 -> 81340 | G3: =[5]entradas!$H$11 -> 57434 | H3: =[6]entradas!$H$11 -> 25839 | I3: =[7]entradas!$H$11 -> 80094 | J3: =[8]entradas!$H$11 -> 81614 | K3: =[9]entradas!$H$11 -> 80438 | L3: =[10]entradas!$H$11 -> 80980 | M3: =[11]entradas!$H$11 -> 82260 | N3: =[12]entradas!$H$11 -> 57046 | O3: =[13]entradas!$H$11 -> 25128 | P3: =[14]entradas!$H$11 -> 84823 | Q3: =[15]entradas!$H$11 -> 84223 | R3: =[16]entradas!$H$11 -> 84854 | S3: =[17]entradas!$H$11 -> 84584 | T3: =[18]entradas!$H$11 -> 85208 | U3: =[19]entradas!$H$11 -> 58867 | V3: =[20]entradas!$H$11 -> 26485 | W3: =[21]entradas!$H$11 -> 82135 | X3: =[22]entradas!$H$11 -> 82152 | Y3: =[23]entradas!$H$11 -> 82167 | Z3: =[24]entradas!$H$11 -> 81360 | AA3: =[25]entradas!$H$11 -> 83908 | AB3: =[26]entradas!$H$11 -> 59580 | AC3: =[27]entradas!$H$11 -> 26264 | AD3: =[28]entradas!$H$11 -> 82997 | AE3: =[29]entradas!$H$11 -> 84338 | AF3: =[30]entradas!$H$11 -> 83777 | AG3: =[31]entradas!$H$11 -> 83486 | AH3: =[32]entradas!$H$11 -> 86451 | AI3: =[33]entradas!$H$11 -> 61055 | AJ3: =[34]entradas!$H$11 -> 26768
B4: QUIRIGUA | C4: =[1]entradas!$H20 -> 5244 | D4: =[2]entradas!$H20 -> 5243 | E4: =[3]entradas!$H20 -> 4938 | F4: =[4]entradas!$H20 -> 5347 | G4: =[5]entradas!$H20 -> 4136 | H4: =[6]entradas!$H20 -> 2114 | I4: =[7]entradas!$H20 -> 5077 | J4: =[8]entradas!$H20 -> 5244 | K4: =[9]entradas!$H20 -> 5333 | L4: =[10]entradas!$H20 -> 5176 | M4: =[11]entradas!$H20 -> 5295 | N4: =[12]entradas!$H20 -> 4158 | O4: =[13]entradas!$H20 -> 1915 | P4: =[14]entradas!$H20 -> 5573 | Q4: =[15]entradas!$H20 -> 5574 | R4: =[16]entradas!$H20 -> 5321 | S4: =[17]entradas!$H20 -> 5431 | T4: =[18]entradas!$H20 -> 5619 | U4: =[19]entradas!$H20 -> 4244 | V4: =[20]entradas!$H20 -> 2002 | W4: =[21]entradas!$H20 -> 5274 | X4: =[22]entradas!$H20 -> 5322 | Y4: =[23]entradas!$H20 -> 5435 | Z4: =[24]entradas!$H20 -> 5173 | AA4: =[25]entradas!$H20 -> 5495 | AB4: =[26]entradas!$H20 -> 4182 | AC4: =[27]entradas!$H20 -> 2071 | AD4: =[28]entradas!$H20 -> 5411 | AE4: =[29]entradas!$H20 -> 5685 | AF4: =[30]entradas!$H20 -> 5645 | AG4: =[31]entradas!$H20 -> 5592 | AH4: =[32]entradas!$H20 -> 5589 | AI4: =[33]entradas!$H20 -> 4315 | AJ4: =[34]entradas!$H20 -> 2071
B5: CARRERA 90 | C5: =[1]entradas!$H21 -> 5964 | D5: =[2]entradas!$H21 -> 5794 | E5: =[3]entradas!$H21 -> 5829 | F5: =[4]entradas!$H21 -> 5958 | G5: =[5]entradas!$H21 -> 3957 | H5: =[6]entradas!$H21 -> 1333 | I5: =[7]entradas!$H21 -> 5864 | J5: =[8]entradas!$H21 -> 5842 | K5: =[9]entradas!$H21 -> 5903 | L5: =[10]entradas!$H21 -> 5976 | M5: =[11]entradas!$H21 -> 5962 | N5: =[12]entradas!$H21 -> 4144 | O5: =[13]entradas!$H21 -> 1319 | P5: =[14]entradas!$H21 -> 6029 | Q5: =[15]entradas!$H21 -> 6235 | R5: =[16]entradas!$H21 -> 6125 | S5: =[17]entradas!$H21 -> 6178 | T5: =[18]entradas!$H21 -> 6218 | U5: =[19]entradas!$H21 -> 4238 | V5: =[20]entradas!$H21 -> 1404 | W5: =[21]entradas!$H21 -> 6151 | X5: =[22]entradas!$H21 -> 6182 | Y5: =[23]entradas!$H21 -> 5932 | Z5: =[24]entradas!$H21 -> 5923 | AA5: =[25]entradas!$H21 -> 6070 | AB5: =[26]entradas!$H21 -> 4256 | AC5: =[27]entradas!$H21 -> 1439 | AD5: =[28]entradas!$H21 -> 6234 | AE5: =[29]entradas!$H21 -> 6218 | AF5: =[30]entradas!$H21 -> 6078 | AG5: =[31]entradas!$H21 -> 6258 | AH5: =[32]entradas!$H21 -> 6218 | AI5: =[33]entradas!$H21 -> 4268 | AJ5: =[34]entradas!$H21 -> 1394
B6: AV. CIUD. DE CALI TAQ | C6: =[1]entradas!$H22 -> 9969 | D6: =[2]entradas!$H22 -> 10167 | E6: =[3]entradas!$H22 -> 9882 | F6: =[4]entradas!$H22 -> 10288 | G6: =[5]entradas!$H22 -> 7221 | H6: =[6]entradas!$H22 -> 3179 | I6: =[7]entradas!$H22 -> 10294 | J6: =[8]entradas!$H22 -> 10515 | K6: =[9]entradas!$H22 -> 10678 | L6: =[10]entradas!$H22 -> 10639 | M6: =[11]entradas!$H22 -> 10700 | N6: =[12]entradas!$H22 -> 7273 | O6: =[13]entradas!$H22 -> 2954 | P6: =[14]entradas!$H22 -> 10824 | Q6: =[15]entradas!$H22 -> 10744 | R6: =[16]entradas!$H22 -> 10918 | S6: =[17]entradas!$H22 -> 10714 | T6: =[18]entradas!$H22 -> 10898 | U6: =[19]entradas!$H22 -> 7565 | V6: =[20]entradas!$H22 -> 3064 | W6: =[21]entradas!$H22 -> 10506 | X6: =[22]entradas!$H22 -> 10613 | Y6: =[23]entradas!$H22 -> 10714 | Z6: =[24]entradas!$H22 -> 10528 | AA6: =[25]entradas!$H22 -> 10815 | AB6: =[26]entradas!$H22 -> 7462 | AC6: =[27]entradas!$H22 -> 3007 | AD6: =[28]entradas!$H22 -> 10451 | AE6: =[29]entradas!$H22 -> 11033 | AF6: =[30]entradas!$H22 -> 10811 | AG6: =[31]entradas!$H22 -> 10740 | AH6: =[32]entradas!$H22 -> 11145 | AI6: =[33]entradas!$H22 -> 7850 | AJ6: =[34]entradas!$H22 -> 3022
B7: AV. CIUD. DE CALI ALIM | C7: =[1]entradas!$H23 -> 3205 | D7: =[2]entradas!$H23 -> 3135 | E7: =[3]entradas!$H23 -> 3334 | F7: =[4]entradas!$H23 -> 3371 | G7: =[5]entradas!$H23 -> 2337 | H7: =[6]entradas!$H23 -> 903 | I7: =[7]entradas!$H23 -> 3616 | J7: =[8]entradas!$H23 -> 3705 | K7: =[9]entradas!$H23 -> 3170 | L7: =[10]entradas!$H23 -> 3580 | M7: =[11]entradas!$H23 -> 3514 | N7: =[12]entradas!$H23 -> 2270 | O7: =[13]entradas!$H23 -> 950 | P7: =[14]entradas!$H23 -> 3404 | Q7: =[15]entradas!$H23 -> 3518 | R7: =[16]entradas!$H23 -> 3674 | S7: =[17]entradas!$H23 -> 3352 | T7: =[18]entradas!$H23 -> 3545 | U7: =[19]entradas!$H23 -> 2349 | V7: =[20]entradas!$H23 -> 980 | W7: =[21]entradas!$H23 -> 3027 | X7: =[22]entradas!$H23 -> 3575 | Y7: =[23]entradas!$H23 -> 3687 | Z7: =[24]entradas!$H23 -> 3453 | AA7: =[25]entradas!$H23 -> 3638 | AB7: =[26]entradas!$H23 -> 2357 | AC7: =[27]entradas!$H23 -> 897 | AD7: =[28]entradas!$H23 -> 3312 | AE7: =[29]entradas!$H23 -> 3094 | AF7: =[30]entradas!$H23 -> 3298 | AG7: =[31]entradas!$H23 -> 3320 | AH7: =[32]entradas!$H23 -> 3311 | AI7: =[33]entradas!$H23 -> 2392 | AJ7: =[34]entradas!$H23 -> 952
B8: LA GRANJA | C8: =[1]entradas!$H24 -> 4342 | D8: =[2]entradas!$H24 -> 4295 | E8: =[3]entradas!$H24 -> 4275 | F8: =[4]entradas!$H24 -> 4263 | G8: =[5]entradas!$H24 -> 3052 | H8: =[6]entradas!$H24 -> 1321 | I8: =[7]entradas!$H24 -> 4227 | J8: =[8]entradas!$H24 -> 4287 | K8: =[9]entradas!$H24 -> 4243 | L8: =[10]entradas!$H24 -> 4368 | M8: =[11]entradas!$H24 -> 4256 | N8: =[12]entradas!$H24 -> 3155 | O8: =[13]entradas!$H24 -> 1280 | P8: =[14]entradas!$H24 -> 4392 | Q8: =[15]entradas!$H24 -> 4364 | R8: =[16]entradas!$H24 -> 4528 | S8: =[17]entradas!$H24 -> 4427 | T8: =[18]entradas!$H24 -> 4462 | U8: =[19]entradas!$H24 -> 3218 | V8: =[20]entradas!$H24 -> 1295 | W8: =[21]entradas!$H24 -> 4304 | X8: =[22]entradas!$H24 -> 4372 | Y8: =[23]entradas!$H24 -> 4271 | Z8: =[24]entradas!$H24 -> 4349 | AA8: =[25]entradas!$H24 -> 4404 | AB8: =[26]entradas!$H24 -> 3224 | AC8: =[27]entradas!$H24 -> 1374 | AD8: =[28]entradas!$H24 -> 4404 | AE8: =[29]entradas!$H24 -> 4422 | AF8: =[30]entradas!$H24 -> 4435 | AG8: =[31]entradas!$H24 -> 4449 | AH8: =[32]entradas!$H24 -> 4435 | AI8: =[33]entradas!$H24 -> 3297 | AJ8: =[34]entradas!$H24 -> 1345
B9: CARRERA 77 | C9: =[1]entradas!$H25 -> 13508 | D9: =[2]entradas!$H25 -> 13429 | E9: =[3]entradas!$H25 -> 13377 | F9: =[4]entradas!$H25 -> 14010 | G9: =[5]entradas!$H25 -> 10024 | H9: =[6]entradas!$H25 -> 4836 | I9: =[7]entradas!$H25 -> 13012 | J9: =[8]entradas!$H25 -> 13472 | K9: =[9]entradas!$H25 -> 13126 | L9: =[10]entradas!$H25 -> 12884 | M9: =[11]entradas!$H25 -> 13130 | N9: =[12]entradas!$H25 -> 10015 | O9: =[13]entradas!$H25 -> 4699 | P9: =[14]entradas!$H25 -> 13906 | Q9: =[15]entradas!$H25 -> 13822 | R9: =[16]entradas!$H25 -> 13336 | S9: =[17]entradas!$H25 -> 13639 | T9: =[18]entradas!$H25 -> 13577 | U9: =[19]entradas!$H25 -> 10384 | V9: =[20]entradas!$H25 -> 5139 | W9: =[21]entradas!$H25 -> 13322 | X9: =[22]entradas!$H25 -> 13359 | Y9: =[23]entradas!$H25 -> 13096 | Z9: =[24]entradas!$H25 -> 13354 | AA9: =[25]entradas!$H25 -> 13403 | AB9: =[26]entradas!$H25 -> 10234 | AC9: =[27]entradas!$H25 -> 4929 | AD9: =[28]entradas!$H25 -> 13462 | AE9: =[29]entradas!$H25 -> 13572 | AF9: =[30]entradas!$H25 -> 13577 | AG9: =[31]entradas!$H25 -> 13779 | AH9: =[32]entradas!$H25 -> 13652 | AI9: =[33]entradas!$H25 -> 10745 | AJ9: =[34]entradas!$H25 -> 4954
B10: CARRERA 77 ALIM.NORTE | C10: =[1]entradas!$H26 -> 5044 | D10: =[2]entradas!$H26 -> 5129 | E10: =[3]entradas!$H26 -> 5485 | F10: =[4]entradas!$H26 -> 5657 | G10: =[5]entradas!$H26 -> 3546 | H10: =[6]entradas!$H26 -> 1942 | I10: =[7]entradas!$H26 -> 4443 | J10: =[8]entradas!$H26 -> 4514 | K10: =[9]entradas!$H26 -> 4062 | L10: =[10]entradas!$H26 -> 4605 | M10: =[11]entradas!$H26 -> 4351 | N10: =[12]entradas!$H26 -> 3665 | O10: =[13]entradas!$H26 -> 1868 | P10: =[14]entradas!$H26 -> 4862 | Q10: =[15]entradas!$H26 -> 3949 | R10: =[16]entradas!$H26 -> 4315 | S10: =[17]entradas!$H26 -> 4298 | T10: =[18]entradas!$H26 -> 4621 | U10: =[19]entradas!$H26 -> 3612 | V10: =[20]entradas!$H26 -> 2044 | W10: =[21]entradas!$H26 -> 4519 | X10: =[22]entradas!$H26 -> 4588 | Y10: =[23]entradas!$H26 -> 4342 | Z10: =[24]entradas!$H26 -> 4296 | AA10: =[25]entradas!$H26 -> 3849 | AB10: =[26]entradas!$H26 -> 3711 | AC10: =[27]entradas!$H26 -> 1922 | AD10: =[28]entradas!$H26 -> 4590 | AE10: =[29]entradas!$H26 -> 3833 | AF10: =[30]entradas!$H26 -> 4081 | AG10: =[31]entradas!$H26 -> 4615 | AH10: =[32]entradas!$H26 -> 3888 | AI10: =[33]entradas!$H26 -> 3790 | AJ10: =[34]entradas!$H26 -> 1965
B11: CARRERA 77 ALIM.SUR | C11: =[1]entradas!$H27 -> 2382 | D11: =[2]entradas!$H27 -> 2204 | E11: =[3]entradas!$H27 -> 2317 | F11: =[4]entradas!$H27 -> 2516 | G11: =[5]entradas!$H27 -> 1766 | H11: =[6]entradas!$H27 -> 804 | I11: =[7]entradas!$H27 -> 2197 | J11: =[8]entradas!$H27 -> 2584 | K11: =[9]entradas!$H27 -> 2250 | L11: =[10]entradas!$H27 -> 2190 | M11: =[11]entradas!$H27 -> 1998 | N11: =[12]entradas!$H27 -> 1438 | O11: =[13]entradas!$H27 -> 750 | P11: =[14]entradas!$H27 -> 2210 | Q11: =[15]entradas!$H27 -> 2478 | R11: =[16]entradas!$H27 -> 2164 | S11: =[17]entradas!$H27 -> 2144 | T11: =[18]entradas!$H27 -> 2342 | U11: =[19]entradas!$H27 -> 1515 | V11: =[20]entradas!$H27 -> 897 | W11: =[21]entradas!$H27 -> 2283 | X11: =[22]entradas!$H27 -> 2307 | Y11: =[23]entradas!$H27 -> 2273 | Z11: =[24]entradas!$H27 -> 2221 | AA11: =[25]entradas!$H27 -> 2177 | AB11: =[26]entradas!$H27 -> 1546 | AC11: =[27]entradas!$H27 -> 834 | AD11: =[28]entradas!$H27 -> 2496 | AE11: =[29]entradas!$H27 -> 2539 | AF11: =[30]entradas!$H27 -> 2454 | AG11: =[31]entradas!$H27 -> 2421 | AH11: =[32]entradas!$H27 -> 2414 | AI11: =[33]entradas!$H27 -> 1685 | AJ11: =[34]entradas!$H27 -> 875
B12: MINUTO DE DIOS | C12: =[1]entradas!$H28 -> 7978 | D12: =[2]entradas!$H28 -> 7882 | E12: =[3]entradas!$H28 -> 8135 | F12: =[4]entradas!$H28 -> 8244 | G12: =[5]entradas!$H28 -> 5121 | H12: =[6]entradas!$H28 -> 1749 | I12: =[7]entradas!$H28 -> 8045 | J12: =[8]entradas!$H28 -> 8224 | K12: =[9]entradas!$H28 -> 7886 | L12: =[10]entradas!$H28 -> 8141 | M12: =[11]entradas!$H28 -> 8115 | N12: =[12]entradas!$H28 -> 5109 | O12: =[13]entradas!$H28 -> 1475 | P12: =[14]entradas!$H28 -> 8417 | Q12: =[15]entradas!$H28 -> 8250 | R12: =[16]entradas!$H28 -> 8090 | S12: =[17]entradas!$H28 -> 8152 | T12: =[18]entradas!$H28 -> 8200 | U12: =[19]entradas!$H28 -> 5729 | V12: =[20]entradas!$H28 -> 1556 | W12: =[21]entradas!$H28 -> 7816 | X12: =[22]entradas!$H28 -> 8000 | Y12: =[23]entradas!$H28 -> 7698 | Z12: =[24]entradas!$H28 -> 8030 | AA12: =[25]entradas!$H28 -> 8215 | AB12: =[26]entradas!$H28 -> 5227 | AC12: =[27]entradas!$H28 -> 1566 | AD12: =[28]entradas!$H28 -> 7840 | AE12: =[29]entradas!$H28 -> 8295 | AF12: =[30]entradas!$H28 -> 8056 | AG12: =[31]entradas!$H28 -> 8097 | AH12: =[32]entradas!$H28 -> 8382 | AI12: =[33]entradas!$H28 -> 5320 | AJ12: =[34]entradas!$H28 -> 1666
B13: AV. BOYACA | C13: =[1]entradas!$H29 -> 3448 | D13: =[2]entradas!$H29 -> 3447 | E13: =[3]entradas!$H29 -> 3619 | F13: =[4]entradas!$H29 -> 3529 | G13: =[5]entradas!$H29 -> 2321 | H13: =[6]entradas!$H29 -> 910 | I13: =[7]entradas!$H29 -> 3507 | J13: =[8]entradas!$H29 -> 3527 | K13: =[9]entradas!$H29 -> 3583 | L13: =[10]entradas!$H29 -> 3492 | M13: =[11]entradas!$H29 -> 3549 | N13: =[12]entradas!$H29 -> 2348 | O13: =[13]entradas!$H29 -> 861 | P13: =[14]entradas!$H29 -> 3775 | Q13: =[15]entradas!$H29 -> 3760 | R13: =[16]entradas!$H29 -> 3581 | S13: =[17]entradas!$H29 -> 3625 | T13: =[18]entradas!$H29 -> 3671 | U13: =[19]entradas!$H29 -> 2461 | V13: =[20]entradas!$H29 -> 923 | W13: =[21]entradas!$H29 -> 3527 | X13: =[22]entradas!$H29 -> 3491 | Y13: =[23]entradas!$H29 -> 3559 | Z13: =[24]entradas!$H29 -> 3573 | AA13: =[25]entradas!$H29 -> 3631 | AB13: =[26]entradas!$H29 -> 2492 | AC13: =[27]entradas!$H29 -> 913 | AD13: =[28]entradas!$H29 -> 3529 | AE13: =[29]entradas!$H29 -> 3640 | AF13: =[30]entradas!$H29 -> 3704 | AG13: =[31]entradas!$H29 -> 3704 | AH13: =[32]entradas!$H29 -> 3799 | AI13: =[33]entradas!$H29 -> 2577 | AJ13: =[34]entradas!$H29 -> 838
B14: FERIAS | C14: =[1]entradas!$H30 -> 4564 | D14: =[2]entradas!$H30 -> 4578 | E14: =[3]entradas!$H30 -> 4400 | F14: =[4]entradas!$H30 -> 4620 | G14: =[5]entradas!$H30 -> 3844 | H14: =[6]entradas!$H30 -> 1837 | I14: =[7]entradas!$H30 -> 4332 | J14: =[8]entradas!$H30 -> 4421 | K14: =[9]entradas!$H30 -> 4390 | L14: =[10]entradas!$H30 -> 4342 | M14: =[11]entradas!$H30 -> 4408 | N14: =[12]entradas!$H30 -> 3611 | O14: =[13]entradas!$H30 -> 1608 | P14: =[14]entradas!$H30 -> 4423 | Q14: =[15]entradas!$H30 -> 4507 | R14: =[16]entradas!$H30 -> 4616 | S14: =[17]entradas!$H30 -> 4490 | T14: =[18]entradas!$H30 -> 4670 | U14: =[19]entradas!$H30 -> 3647 | V14: =[20]entradas!$H30 -> 1850 | W14: =[21]entradas!$H30 -> 4361 | X14: =[22]entradas!$H30 -> 4597 | Y14: =[23]entradas!$H30 -> 4557 | Z14: =[24]entradas!$H30 -> 4429 | AA14: =[25]entradas!$H30 -> 4545 | AB14: =[26]entradas!$H30 -> 3761 | AC14: =[27]entradas!$H30 -> 2064 | AD14: =[28]entradas!$H30 -> 4684 | AE14: =[29]entradas!$H30 -> 4735 | AF14: =[30]entradas!$H30 -> 4750 | AG14: =[31]entradas!$H30 -> 4649 | AH14: =[32]entradas!$H30 -> 4886 | AI14: =[33]entradas!$H30 -> 3980 | AJ14: =[34]entradas!$H30 -> 1855
B15: AVENIDA 68 | C15: =[1]entradas!$H31 -> 10628 | D15: =[2]entradas!$H31 -> 10480 | E15: =[3]entradas!$H31 -> 9963 | F15: =[4]entradas!$H31 -> 10408 | G15: =[5]entradas!$H31 -> 7152 | H15: =[6]entradas!$H31 -> 3386 | I15: =[7]entradas!$H31 -> 10269 | J15: =[8]entradas!$H31 -> 10292 | K15: =[9]entradas!$H31 -> 9993 | L15: =[10]entradas!$H31 -> 10040 | M15: =[11]entradas!$H31 -> 10213 | N15: =[12]entradas!$H31 -> 6925 | O15: =[13]entradas!$H31 -> 3309 | P15: =[14]entradas!$H31 -> 10751 | Q15: =[15]entradas!$H31 -> 10205 | R15: =[16]entradas!$H31 -> 10202 | S15: =[17]entradas!$H31 -> 10291 | T15: =[18]entradas!$H31 -> 10660 | U15: =[19]entradas!$H31 -> 7075 | V15: =[20]entradas!$H31 -> 3337 | W15: =[21]entradas!$H31 -> 10171 | X15: =[22]entradas!$H31 -> 10145 | Y15: =[23]entradas!$H31 -> 10088 | Z15: =[24]entradas!$H31 -> 10073 | AA15: =[25]entradas!$H31 -> 10563 | AB15: =[26]entradas!$H31 -> 6941 | AC15: =[27]entradas!$H31 -> 3257 | AD15: =[28]entradas!$H31 -> 10577 | AE15: =[29]entradas!$H31 -> 10842 | AF15: =[30]entradas!$H31 -> 10503 | AG15: =[31]entradas!$H31 -> 10654 | AH15: =[32]entradas!$H31 -> 11014 | AI15: =[33]entradas!$H31 -> 7136 | AJ15: =[34]entradas!$H31 -> 3245
... B40: PORTAL DEL NORTE | C40: =[1]entradas!$H56 -> 100648 | D40: =[2]entradas!$H56 -> 108579 | E40: =[3]entradas!$H56 -> 109791 | F40: =[4]entradas!$H56 -> 112157 | G40: =[5]entradas!$H56 -> 78266 | H40: =[6]entradas!$H56 -> 44495 | I40: =[7]entradas!$H56 -> 109982 | J40: =[8]entradas!$H56 -> 111596 | K40: =[9]entradas!$H56 -> 109788 | L40: =[10]entradas!$H56 -> 111837 | M40: =[11]entradas!$H56 -> 113976 | N40: =[12]entradas!$H56 -> 78315 | O40: =[13]entradas!$H56 -> 42137 | P40: =[14]entradas!$H56 -> 112037 | Q40: =[15]entradas!$H56 -> 109127 | R40: =[16]entradas!$H56 -> 109366 | S40: =[17]entradas!$H56 -> 110103 | T40: =[18]entradas!$H56 -> 114193 | U40: =[19]entradas!$H56 -> 80256 | V40: =[20]entradas!$H56 -> 43986 | W40: =[21]entradas!$H56 -> 112272 | X40: =[22]entradas!$H56 -> 112224 | Y40: =[23]entradas!$H56 -> 111757 | Z40: =[24]entradas!$H56 -> 111088 | AA40: =[25]entradas!$H56 -> 114578 | AB40: =[26]entradas!$H56 -> 80091 | AC40: =[27]entradas!$H56 -> 42610 | AD40: =[28]entradas!$H56 -> 112401 | AE40: =[29]entradas!$H56 -> 113107 | AF40: =[30]entradas!$H56 -> 112024 | AG40: =[31]entradas!$H56 -> 112555 | AH40: =[32]entradas!$H56 -> 117327 | AI40: =[33]entradas!$H56 -> 83967 | AJ40: =[34]entradas!$H56 -> 42554
B41: CALLE 76 N | C41: =[1]entradas!$H63 -> 21257 | D41: =[2]entradas!$H63 -> 20896 | E41: =[3]entradas!$H63 -> 20093 | F41: =[4]entradas!$H63 -> 20259 | G41: =[5]entradas!$H63 -> 11313 | H41: =[6]entradas!$H63 -> 2251 | I41: =[7]entradas!$H63 -> 21325 | J41: =[8]entradas!$H63 -> 21471 | K41: =[9]entradas!$H63 -> 20933 | L41: =[10]entradas!$H63 -> 20972 | M41: =[11]entradas!$H63 -> 20513 | N41: =[12]entradas!$H63 -> 11815 | O41: =[13]entradas!$H63 -> 2386 | P41: =[14]entradas!$H63 -> 20878 | Q41: =[15]entradas!$H63 -> 19627 | R41: =[16]entradas!$H63 -> 20912 | S41: =[17]entradas!$H63 -> 19862 | T41: =[18]entradas!$H63 -> 20603 | U41: =[19]entradas!$H63 -> 11877 | V41: =[20]entradas!$H63 -> 2296 | W41: =[21]entradas!$H63 -> 21425 | X41: =[22]entradas!$H63 -> 21300 | Y41: =[23]entradas!$H63 -> 21445 | Z41: =[24]entradas!$H63 -> 20827 | AA41: =[25]entradas!$H63 -> 20788 | AB41: =[26]entradas!$H63 -> 11979 | AC41: =[27]entradas!$H63 -> 2398 | AD41: =[28]entradas!$H63 -> 21539 | AE41: =[29]entradas!$H63 -> 22540 | AF41: =[30]entradas!$H63 -> 22093 | AG41: =[31]entradas!$H63 -> 21644 | AH41: =[32]entradas!$H63 -> 21200 | AI41: =[33]entradas!$H63 -> 12389 | AJ41: =[34]entradas!$H63 -> 2351
B42: CALLE 76 S | C42: =[1]entradas!$H64 -> 13905 | D42: =[2]entradas!$H64 -> 14527 | E42: =[3]entradas!$H64 -> 14083 | F42: =[4]entradas!$H64 -> 13744 | G42: =[5]entradas!$H64 -> 5331 | H42: =[6]entradas!$H64 -> 952 | I42: =[7]entradas!$H64 -> 13056 | J42: =[8]entradas!$H64 -> 13615 | K42: =[9]entradas!$H64 -> 13199 | L42: =[10]entradas!$H64 -> 13039 | M42: =[11]entradas!$H64 -> 12313 | N42: =[12]entradas!$H64 -> 5094 | O42: =[13]entradas!$H64 -> 830 | P42: =[14]entradas!$H64 -> 12952 | Q42: =[15]entradas!$H64 -> 12909 | R42: =[16]entradas!$H64 -> 12936 | S42: =[17]entradas!$H64 -> 12647 | T42: =[18]entradas!$H64 -> 12881 | U42: =[19]entradas!$H64 -> 5317 | V42: =[20]entradas!$H64 -> 794 | W42: =[21]entradas!$H64 -> 12969 | X42: =[22]entradas!$H64 -> 12849 | Y42: =[23]entradas!$H64 -> 12857 | Z42: =[24]entradas!$H64 -> 13240 | AA42: =[25]entradas!$H64 -> 12048 | AB42: =[26]entradas!$H64 -> 5205 | AC42: =[27]entradas!$H64 -> 859 | AD42: =[28]entradas!$H64 -> 12854 | AE42: =[29]entradas!$H64 -> 13248 | AF42: =[30]entradas!$H64 -> 13100 | AG42: =[31]entradas!$H64 -> 12821 | AH42: =[32]entradas!$H64 -> 12308 | AI42: =[33]entradas!$H64 -> 5305 | AJ42: =[34]entradas!$H64 -> 890
B43: CALLE 72 N | C43: =[1]entradas!$H65 -> 21530 | D43: =[2]entradas!$H65 -> 20997 | E43: =[3]entradas!$H65 -> 20281 | F43: =[4]entradas!$H65 -> 21211 | G43: =[5]entradas!$H65 -> 12042 | H43: =[6]entradas!$H65 -> 4590 | I43: =[7]entradas!$H65 -> 23685 | J43: =[8]entradas!$H65 -> 25503 | K43: =[9]entradas!$H65 -> 24764 | L43: =[10]entradas!$H65 -> 25434 | M43: =[11]entradas!$H65 -> 25001 | N43: =[12]entradas!$H65 -> 13751 | O43: =[13]entradas!$H65 -> 4342 | P43: =[14]entradas!$H65 -> 25406 | Q43: =[15]entradas!$H65 -> 24936 | R43: =[16]entradas!$H65 -> 25042 | S43: =[17]entradas!$H65 -> 23618 | T43: =[18]entradas!$H65 -> 24787 | U43: =[19]entradas!$H65 -> 14053 | V43: =[20]entradas!$H65 -> 4622 | W43: =[21]entradas!$H65 -> 25224 | X43: =[22]entradas!$H65 -> 26363 | Y43: =[23]entradas!$H65 -> 25739 | Z43: =[24]entradas!$H65 -> 24275 | AA43: =[25]entradas!$H65 -> 26225 | AB43: =[26]entradas!$H65 -> 14774 | AC43: =[27]entradas!$H65 -> 4405 | AD43: =[28]entradas!$H65 -> 26153 | AE43: =[29]entradas!$H65 -> 26811 | AF43: =[30]entradas!$H65 -> 26419 | AG43: =[31]entradas!$H65 -> 26423 | AH43: =[32]entradas!$H65 -> 26765 | AI43: =[33]entradas!$H65 -> 14769 | AJ43: =[34]entradas!$H65 -> 4526
B44: CALLE 72 S | C44: =[1]entradas!$H66 -> 6195 | D44: =[2]entradas!$H66 -> 6138 | E44: =[3]entradas!$H66 -> 6033 | F44: =[4]entradas!$H66 -> 5864 | G44: =[5]entradas!$H66 -> 2572 | H44: =[6]entradas!$H66 -> 756 | I44: =[7]entradas!$H66 -> 9069 | J44: =[8]entradas!$H66 -> 9820 | K44: =[9]entradas!$H66 -> 9588 | L44: =[10]entradas!$H66 -> 9643 | M44: =[11]entradas!$H66 -> 9328 | N44: =[12]entradas!$H66 -> 3783 | O44: =[13]entradas!$H66 -> 874 | P44: =[14]entradas!$H66 -> 10101 | Q44: =[15]entradas!$H66 -> 9605 | R44: =[16]entradas!$H66 -> 10092 | S44: =[17]entradas!$H66 -> 10241 | T44: =[18]entradas!$H66 -> 9980 | U44: =[19]entradas!$H66 -> 3908 | V44: =[20]entradas!$H66 -> 874 | W44: =[21]entradas!$H66 -> 10526 | X44: =[22]entradas!$H66 -> 10370 | Y44: =[23]entradas!$H66 -> 10416 | Z44: =[24]entradas!$H66 -> 10775 | AA44: =[25]entradas!$H66 -> 9701 | AB44: =[26]entradas!$H66 -> 3994 | AC44: =[27]entradas!$H66 -> 834 | AD44: =[28]entradas!$H66 -> 10443 | AE44: =[29]entradas!$H66 -> 10873 | AF44: =[30]entradas!$H66 -> 10826 | AG44: =[31]entradas!$H66 -> 10594 | AH44: =[32]entradas!$H66 -> 10025 | AI44: =[33]entradas!$H66 -> 4159 | AJ44: =[34]entradas!$H66 -> 962
B45: FLORES N | C45: =[1]entradas!$H67 -> 8230 | D45: =[2]entradas!$H67 -> 7923 | E45: =[3]entradas!$H67 -> 8225 | F45: =[4]entradas!$H67 -> 7534 | G45: =[5]entradas!$H67 -> 2923 | H45: =[6]entradas!$H67 -> 845 | I45: =[7]entradas!$H67 -> 7490 | J45: =[8]entradas!$H67 -> 7559 | K45: =[9]entradas!$H67 -> 7139 | L45: =[10]entradas!$H67 -> 6936 | M45: =[11]entradas!$H67 -> 6483 | N45: =[12]entradas!$H67 -> 3140 | O45: =[13]entradas!$H67 -> 1095 | P45: =[14]entradas!$H67 -> 7261 | Q45: =[15]entradas!$H67 -> 6844 | R45: =[16]entradas!$H67 -> 6665 | S45: =[17]entradas!$H67 -> 6878 | T45: =[18]entradas!$H67 -> 7062 | U45: =[19]entradas!$H67 -> 3223 | V45: =[20]entradas!$H67 -> 997 | W45: =[21]entradas!$H67 -> 7087 | X45: =[22]entradas!$H67 -> 7026 | Y45: =[23]entradas!$H67 -> 7014 | Z45: =[24]entradas!$H67 -> 6996 | AA45: =[25]entradas!$H67 -> 6404 | AB45: =[26]entradas!$H67 -> 3095 | AC45: =[27]entradas!$H67 -> 929 | AD45: =[28]entradas!$H67 -> 7030 | AE45: =[29]entradas!$H67 -> 7438 | AF45: =[30]entradas!$H67 -> 7337 | AG45: =[31]entradas!$H67 -> 6944 | AH45: =[32]entradas!$H67 -> 6495 | AI45: =[33]entradas!$H67 -> 3176 | AJ45: =[34]entradas!$H67 -> 988
B46: FLORES S | C46: =[1]entradas!$H68 -> 16356 | D46: =[2]entradas!$H68 -> 16879 | E46: =[3]entradas!$H68 -> 16667 | F46: =[4]entradas!$H68 -> 16315 | G46: =[5]entradas!$H68 -> 9531 | H46: =[6]entradas!$H68 -> 3594 | I46: =[7]entradas!$H68 -> 16130 | J46: =[8]entradas!$H68 -> 15961 | K46: =[9]entradas!$H68 -> 15651 | L46: =[10]entradas!$H68 -> 15720 | M46: =[11]entradas!$H68 -> 15993 | N46: =[12]entradas!$H68 -> 9485 | O46: =[13]entradas!$H68 -> 3447 | P46: =[14]entradas!$H68 -> 15932 | Q46: =[15]entradas!$H68 -> 15639 | R46: =[16]entradas!$H68 -> 15713 | S46: =[17]entradas!$H68 -> 15653 | T46: =[18]entradas!$H68 -> 15390 | U46: =[19]entradas!$H68 -> 9549 | V46: =[20]entradas!$H68 -> 3583 | W46: =[21]entradas!$H68 -> 16064 | X46: =[22]entradas!$H68 -> 16232 | Y46: =[23]entradas!$H68 -> 16187 | Z46: =[24]entradas!$H68 -> 15842 | AA46: =[25]entradas!$H68 -> 15705 | AB46: =[26]entradas!$H68 -> 9661 | AC46: =[27]entradas!$H68 -> 3597 | AD46: =[28]entradas!$H68 -> 16287 | AE46: =[29]entradas!$H68 -> 16148 | AF46: =[30]entradas!$H68 -> 15987 | AG46: =[31]entradas!$H68 -> 16421 | AH46: =[32]entradas!$H68 -> 16007 | AI46: =[33]entradas!$H68 -> 9828 | AJ46: =[34]entradas!$H68 -> 3630
B47: CALLE 63 N | C47: =[1]entradas!$H69 -> 22719 | D47: =[2]entradas!$H69 -> 22929 | E47: =[3]entradas!$H69 -> 23283 | F47: =[4]entradas!$H69 -> 23418 | G47: =[5]entradas!$H69 -> 17257 | H47: =[6]entradas!$H69 -> 6236 | I47: =[7]entradas!$H69 -> 25273 | J47: =[8]entradas!$H69 -> 25218 | K47: =[9]entradas!$H69 -> 24539 | L47: =[10]entradas!$H69 -> 25266 | M47: =[11]entradas!$H69 -> 24343 | N47: =[12]entradas!$H69 -> 18597 | O47: =[13]entradas!$H69 -> 6402 | P47: =[14]entradas!$H69 -> 26155 | Q47: =[15]entradas!$H69 -> 25144 | R47: =[16]entradas!$H69 -> 25533 | S47: =[17]entradas!$H69 -> 26056 | T47: =[18]entradas!$H69 -> 25960 | U47: =[19]entradas!$H69 -> 19448 | V47: =[20]entradas!$H69 -> 6619 | W47: =[21]entradas!$H69 -> 26300 | X47: =[22]entradas!$H69 -> 26451 | Y47: =[23]entradas!$H69 -> 26791 | Z47: =[24]entradas!$H69 -> 25744 | AA47: =[25]entradas!$H69 -> 26892 | AB47: =[26]entradas!$H69 -> 19471 | AC47: =[27]entradas!$H69 -> 6605 | AD47: =[28]entradas!$H69 -> 26675 | AE47: =[29]entradas!$H69 -> 26892 | AF47: =[30]entradas!$H69 -> 27390 | AG47: =[31]entradas!$H69 -> 27087 | AH47: =[32]entradas!$H69 -> 27838 | AI47: =[33]entradas!$H69 -> 20026 | AJ47: =[34]entradas!$H69 -> 6688
B48: CALLE 63 S | C48: =[1]entradas!$H70 -> 11167 | D48: =[2]entradas!$H70 -> 11410 | E48: =[3]entradas!$H70 -> 11500 | F48: =[4]entradas!$H70 -> 11339 | G48: =[5]entradas!$H70 -> 7131 | H48: =[6]entradas!$H70 -> 2035 | I48: =[7]entradas!$H70 -> 12904 | J48: =[8]entradas!$H70 -> 12957 | K48: =[9]entradas!$H70 -> 12823 | L48: =[10]entradas!$H70 -> 12928 | M48: =[11]entradas!$H70 -> 13104 | N48: =[12]entradas!$H70 -> 7647 | O48: =[13]entradas!$H70 -> 1992 | P48: =[14]entradas!$H70 -> 12906 | Q48: =[15]entradas!$H70 -> 12768 | R48: =[16]entradas!$H70 -> 13314 | S48: =[17]entradas!$H70 -> 12855 | T48: =[18]entradas!$H70 -> 13645 | U48: =[19]entradas!$H70 -> 8024 | V48: =[20]entradas!$H70 -> 2034 | W48: =[21]entradas!$H70 -> 13945 | X48: =[22]entradas!$H70 -> 13674 | Y48: =[23]entradas!$H70 -> 13536 | Z48: =[24]entradas!$H70 -> 13531 | AA48: =[25]entradas!$H70 -> 13070 | AB48: =[26]entradas!$H70 -> 8049 | AC48: =[27]entradas!$H70 -> 2063 | AD48: =[28]entradas!$H70 -> 13723 | AE48: =[29]entradas!$H70 -> 14346 | AF48: =[30]entradas!$H70 -> 14101 | AG48: =[31]entradas!$H70 -> 13949 | AH48: =[32]entradas!$H70 -> 13537 | AI48: =[33]entradas!$H70 -> 8463 | AJ48: =[34]entradas!$H70 -> 2071
B49: CALLE 57 N | C49: =[1]entradas!$H71 -> 10482 | D49: =[2]entradas!$H71 -> 10465 | E49: =[3]entradas!$H71 -> 10623 | F49: =[4]entradas!$H71 -> 10208 | G49: =[5]entradas!$H71 -> 6119 | H49: =[6]entradas!$H71 -> 2225 | I49: =[7]entradas!$H71 -> 9740 | J49: =[8]entradas!$H71 -> 9694 | K49: =[9]entradas!$H71 -> 9575 | L49: =[10]entradas!$H71 -> 9516 | M49: =[11]entradas!$H71 -> 9562 | N49: =[12]entradas!$H71 -> 6340 | O49: =[13]entradas!$H71 -> 1968 | P49: =[14]entradas!$H71 -> 9233 | Q49: =[15]entradas!$H71 -> 9157 | R49: =[16]entradas!$H71 -> 9343 | S49: =[17]entradas!$H71 -> 9275 | T49: =[18]entradas!$H71 -> 9877 | U49: =[19]entradas!$H71 -> 6599 | V49: =[20]entradas!$H71 -> 2004 | W49: =[21]entradas!$H71 -> 9583 | X49: =[22]entradas!$H71 -> 9502 | Y49: =[23]entradas!$H71 -> 9530 | Z49: =[24]entradas!$H71 -> 9232 | AA49: =[25]entradas!$H71 -> 9400 | AB49: =[26]entradas!$H71 -> 6275 | AC49: =[27]entradas!$H71 -> 2202 | AD49: =[28]entradas!$H71 -> 9848 | AE49: =[29]entradas!$H71 -> 10180 | AF49: =[30]entradas!$H71 -> 10003 | AG49: =[31]entradas!$H71 -> 10076 | AH49: =[32]entradas!$H71 -> 10096 | AI49: =[33]entradas!$H71 -> 6763 | AJ49: =[34]entradas!$H71 -> 2113
B50: CALLE 57 S | C50: =[1]entradas!$H72 -> 7254 | D50: =[2]entradas!$H72 -> 7381 | E50: =[3]entradas!$H72 -> 7171 | F50: =[4]entradas!$H72 -> 7204 | G50: =[5]entradas!$H72 -> 4703 | H50: =[6]entradas!$H72 -> 1587 | I50: =[7]entradas!$H72 -> 7281 | J50: =[8]entradas!$H72 -> 8087 | K50: =[9]entradas!$H72 -> 7249 | L50: =[10]entradas!$H72 -> 7680 | M50: =[11]entradas!$H72 -> 7610 | N50: =[12]entradas!$H72 -> 5000 | O50: =[13]entradas!$H72 -> 1575 | P50: =[14]entradas!$H72 -> 7528 | Q50: =[15]entradas!$H72 -> 7234 | R50: =[16]entradas!$H72 -> 7332 | S50: =[17]entradas!$H72 -> 7409 | T50: =[18]entradas!$H72 -> 7859 | U50: =[19]entradas!$H72 -> 5064 | V50: =[20]entradas!$H72 -> 1665 | W50: =[21]entradas!$H72 -> 7507 | X50: =[22]entradas!$H72 -> 7768 | Y50: =[23]entradas!$H72 -> 7584 | Z50: =[24]entradas!$H72 -> 7510 | AA50: =[25]entradas!$H72 -> 7435 | AB50: =[26]entradas!$H72 -> 5019 | AC50: =[27]entradas!$H72 -> 1755 | AD50: =[28]entradas!$H72 -> 7769 | AE50: =[29]entradas!$H72 -> 8106 | AF50: =[30]entradas!$H72 -> 7851 | AG50: =[31]entradas!$H72 -> 7924 | AH50: =[32]entradas!$H72 -> 7820 | AI50: =[33]entradas!$H72 -> 4995 | AJ50: =[34]entradas!$H72 -> 1586
B51: MARLY N | C51: =[1]entradas!$H73 -> 24333 | D51: =[2]entradas!$H73 -> 22482 | E51: =[3]entradas!$H73 -> 23102 | F51: =[4]entradas!$H73 -> 22771 | G51: =[5]entradas!$H73 -> 12767 | H51: =[6]entradas!$H73 -> 3817 | I51: =[7]entradas!$H73 -> 23311 | J51: =[8]entradas!$H73 -> 24270 | K51: =[9]entradas!$H73 -> 21726 | L51: =[10]entradas!$H73 -> 22354 | M51: =[11]entradas!$H73 -> 22664 | N51: =[12]entradas!$H73 -> 13544 | O51: =[13]entradas!$H73 -> 3621 | P51: =[14]entradas!$H73 -> 22520 | Q51: =[15]entradas!$H73 -> 22233 | R51: =[16]entradas!$H73 -> 21543 | S51: =[17]entradas!$H73 -> 22162 | T51: =[18]entradas!$H73 -> 23215 | U51: =[19]entradas!$H73 -> 13743 | V51: =[20]entradas!$H73 -> 3878 | W51: =[21]entradas!$H73 -> 22832 | X51: =[22]entradas!$H73 -> 24017 | Y51: =[23]entradas!$H73 -> 22511 | Z51: =[24]entradas!$H73 -> 22145 | AA51: =[25]entradas!$H73 -> 23117 | AB51: =[26]entradas!$H73 -> 14193 | AC51: =[27]entradas!$H73 -> 3959 | AD51: =[28]entradas!$H73 -> 23075 | AE51: =[29]entradas!$H73 -> 24597 | AF51: =[30]entradas!$H73 -> 22861 | AG51: =[31]entradas!$H73 -> 23370 | AH51: =[32]entradas!$H73 -> 24008 | AI51: =[33]entradas!$H73 -> 14670 | AJ51: =[34]entradas!$H73 -> 3860
B52: MARLY S | C52: =[1]entradas!$H74 -> 19463 | D52: =[2]entradas!$H74 -> 19641 | E52: =[3]entradas!$H74 -> 18768 | F52: =[4]entradas!$H74 -> 19161 | G52: =[5]entradas!$H74 -> 9626 | H52: =[6]entradas!$H74 -> 2643 | I52: =[7]entradas!$H74 -> 18946 | J52: =[8]entradas!$H74 -> 19387 | K52: =[9]entradas!$H74 -> 19063 | L52: =[10]entradas!$H74 -> 19205 | M52: =[11]entradas!$H74 -> 19200 | N52: =[12]entradas!$H74 -> 9998 | O52: =[13]entradas!$H74 -> 2720 | P52: =[14]entradas!$H74 -> 18550 | Q52: =[15]entradas!$H74 -> 18074 | R52: =[16]entradas!$H74 -> 17745 | S52: =[17]entradas!$H74 -> 17869 | T52: =[18]entradas!$H74 -> 18380 | U52: =[19]entradas!$H74 -> 9561 | V52: =[20]entradas!$H74 -> 2518 | W52: =[21]entradas!$H74 -> 18315 | X52: =[22]entradas!$H74 -> 18684 | Y52: =[23]entradas!$H74 -> 18071 | Z52: =[24]entradas!$H74 -> 18404 | AA52: =[25]entradas!$H74 -> 18220 | AB52: =[26]entradas!$H74 -> 9643 | AC52: =[27]entradas!$H74 -> 2542 | AD52: =[28]entradas!$H74 -> 18239 | AE52: =[29]entradas!$H74 -> 19131 | AF52: =[30]entradas!$H74 -> 18407 | AG52: =[31]entradas!$H74 -> 18596 | AH52: =[32]entradas!$H74 -> 18422 | AI52: =[33]entradas!$H74 -> 10054 | AJ52: =[34]entradas!$H74 -> 2760
... B107: PORTAL DE USME | C107: =[1]entradas!$H129 -> 43723 | D107: =[2]entradas!$H129 -> 43833 | E107: =[3]entradas!$H129 -> 43236 | F107: =[4]entradas!$H129 -> 44876 | G107: =[5]entradas!$H129 -> 34576 | H107: =[6]entradas!$H129 -> 15475 | I107: =[7]entradas!$H129 -> 45190 | J107: =[8]entradas!$H129 -> 45076 | K107: =[9]entradas!$H129 -> 44740 | L107: =[10]entradas!$H129 -> 44721 | M107: =[11]entradas!$H129 -> 45364 | N107: =[12]entradas!$H129 -> 34886 | O107: =[13]entradas!$H129 -> 15291 | P107: =[14]entradas!$H129 -> 45940 | Q107: =[15]entradas!$H129 -> 46022 | R107: =[16]entradas!$H129 -> 46029 | S107: =[17]entradas!$H129 -> 46450 | T107: =[18]entradas!$H129 -> 47110 | U107: =[19]entradas!$H129 -> 35578 | V107: =[20]entradas!$H129 -> 15588 | W107: =[21]entradas!$H129 -> 46433 | X107: =[22]entradas!$H129 -> 46740 | Y107: =[23]entradas!$H129 -> 45925 | Z107: =[24]entradas!$H129 -> 45930 | AA107: =[25]entradas!$H129 -> 46873 | AB107: =[26]entradas!$H129 -> 35607 | AC107: =[27]entradas!$H129 -> 14909 | AD107: =[28]entradas!$H129 -> 47026 | AE107: =[29]entradas!$H129 -> 47856 | AF107: =[30]entradas!$H129 -> 48233 | AG107: =[31]entradas!$H129 -> 47698 | AH107: =[32]entradas!$H129 -> 48956 | AI107: =[33]entradas!$H129 -> 36888 | AJ107: =[34]entradas!$H129 -> 15631
B108: BIBLIOTECA NORTE | C108: =[1]entradas!$H138 -> 218 | D108: =[2]entradas!$H138 -> 264 | E108: =[3]entradas!$H138 -> 270 | F108: =[4]entradas!$H138 -> 267 | G108: =[5]entradas!$H138 -> 159 | H108: =[6]entradas!$H138 -> 137 | I108: =[7]entradas!$H138 -> 274 | J108: =[8]entradas!$H138 -> 262 | K108: =[9]entradas!$H138 -> 244 | L108: =[10]entradas!$H138 -> 230 | M108: =[11]entradas!$H138 -> 249 | N108: =[12]entradas!$H138 -> 171 | O108: =[13]entradas!$H138 -> 125 | P108: =[14]entradas!$H138 -> 213 | Q108: =[15]entradas!$H138 -> 267 | R108: =[16]entradas!$H138 -> 249 | S108: =[17]entradas!$H138 -> 252 | T108: =[18]entradas!$H138 -> 272 | U108: =[19]entradas!$H138 -> 183 | V108: =[20]entradas!$H138 -> 141 | W108: =[21]entradas!$H138 -> 244 | X108: =[22]entradas!$H138 -> 235 | Y108: =[23]entradas!$H138 -> 252 | Z108: =[24]entradas!$H138 -> 229 | AA108: =[25]entradas!$H138 -> 237 | AB108: =[26]entradas!$H138 -> 151 | AC108: =[27]entradas!$H138 -> 124 | AD108: =[28]entradas!$H138 -> 255 | AE108: =[29]entradas!$H138 -> 227 | AF108: =[30]entradas!$H138 -> 250 | AG108: =[31]entradas!$H138 -> 261 | AH108: =[32]entradas!$H138 -> 250 | AI108: =[33]entradas!$H138 -> 201 | AJ108: =[34]entradas!$H138 -> 107
B109: BIBLIOTECA SUR | C109: =[1]entradas!$H139 -> 1944 | D109: =[2]entradas!$H139 -> 1966 | E109: =[3]entradas!$H139 -> 1951 | F109: =[4]entradas!$H139 -> 2062 | G109: =[5]entradas!$H139 -> 1479 | H109: =[6]entradas!$H139 -> 698 | I109: =[7]entradas!$H139 -> 1994 | J109: =[8]entradas!$H139 -> 1983 | K109: =[9]entradas!$H139 -> 2059 | L109: =[10]entradas!$H139 -> 1970 | M109: =[11]entradas!$H139 -> 2029 | N109: =[12]entradas!$H139 -> 1406 | O109: =[13]entradas!$H139 -> 654 | P109: =[14]entradas!$H139 -> 2172 | Q109: =[15]entradas!$H139 -> 1942 | R109: =[16]entradas!$H139 -> 2006 | S109: =[17]entradas!$H139 -> 1944 | T109: =[18]entradas!$H139 -> 2001 | U109: =[19]entradas!$H139 -> 1479 | V109: =[20]entradas!$H139 -> 726 | W109: =[21]entradas!$H139 -> 2046 | X109: =[22]entradas!$H139 -> 2131 | Y109: =[23]entradas!$H139 -> 2044 | Z109: =[24]entradas!$H139 -> 2020 | AA109: =[25]entradas!$H139 -> 2034 | AB109: =[26]entradas!$H139 -> 1416 | AC109: =[27]entradas!$H139 -> 685 | AD109: =[28]entradas!$H139 -> 2154 | AE109: =[29]entradas!$H139 -> 2071 | AF109: =[30]entradas!$H139 -> 2173 | AG109: =[31]entradas!$H139 -> 2125 | AH109: =[32]entradas!$H139 -> 2121 | AI109: =[33]entradas!$H139 -> 1502 | AJ109: =[34]entradas!$H139 -> 666
B110: PARQUE NORTE | C110: =[1]entradas!$H140 -> 236 | D110: =[2]entradas!$H140 -> 204 | E110: =[3]entradas!$H140 -> 229 | F110: =[4]entradas!$H140 -> 240 | G110: =[5]entradas!$H140 -> 140 | H110: =[6]entradas!$H140 -> 82 | I110: =[7]entradas!$H140 -> 216 | J110: =[8]entradas!$H140 -> 246 | K110: =[9]entradas!$H140 -> 234 | L110: =[10]entradas!$H140 -> 226 | M110: =[11]entradas!$H140 -> 257 | N110: =[12]entradas!$H140 -> 139 | O110: =[13]entradas!$H140 -> 75 | P110: =[14]entradas!$H140 -> 248 | Q110: =[15]entradas!$H140 -> 255 | R110: =[16]entradas!$H140 -> 275 | S110: =[17]entradas!$H140 -> 248 | T110: =[18]entradas!$H140 -> 269 | U110: =[19]entradas!$H140 -> 139 | V110: =[20]entradas!$H140 -> 81 | W110: =[21]entradas!$H140 -> 231 | X110: =[22]entradas!$H140 -> 294 | Y110: =[23]entradas!$H140 -> 250 | Z110: =[24]entradas!$H140 -> 242 | AA110: =[25]entradas!$H140 -> 263 | AB110: =[26]entradas!$H140 -> 146 | AC110: =[27]entradas!$H140 -> 87 | AD110: =[28]entradas!$H140 -> 263 | AE110: =[29]entradas!$H140 -> 249 | AF110: =[30]entradas!$H140 -> 248 | AG110: =[31]entradas!$H140 -> 260 | AH110: =[32]entradas!$H140 -> 257 | AI110: =[33]entradas!$H140 -> 140 | AJ110: =[34]entradas!$H140 -> 71
B111: PARQUE SUR | C111: =[1]entradas!$H141 -> 1758 | D111: =[2]entradas!$H141 -> 1895 | E111: =[3]entradas!$H141 -> 1943 | F111: =[4]entradas!$H141 -> 2177 | G111: =[5]entradas!$H141 -> 1468 | H111: =[6]entradas!$H141 -> 605 | I111: =[7]entradas!$H141 -> 2044 | J111: =[8]entradas!$H141 -> 2008 | K111: =[9]entradas!$H141 -> 1964 | L111: =[10]entradas!$H141 -> 1932 | M111: =[11]entradas!$H141 -> 1877 | N111: =[12]entradas!$H141 -> 1463 | O111: =[13]entradas!$H141 -> 585 | P111: =[14]entradas!$H141 -> 2201 | Q111: =[15]entradas!$H141 -> 1981 | R111: =[16]entradas!$H141 -> 2043 | S111: =[17]entradas!$H141 -> 2009 | T111: =[18]entradas!$H141 -> 2066 | U111: =[19]entradas!$H141 -> 1517 | V111: =[20]entradas!$H141 -> 684 | W111: =[21]entradas!$H141 -> 2002 | X111: =[22]entradas!$H141 -> 2030 | Y111: =[23]entradas!$H141 -> 1975 | Z111: =[24]entradas!$H141 -> 2258 | AA111: =[25]entradas!$H141 -> 2008 | AB111: =[26]entradas!$H141 -> 1520 | AC111: =[27]entradas!$H141 -> 616 | AD111: =[28]entradas!$H141 -> 2042 | AE111: =[29]entradas!$H141 -> 2037 | AF111: =[30]entradas!$H141 -> 2015 | AG111: =[31]entradas!$H141 -> 2028 | AH111: =[32]entradas!$H141 -> 2018 | AI111: =[33]entradas!$H141 -> 1615 | AJ111: =[34]entradas!$H141 -> 609
B112: PORTAL TUNAL | C112: =[1]entradas!$H142 -> 46819 | D112: =[2]entradas!$H142 -> 46926 | E112: =[3]entradas!$H142 -> 45700 | F112: =[4]entradas!$H142 -> 47907 | G112: =[5]entradas!$H142 -> 36455 | H112: =[6]entradas!$H142 -> 17183 | I112: =[7]entradas!$H142 -> 48147 | J112: =[8]entradas!$H142 -> 47398 | K112: =[9]entradas!$H142 -> 48339 | L112: =[10]entradas!$H142 -> 48703 | M112: =[11]entradas!$H142 -> 48999 | N112: =[12]entradas!$H142 -> 36372 | O112: =[13]entradas!$H142 -> 15778 | P112: =[14]entradas!$H142 -> 47734 | Q112: =[15]entradas!$H142 -> 49807 | R112: =[16]entradas!$H142 -> 50804 | S112: =[17]entradas!$H142 -> 50150 | T112: =[18]entradas!$H142 -> 50571 | U112: =[19]entradas!$H142 -> 37709 | V112: =[20]entradas!$H142 -> 16722 | W112: =[21]entradas!$H142 -> 49277 | X112: =[22]entradas!$H142 -> 50029 | Y112: =[23]entradas!$H142 -> 49342 | Z112: =[24]entradas!$H142 -> 47627 | AA112: =[25]entradas!$H142 -> 50333 | AB112: =[26]entradas!$H142 -> 37408 | AC112: =[27]entradas!$H142 -> 16618 | AD112: =[28]entradas!$H142 -> 51010 | AE112: =[29]entradas!$H142 -> 51272 | AF112: =[30]entradas!$H142 -> 50877 | AG112: =[31]entradas!$H142 -> 50293 | AH112: =[32]entradas!$H142 -> 51668 | AI112: =[33]entradas!$H142 -> 38851 | AJ112: =[34]entradas!$H142 -> 16783
A113: FASE 2 | B113: PORTAL AMERICAS | C113: =[35]entradas!$H$11 -> 58718 | D113: =[36]entradas!$H$11 -> 59283 | E113: =[37]entradas!$H$11 -> 57238 | F113: =[38]entradas!$H$11 -> 59300 | G113: =[39]entradas!$H$11 -> 43086 | H113: =[40]entradas!$H$11 -> 17862 | I113: =[41]entradas!$H$11 -> 60132 | J113: =[42]entradas!$H$11 -> 60468 | K113: =[43]entradas!$H$11 -> 60802 | L113: =[44]entradas!$H$11 -> 60179 | M113: =[45]entradas!$H$11 -> 60354 | N113: =[46]entradas!$H$11 -> 43388 | O113: =[47]entradas!$H$11 -> 17185 | P113: =[48]entradas!$H$11 -> 53166 | Q113: =[49]entradas!$H$11 -> 8361 | R113: =[50]entradas!$H$11 -> 33195 | S113: =[51]entradas!$H$11 -> 39624 | T113: =[52]entradas!$H$11 -> 58610 | U113: =[53]entradas!$H$11 -> 42909 | V113: =[54]entradas!$H$11 -> 17255 | W113: =[55]entradas!$H$11 -> 60358 | X113: =[56]entradas!$H$11 -> 60210 | Y113: =[57]entradas!$H$11 -> 59927 | Z113: =[58]entradas!$H$11 -> 59314 | AA113: =[59]entradas!$H$11 -> 61091 | AB113: =[60]entradas!$H$11 -> 43469 | AC113: =[61]entradas!$H$11 -> 16959 | AD113: =[62]entradas!$H$11 -> 60725 | AE113: =[63]entradas!$H$11 -> 61720 | AF113: =[64]entradas!$H$11 -> 62918 | AG113: =[65]entradas!$H$11 -> 62022 | AH113: =[66]entradas!$H$11 -> 63155 | AI113: =[67]entradas!$H$11 -> 45275 | AJ113: =[68]entradas!$H$11 -> 17939
B114: PATIO BONITO NORTE | C114: =+[35]entradas!$H23 -> 4900 | D114: =+[36]entradas!$H23 -> 4975 | E114: =+[37]entradas!$H23 -> 4879 | F114: =+[38]entradas!$H23 -> 4993 | G114: =+[39]entradas!$H23 -> 4155 | H114: =+[40]entradas!$H23 -> 1445 | I114: =+[41]entradas!$H23 -> 5137 | J114: =+[42]entradas!$H23 -> 5121 | K114: =+[43]entradas!$H23 -> 5059 | L114: =+[44]entradas!$H23 -> 4986 | M114: =+[45]entradas!$H23 -> 4949 | N114: =+[46]entradas!$H23 -> 4119 | O114: =+[47]entradas!$H23 -> 1433 | P114: =+[48]entradas!$H23 -> 4181 | Q114: =+[49]entradas!$H23 -> 66 | R114: =+[50]entradas!$H23 -> 2455 | S114: =+[51]entradas!$H23 -> 4079 | T114: =+[52]entradas!$H23 -> 5059 | U114: =+[53]entradas!$H23 -> 3952 | V114: =+[54]entradas!$H23 -> 1476 | W114: =+[55]entradas!$H23 -> 5065 | X114: =+[56]entradas!$H23 -> 4955 | Y114: =+[57]entradas!$H23 -> 5074 | Z114: =+[58]entradas!$H23 -> 4969 | AA114: =+[59]entradas!$H23 -> 5089 | AB114: =+[60]entradas!$H23 -> 4064 | AC114: =+[61]entradas!$H23 -> 1435 | AD114: =+[62]entradas!$H23 -> 5048 | AE114: =+[63]entradas!$H23 -> 5089 | AF114: =+[64]entradas!$H23 -> 5264 | AG114: =+[65]entradas!$H23 -> 5223 | AH114: =+[66]entradas!$H23 -> 5231 | AI114: =+[67]entradas!$H23 -> 4304 | AJ114: =+[68]entradas!$H23 -> 1450
B115: PATIO BONITO SUR | C115: =+[35]entradas!$H24 -> 3452 | D115: =+[36]entradas!$H24 -> 3453 | E115: =+[37]entradas!$H24 -> 3390 | F115: =+[38]entradas!$H24 -> 3511 | G115: =+[39]entradas!$H24 -> 3077 | H115: =+[40]entradas!$H24 -> 1402 | I115: =+[41]entradas!$H24 -> 3494 | J115: =+[42]entradas!$H24 -> 3504 | K115: =+[43]entradas!$H24 -> 3555 | L115: =+[44]entradas!$H24 -> 3477 | M115: =+[45]entradas!$H24 -> 3488 | N115: =+[46]entradas!$H24 -> 2963 | O115: =+[47]entradas!$H24 -> 1321 | P115: =+[48]entradas!$H24 -> 3050 | Q115: =+[49]entradas!$H24 -> 23 | R115: =+[50]entradas!$H24 -> 911 | S115: =+[51]entradas!$H24 -> 1383 | T115: =+[52]entradas!$H24 -> 3215 | U115: =+[53]entradas!$H24 -> 2936 | V115: =+[54]entradas!$H24 -> 1227 | W115: =+[55]entradas!$H24 -> 3322 | X115: =+[56]entradas!$H24 -> 3403 | Y115: =+[57]entradas!$H24 -> 3326 | Z115: =+[58]entradas!$H24 -> 3320 | AA115: =+[59]entradas!$H24 -> 3428 | AB115: =+[60]entradas!$H24 -> 2990 | AC115: =+[61]entradas!$H24 -> 1280 | AD115: =+[62]entradas!$H24 -> 3568 | AE115: =+[63]entradas!$H24 -> 3541 | AF115: =+[64]entradas!$H24 -> 3531 | AG115: =+[65]entradas!$H24 -> 3590 | AH115: =+[66]entradas!$H24 -> 3608 | AI115: =+[67]entradas!$H24 -> 3096 | AJ115: =+[68]entradas!$H24 -> 1196
B116: TINTAL NORTE | C116: =+[35]entradas!$H25 -> 9584 | D116: =+[36]entradas!$H25 -> 9577 | E116: =+[37]entradas!$H25 -> 9339 | F116: =+[38]entradas!$H25 -> 9697 | G116: =+[39]entradas!$H25 -> 6673 | H116: =+[40]entradas!$H25 -> 2794 | I116: =+[41]entradas!$H25 -> 9918 | J116: =+[42]entradas!$H25 -> 9927 | K116: =+[43]entradas!$H25 -> 10336 | L116: =+[44]entradas!$H25 -> 9980 | M116: =+[45]entradas!$H25 -> 9984 | N116: =+[46]entradas!$H25 -> 6610 | O116: =+[47]entradas!$H25 -> 2542 | P116: =+[48]entradas!$H25 -> 8884 | Q116: =+[49]entradas!$H25 -> 0 | R116: =+[50]entradas!$H25 -> 0 | S116: =+[51]entradas!$H25 -> 0 | T116: =+[52]entradas!$H25 -> 9524 | U116: =+[53]entradas!$H25 -> 6700 | V116: =+[54]entradas!$H25 -> 2618 | W116: =+[55]entradas!$H25 -> 10172 | X116: =+[56]entradas!$H25 -> 10046 | Y116: =+[57]entradas!$H25 -> 9981 | Z116: =+[58]entradas!$H25 -> 10104 | AA116: =+[59]entradas!$H25 -> 10018 | AB116: =+[60]entradas!$H25 -> 6606 | AC116: =+[61]entradas!$H25 -> 2737 | AD116: =+[62]entradas!$H25 -> 10295 | AE116: =+[63]entradas!$H25 -> 10578 | AF116: =+[64]entradas!$H25 -> 10752 | AG116: =+[65]entradas!$H25 -> 10511 | AH116: =+[66]entradas!$H25 -> 10785 | AI116: =+[67]entradas!$H25 -> 7214 | AJ116: =+[68]entradas!$H25 -> 2815
B117: TINTAL SUR | C117: =+[35]entradas!$H26 -> 3940 | D117: =+[36]entradas!$H26 -> 3832 | E117: =+[37]entradas!$H26 -> 3817 | F117: =+[38]entradas!$H26 -> 3954 | G117: =+[39]entradas!$H26 -> 2947 | H117: =+[40]entradas!$H26 -> 1265 | I117: =+[41]entradas!$H26 -> 4076 | J117: =+[42]entradas!$H26 -> 4070 | K117: =+[43]entradas!$H26 -> 4176 | L117: =+[44]entradas!$H26 -> 3995 | M117: =+[45]entradas!$H26 -> 4050 | N117: =+[46]entradas!$H26 -> 2947 | O117: =+[47]entradas!$H26 -> 1182 | P117: =+[48]entradas!$H26 -> 3647 | Q117: =+[49]entradas!$H26 -> 0 | R117: =+[50]entradas!$H26 -> 0 | S117: =+[51]entradas!$H26 -> 0 | T117: =+[52]entradas!$H26 -> 3707 | U117: =+[53]entradas!$H26 -> 2902 | V117: =+[54]entradas!$H26 -> 1240 | W117: =+[55]entradas!$H26 -> 3979 | X117: =+[56]entradas!$H26 -> 3981 | Y117: =+[57]entradas!$H26 -> 4009 | Z117: =+[58]entradas!$H26 -> 4154 | AA117: =+[59]entradas!$H26 -> 4160 | AB117: =+[60]entradas!$H26 -> 2961 | AC117: =+[61]entradas!$H26 -> 1229 | AD117: =+[62]entradas!$H26 -> 4263 | AE117: =+[63]entradas!$H26 -> 4296 | AF117: =+[64]entradas!$H26 -> 4319 | AG117: =+[65]entradas!$H26 -> 4294 | AH117: =+[66]entradas!$H26 -> 4369 | AI117: =+[67]entradas!$H26 -> 3071 | AJ117: =+[68]entradas!$H26 -> 1346
B118: ABASTOS | C118: =+[35]entradas!$H27 -> 2688 | D118: =+[36]entradas!$H27 -> 2691 | E118: =+[37]entradas!$H27 -> 2729 | F118: =+[38]entradas!$H27 -> 2680 | G118: =+[39]entradas!$H27 -> 1766 | H118: =+[40]entradas!$H27 -> 695 | I118: =+[41]entradas!$H27 -> 2752 | J118: =+[42]entradas!$H27 -> 2759 | K118: =+[43]entradas!$H27 -> 2856 | L118: =+[44]entradas!$H27 -> 2818 | M118: =+[45]entradas!$H27 -> 2738 | N118: =+[46]entradas!$H27 -> 1756 | O118: =+[47]entradas!$H27 -> 634 | P118: =+[48]entradas!$H27 -> 2584 | Q118: =+[49]entradas!$H27 -> 9922 | R118: =+[50]entradas!$H27 -> 11253 | S118: =+[51]entradas!$H27 -> 11661 | T118: =+[52]entradas!$H27 -> 2907 | U118: =+[53]entradas!$H27 -> 1847 | V118: =+[54]entradas!$H27 -> 665 | W118: =+[55]entradas!$H27 -> 2765 | X118: =+[56]entradas!$H27 -> 2791 | Y118: =+[57]entradas!$H27 -> 2774 | Z118: =+[58]entradas!$H27 -> 2713 | AA118: =+[59]entradas!$H27 -> 2803 | AB118: =+[60]entradas!$H27 -> 1805 | AC118: =+[61]entradas!$H27 -> 681 | AD118: =+[62]entradas!$H27 -> 2874 | AE118: =+[63]entradas!$H27 -> 2941 | AF118: =+[64]entradas!$H27 -> 2775 | AG118: =+[65]entradas!$H27 -> 2911 | AH118: =+[66]entradas!$H27 -> 2842 | AI118: =+[67]entradas!$H27 -> 1955 | AJ118: =+[68]entradas!$H27 -> 653
B119: BANDERAS | C119: =+[35]entradas!$H28 -> 10517 | D119: =+[36]entradas!$H28 -> 10590 | E119: =+[37]entradas!$H28 -> 10251 | F119: =+[38]entradas!$H28 -> 10457 | G119: =+[39]entradas!$H28 -> 6180 | H119: =+[40]entradas!$H28 -> 2271 | I119: =+[41]entradas!$H28 -> 10652 | J119: =+[42]entradas!$H28 -> 11014 | K119: =+[43]entradas!$H28 -> 11867 | L119: =+[44]entradas!$H28 -> 10872 | M119: =+[45]entradas!$H28 -> 10805 | N119: =+[46]entradas!$H28 -> 6243 | O119: =+[47]entradas!$H28 -> 2116 | P119: =+[48]entradas!$H28 -> 12054 | Q119: =+[49]entradas!$H28 -> 21154 | R119: =+[50]entradas!$H28 -> 17608 | S119: =+[51]entradas!$H28 -> 15706 | T119: =+[52]entradas!$H28 -> 11321 | U119: =+[53]entradas!$H28 -> 6348 | V119: =+[54]entradas!$H28 -> 2260 | W119: =+[55]entradas!$H28 -> 10907 | X119: =+[56]entradas!$H28 -> 11145 | Y119: =+[57]entradas!$H28 -> 11198 | Z119: =+[58]entradas!$H28 -> 11257 | AA119: =+[59]entradas!$H28 -> 11343 | AB119: =+[60]entradas!$H28 -> 6302 | AC119: =+[61]entradas!$H28 -> 2321 | AD119: =+[62]entradas!$H28 -> 11133 | AE119: =+[63]entradas!$H28 -> 11357 | AF119: =+[64]entradas!$H28 -> 11591 | AG119: =+[65]entradas!$H28 -> 11366 | AH119: =+[66]entradas!$H28 -> 11650 | AI119: =+[67]entradas!$H28 -> 6851 | AJ119: =+[68]entradas!$H28 -> 2387
B120: BANDERAS ALIMENTADORES | C120: =SUM([35]entradas!$H$29:$H$30) -> 26040 | D120: =SUM([36]entradas!$H$29:$H$30) -> 26306 | E120: =SUM([37]entradas!$H$29:$H$30) -> 25971 | F120: =SUM([38]entradas!$H$29:$H$30) -> 26263 | G120: =SUM([39]entradas!$H$29:$H$30) -> 17819 | H120: =SUM([40]entradas!$H$29:$H$30) -> 7016 | I120: =SUM([41]entradas!$H$29:$H$30) -> 25936 | J120: =SUM([42]entradas!$H$29:$H$30) -> 26574 | K120: =SUM([43]entradas!$H$29:$H$30) -> 25389 | L120: =SUM([44]entradas!$H$29:$H$30) -> 26703 | M120: =SUM([45]entradas!$H$29:$H$30) -> 26579 | N120: =SUM([46]entradas!$H$29:$H$30) -> 18250 | O120: =SUM([47]entradas!$H$29:$H$30) -> 6758 | P120: =SUM([48]entradas!$H$29:$H$30) -> 23218 | Q120: =SUM([49]entradas!$H$29:$H$30) -> 35784 | R120: =SUM([50]entradas!$H$29:$H$30) -> 30084 | S120: =SUM([51]entradas!$H$29:$H$30) -> 30432 | T120: =SUM([52]entradas!$H$29:$H$30) -> 26775 | U120: =SUM([53]entradas!$H$29:$H$30) -> 18607 | V120: =SUM([54]entradas!$H$29:$H$30) -> 6821 | W120: =SUM([55]entradas!$H$29:$H$30) -> 26734 | X120: =SUM([56]entradas!$H$29:$H$30) -> 27068 | Y120: =SUM([57]entradas!$H$29:$H$30) -> 26757 | Z120: =SUM([58]entradas!$H$29:$H$30) -> 26359 | AA120: =SUM([59]entradas!$H$29:$H$30) -> 26766 | AB120: =SUM([60]entradas!$H$29:$H$30) -> 18906 | AC120: =SUM([61]entradas!$H$29:$H$30) -> 6740 | AD120: =SUM([62]entradas!$H$29:$H$30) -> 26373 | AE120: =SUM([63]entradas!$H$29:$H$30) -> 27144 | AF120: =SUM([64]entradas!$H$29:$H$30) -> 27256 | AG120: =SUM([65]entradas!$H$29:$H$30) -> 27392 | AH120: =SUM([66]entradas!$H$29:$H$30) -> 27505 | AI120: =SUM([67]entradas!$H$29:$H$30) -> 19513 | AJ120: =SUM([68]entradas!$H$29:$H$30) -> 7026
B121: MANDALAY | C121: =+[35]entradas!$H31 -> 2647 | D121: =+[36]entradas!$H31 -> 2665 | E121: =+[37]entradas!$H31 -> 2763 | F121: =+[38]entradas!$H31 -> 2623 | G121: =+[39]entradas!$H31 -> 1618 | H121: =+[40]entradas!$H31 -> 520 | I121: =+[41]entradas!$H31 -> 2633 | J121: =+[42]entradas!$H31 -> 2686 | K121: =+[43]entradas!$H31 -> 2695 | L121: =+[44]entradas!$H31 -> 2694 | M121: =+[45]entradas!$H31 -> 2668 | N121: =+[46]entradas!$H31 -> 1632 | O121: =+[47]entradas!$H31 -> 528 | P121: =+[48]entradas!$H31 -> 3037 | Q121: =+[49]entradas!$H31 -> 2638 | R121: =+[50]entradas!$H31 -> 2654 | S121: =+[51]entradas!$H31 -> 2654 | T121: =+[52]entradas!$H31 -> 2810 | U121: =+[53]entradas!$H31 -> 1746 | V121: =+[54]entradas!$H31 -> 539 | W121: =+[55]entradas!$H31 -> 2757 | X121: =+[56]entradas!$H31 -> 2752 | Y121: =+[57]entradas!$H31 -> 2737 | Z121: =+[58]entradas!$H31 -> 2715 | AA121: =+[59]entradas!$H31 -> 2792 | AB121: =+[60]entradas!$H31 -> 1671 | AC121: =+[61]entradas!$H31 -> 492 | AD121: =+[62]entradas!$H31 -> 2780 | AE121: =+[63]entradas!$H31 -> 2878 | AF121: =+[64]entradas!$H31 -> 2741 | AG121: =+[65]entradas!$H31 -> 2749 | AH121: =+[66]entradas!$H31 -> 2819 | AI121: =+[67]entradas!$H31 -> 1763 | AJ121: =+[68]entradas!$H31 -> 555
B122: MUNDO AVENTURA | C122: =+[35]entradas!$H32 -> 4036 | D122: =+[36]entradas!$H32 -> 4168 | E122: =+[37]entradas!$H32 -> 4066 | F122: =+[38]entradas!$H32 -> 3979 | G122: =+[39]entradas!$H32 -> 2852 | H122: =+[40]entradas!$H32 -> 1216 | I122: =+[41]entradas!$H32 -> 4294 | J122: =+[42]entradas!$H32 -> 4200 | K122: =+[43]entradas!$H32 -> 4108 | L122: =+[44]entradas!$H32 -> 4169 | M122: =+[45]entradas!$H32 -> 4144 | N122: =+[46]entradas!$H32 -> 2830 | O122: =+[47]entradas!$H32 -> 1225 | P122: =+[48]entradas!$H32 -> 4743 | Q122: =+[49]entradas!$H32 -> 3581 | R122: =+[50]entradas!$H32 -> 3732 | S122: =+[51]entradas!$H32 -> 3893 | T122: =+[52]entradas!$H32 -> 4226 | U122: =+[53]entradas!$H32 -> 2815 | V122: =+[54]entradas!$H32 -> 1160 | W122: =+[55]entradas!$H32 -> 4087 | X122: =+[56]entradas!$H32 -> 4199 | Y122: =+[57]entradas!$H32 -> 4148 | Z122: =+[58]entradas!$H32 -> 4039 | AA122: =+[59]entradas!$H32 -> 4255 | AB122: =+[60]entradas!$H32 -> 2957 | AC122: =+[61]entradas!$H32 -> 1340 | AD122: =+[62]entradas!$H32 -> 4286 | AE122: =+[63]entradas!$H32 -> 4332 | AF122: =+[64]entradas!$H32 -> 4363 | AG122: =+[65]entradas!$H32 -> 4368 | AH122: =+[66]entradas!$H32 -> 4307 | AI122: =+[67]entradas!$H32 -> 3233 | AJ122: =+[68]entradas!$H32 -> 1315
B123: MARSELLA | C123: =+[35]entradas!$H33 -> 6996 | D123: =+[36]entradas!$H33 -> 7009 | E123: =+[37]entradas!$H33 -> 7199 | F123: =+[38]entradas!$H33 -> 7031 | G123: =+[39]entradas!$H33 -> 4563 | H123: =+[40]entradas!$H33 -> 1868 | I123: =+[41]entradas!$H33 -> 7185 | J123: =+[42]entradas!$H33 -> 7200 | K123: =+[43]entradas!$H33 -> 7022 | L123: =+[44]entradas!$H33 -> 7143 | M123: =+[45]entradas!$H33 -> 7141 | N123: =+[46]entradas!$H33 -> 4727 | O123: =+[47]entradas!$H33 -> 1769 | P123: =+[48]entradas!$H33 -> 7670 | Q123: =+[49]entradas!$H33 -> 6821 | R123: =+[50]entradas!$H33 -> 6935 | S123: =+[51]entradas!$H33 -> 7212 | T123: =+[52]entradas!$H33 -> 7503 | U123: =+[53]entradas!$H33 -> 4705 | V123: =+[54]entradas!$H33 -> 1841 | W123: =+[55]entradas!$H33 -> 7208 | X123: =+[56]entradas!$H33 -> 7360 | Y123: =+[57]entradas!$H33 -> 7249 | Z123: =+[58]entradas!$H33 -> 7364 | AA123: =+[59]entradas!$H33 -> 7415 | AB123: =+[60]entradas!$H33 -> 4950 | AC123: =+[61]entradas!$H33 -> 1752 | AD123: =+[62]entradas!$H33 -> 7335 | AE123: =+[63]entradas!$H33 -> 7627 | AF123: =+[64]entradas!$H33 -> 7294 | AG123: =+[65]entradas!$H33 -> 7238 | AH123: =+[66]entradas!$H33 -> 7352 | AI123: =+[67]entradas!$H33 -> 5224 | AJ123: =+[68]entradas!$H33 -> 1750
B124: PRADERA | C124: =+[35]entradas!$H34 -> 7941 | D124: =+[36]entradas!$H34 -> 7491 | E124: =+[37]entradas!$H34 -> 7390 | F124: =+[38]entradas!$H34 -> 7429 | G124: =+[39]entradas!$H34 -> 5012 | H124: =+[40]entradas!$H34 -> 1930 | I124: =+[41]entradas!$H34 -> 7504 | J124: =+[42]entradas!$H34 -> 7550 | K124: =+[43]entradas!$H34 -> 7518 | L124: =+[44]entradas!$H34 -> 7460 | M124: =+[45]entradas!$H34 -> 7617 | N124: =+[46]entradas!$H34 -> 4765 | O124: =+[47]entradas!$H34 -> 1670 | P124: =+[48]entradas!$H34 -> 7815 | Q124: =+[49]entradas!$H34 -> 6060 | R124: =+[50]entradas!$H34 -> 6535 | S124: =+[51]entradas!$H34 -> 6935 | T124: =+[52]entradas!$H34 -> 7469 | U124: =+[53]entradas!$H34 -> 4905 | V124: =+[54]entradas!$H34 -> 1678 | W124: =+[55]entradas!$H34 -> 7650 | X124: =+[56]entradas!$H34 -> 7591 | Y124: =+[57]entradas!$H34 -> 7427 | Z124: =+[58]entradas!$H34 -> 7309 | AA124: =+[59]entradas!$H34 -> 7546 | AB124: =+[60]entradas!$H34 -> 4876 | AC124: =+[61]entradas!$H34 -> 1788 | AD124: =+[62]entradas!$H34 -> 7630 | AE124: =+[63]entradas!$H34 -> 7728 | AF124: =+[64]entradas!$H34 -> 7888 | AG124: =+[65]entradas!$H34 -> 7617 | AH124: =+[66]entradas!$H34 -> 7816 | AI124: =+[67]entradas!$H34 -> 5041 | AJ124: =+[68]entradas!$H34 -> 1693
B125: AMERICAS | C125: =+[35]entradas!$H35 -> 6918 | D125: =+[36]entradas!$H35 -> 7116 | E125: =+[37]entradas!$H35 -> 6830 | F125: =+[38]entradas!$H35 -> 6843 | G125: =+[39]entradas!$H35 -> 4658 | H125: =+[40]entradas!$H35 -> 1947 | I125: =+[41]entradas!$H35 -> 7062 | J125: =+[42]entradas!$H35 -> 7107 | K125: =+[43]entradas!$H35 -> 6935 | L125: =+[44]entradas!$H35 -> 6895 | M125: =+[45]entradas!$H35 -> 6967 | N125: =+[46]entradas!$H35 -> 4339 | O125: =+[47]entradas!$H35 -> 2048 | P125: =+[48]entradas!$H35 -> 6762 | Q125: =+[49]entradas!$H35 -> 4991 | R125: =+[50]entradas!$H35 -> 5490 | S125: =+[51]entradas!$H35 -> 6050 | T125: =+[52]entradas!$H35 -> 6700 | U125: =+[53]entradas!$H35 -> 4388 | V125: =+[54]entradas!$H35 -> 1853 | W125: =+[55]entradas!$H35 -> 7082 | X125: =+[56]entradas!$H35 -> 6890 | Y125: =+[57]entradas!$H35 -> 6974 | Z125: =+[58]entradas!$H35 -> 6824 | AA125: =+[59]entradas!$H35 -> 7141 | AB125: =+[60]entradas!$H35 -> 4550 | AC125: =+[61]entradas!$H35 -> 1858 | AD125: =+[62]entradas!$H35 -> 7018 | AE125: =+[63]entradas!$H35 -> 7092 | AF125: =+[64]entradas!$H35 -> 7163 | AG125: =+[65]entradas!$H35 -> 7126 | AH125: =+[66]entradas!$H35 -> 7088 | AI125: =+[67]entradas!$H35 -> 4798 | AJ125: =+[68]entradas!$H35 -> 1861
B126: LA CASTELLANA | C126: =+[35]entradas!$H36 -> 2230 | D126: =+[36]entradas!$H36 -> 2146 | E126: =+[37]entradas!$H36 -> 2066 | F126: =+[38]entradas!$H36 -> 2128 | G126: =+[39]entradas!$H36 -> 1210 | H126: =+[40]entradas!$H36 -> 413 | I126: =+[41]entradas!$H36 -> 2073 | J126: =+[42]entradas!$H36 -> 2187 | K126: =+[43]entradas!$H36 -> 2326 | L126: =+[44]entradas!$H36 -> 2275 | M126: =+[45]entradas!$H36 -> 2196 | N126: =+[46]entradas!$H36 -> 1099 | O126: =+[47]entradas!$H36 -> 361 | P126: =+[48]entradas!$H36 -> 2060 | Q126: =+[49]entradas!$H36 -> 2381 | R126: =+[50]entradas!$H36 -> 2146 | S126: =+[51]entradas!$H36 -> 2117 | T126: =+[52]entradas!$H36 -> 2026 | U126: =+[53]entradas!$H36 -> 1047 | V126: =+[54]entradas!$H36 -> 395 | W126: =+[55]entradas!$H36 -> 1958 | X126: =+[56]entradas!$H36 -> 2091 | Y126: =+[57]entradas!$H36 -> 2050 | Z126: =+[58]entradas!$H36 -> 1983 | AA126: =+[59]entradas!$H36 -> 1914 | AB126: =+[60]entradas!$H36 -> 1094 | AC126: =+[61]entradas!$H36 -> 352 | AD126: =+[62]entradas!$H36 -> 2087 | AE126: =+[63]entradas!$H36 -> 2128 | AF126: =+[64]entradas!$H36 -> 2165 | AG126: =+[65]entradas!$H36 -> 1999 | AH126: =+[66]entradas!$H36 -> 2016 | AI126: =+[67]entradas!$H36 -> 1101 | AJ126: =+[68]entradas!$H36 -> 372
B127: NQS - CL. 75 | C127: =+[35]entradas!$H37 -> 4611 | D127: =+[36]entradas!$H37 -> 4584 | E127: =+[37]entradas!$H37 -> 4423 | F127: =+[38]entradas!$H37 -> 4483 | G127: =+[39]entradas!$H37 -> 3091 | H127: =+[40]entradas!$H37 -> 809 | I127: =+[41]entradas!$H37 -> 4507 | J127: =+[42]entradas!$H37 -> 4568 | K127: =+[43]entradas!$H37 -> 4531 | L127: =+[44]entradas!$H37 -> 4562 | M127: =+[45]entradas!$H37 -> 4513 | N127: =+[46]entradas!$H37 -> 3068 | O127: =+[47]entradas!$H37 -> 872 | P127: =+[48]entradas!$H37 -> 4464 | Q127: =+[49]entradas!$H37 -> 4697 | R127: =+[50]entradas!$H37 -> 4617 | S127: =+[51]entradas!$H37 -> 4627 | T127: =+[52]entradas!$H37 -> 4659 | U127: =+[53]entradas!$H37 -> 3067 | V127: =+[54]entradas!$H37 -> 801 | W127: =+[55]entradas!$H37 -> 4480 | X127: =+[56]entradas!$H37 -> 4682 | Y127: =+[57]entradas!$H37 -> 4598 | Z127: =+[58]entradas!$H37 -> 4667 | AA127: =+[59]entradas!$H37 -> 4595 | AB127: =+[60]entradas!$H37 -> 3136 | AC127: =+[61]entradas!$H37 -> 854 | AD127: =+[62]entradas!$H37 -> 4821 | AE127: =+[63]entradas!$H37 -> 4951 | AF127: =+[64]entradas!$H37 -> 5004 | AG127: =+[65]entradas!$H37 -> 4912 | AH127: =+[66]entradas!$H37 -> 4863 | AI127: =+[67]entradas!$H37 -> 3191 | AJ127: =+[68]entradas!$H37 -> 798
B128: AV. CHILE NORTE | C128: =+[35]entradas!$H38 -> 3423 | D128: =+[36]entradas!$H38 -> 3234 | E128: =+[37]entradas!$H38 -> 3203 | F128: =+[38]entradas!$H38 -> 3251 | G128: =+[39]entradas!$H38 -> 2485 | H128: =+[40]entradas!$H38 -> 810 | I128: =+[41]entradas!$H38 -> 3472 | J128: =+[42]entradas!$H38 -> 3405 | K128: =+[43]entradas!$H38 -> 3379 | L128: =+[44]entradas!$H38 -> 3397 | M128: =+[45]entradas!$H38 -> 3362 | N128: =+[46]entradas!$H38 -> 2428 | O128: =+[47]entradas!$H38 -> 861 | P128: =+[48]entradas!$H38 -> 3396 | Q128: =+[49]entradas!$H38 -> 6472 | R128: =+[50]entradas!$H38 -> 6782 | S128: =+[51]entradas!$H38 -> 7145 | T128: =+[52]entradas!$H38 -> 6955 | U128: =+[53]entradas!$H38 -> 4961 | V128: =+[54]entradas!$H38 -> 1875 | W128: =+[55]entradas!$H38 -> 7167 | X128: =+[56]entradas!$H38 -> 6945 | Y128: =+[57]entradas!$H38 -> 7029 | Z128: =+[58]entradas!$H38 -> 7140 | AA128: =+[59]entradas!$H38 -> 6857 | AB128: =+[60]entradas!$H38 -> 5000 | AC128: =+[61]entradas!$H38 -> 1736 | AD128: =+[62]entradas!$H38 -> 6983 | AE128: =+[63]entradas!$H38 -> 6991 | AF128: =+[64]entradas!$H38 -> 7101 | AG128: =+[65]entradas!$H38 -> 7001 | AH128: =+[66]entradas!$H38 -> 6942 | AI128: =+[67]entradas!$H38 -> 5130 | AJ128: =+[68]entradas!$H38 -> 1842
B129: AV. CHILE SUR | C129: =+[35]entradas!$H39 -> 4647 | D129: =+[36]entradas!$H39 -> 4535 | E129: =+[37]entradas!$H39 -> 4570 | F129: =+[38]entradas!$H39 -> 4388 | G129: =+[39]entradas!$H39 -> 3203 | H129: =+[40]entradas!$H39 -> 1078 | I129: =+[41]entradas!$H39 -> 4676 | J129: =+[42]entradas!$H39 -> 4662 | K129: =+[43]entradas!$H39 -> 4589 | L129: =+[44]entradas!$H39 -> 4518 | M129: =+[45]entradas!$H39 -> 4310 | N129: =+[46]entradas!$H39 -> 3135 | O129: =+[47]entradas!$H39 -> 1220 | P129: =+[48]entradas!$H39 -> 4488 | Q129: =+[49]entradas!$H39 -> 460 | R129: =+[50]entradas!$H39 -> 3 | S129: =+[51]entradas!$H39 -> 0 | T129: =+[52]entradas!$H39 -> 0 | U129: =+[53]entradas!$H39 -> 0 | V129: =+[54]entradas!$H39 -> 0 | W129: =+[55]entradas!$H39 -> 0 | X129: =+[56]entradas!$H39 -> 0 | Y129: =+[57]entradas!$H39 -> 0 | Z129: =+[58]entradas!$H39 -> 0 | AA129: =+[59]entradas!$H39 -> 0 | AB129: =+[60]entradas!$H39 -> 0 | AC129: =+[61]entradas!$H39 -> 0 | AD129: =+[62]entradas!$H39 -> 0 | AE129: =+[63]entradas!$H39 -> 0 | AF129: =+[64]entradas!$H39 -> 0 | AG129: =+[65]entradas!$H39 -> 0 | AH129: =+[66]entradas!$H39 -> 0 | AI129: =+[67]entradas!$H39 -> 0 | AJ129: =+[68]entradas!$H39 -> 0
B130: SIMON BOLIVAR | C130: =+[35]entradas!$H40 -> 7032 | D130: =+[36]entradas!$H40 -> 7046 | E130: =+[37]entradas!$H40 -> 6603 | F130: =+[38]entradas!$H40 -> 6549 | G130: =+[39]entradas!$H40 -> 4584 | H130: =+[40]entradas!$H40 -> 1272 | I130: =+[41]entradas!$H40 -> 6831 | J130: =+[42]entradas!$H40 -> 6988 | K130: =+[43]entradas!$H40 -> 6646 | L130: =+[44]entradas!$H40 -> 6873 | M130: =+[45]entradas!$H40 -> 6476 | N130: =+[46]entradas!$H40 -> 4417 | O130: =+[47]entradas!$H40 -> 1253 | P130: =+[48]entradas!$H40 -> 6609 | Q130: =+[49]entradas!$H40 -> 6884 | R130: =+[50]entradas!$H40 -> 6747 | S130: =+[51]entradas!$H40 -> 6779 | T130: =+[52]entradas!$H40 -> 6794 | U130: =+[53]entradas!$H40 -> 4853 | V130: =+[54]entradas!$H40 -> 1331 | W130: =+[55]entradas!$H40 -> 6901 | X130: =+[56]entradas!$H40 -> 7159 | Y130: =+[57]entradas!$H40 -> 7111 | Z130: =+[58]entradas!$H40 -> 7063 | AA130: =+[59]entradas!$H40 -> 6904 | AB130: =+[60]entradas!$H40 -> 4976 | AC130: =+[61]entradas!$H40 -> 1386 | AD130: =+[62]entradas!$H40 -> 6920 | AE130: =+[63]entradas!$H40 -> 7287 | AF130: =+[64]entradas!$H40 -> 7449 | AG130: =+[65]entradas!$H40 -> 7206 | AH130: =+[66]entradas!$H40 -> 7111 | AI130: =+[67]entradas!$H40 -> 4921 | AJ130: =+[68]entradas!$H40 -> 1417
B131: COLISEO | C131: =+[35]entradas!$H41 -> 4205 | D131: =+[36]entradas!$H41 -> 4022 | E131: =+[37]entradas!$H41 -> 4652 | F131: =+[38]entradas!$H41 -> 3965 | G131: =+[39]entradas!$H41 -> 2877 | H131: =+[40]entradas!$H41 -> 1345 | I131: =+[41]entradas!$H41 -> 3874 | J131: =+[42]entradas!$H41 -> 4039 | K131: =+[43]entradas!$H41 -> 4101 | L131: =+[44]entradas!$H41 -> 5125 | M131: =+[45]entradas!$H41 -> 5499 | N131: =+[46]entradas!$H41 -> 4268 | O131: =+[47]entradas!$H41 -> 2263 | P131: =+[48]entradas!$H41 -> 4176 | Q131: =+[49]entradas!$H41 -> 4032 | R131: =+[50]entradas!$H41 -> 3983 | S131: =+[51]entradas!$H41 -> 4118 | T131: =+[52]entradas!$H41 -> 4224 | U131: =+[53]entradas!$H41 -> 2921 | V131: =+[54]entradas!$H41 -> 1119 | W131: =+[55]entradas!$H41 -> 4007 | X131: =+[56]entradas!$H41 -> 4253 | Y131: =+[57]entradas!$H41 -> 4093 | Z131: =+[58]entradas!$H41 -> 4209 | AA131: =+[59]entradas!$H41 -> 4067 | AB131: =+[60]entradas!$H41 -> 2918 | AC131: =+[61]entradas!$H41 -> 2147 | AD131: =+[62]entradas!$H41 -> 4038 | AE131: =+[63]entradas!$H41 -> 4436 | AF131: =+[64]entradas!$H41 -> 4201 | AG131: =+[65]entradas!$H41 -> 4232 | AH131: =+[66]entradas!$H41 -> 3955 | AI131: =+[67]entradas!$H41 -> 3547 | AJ131: =+[68]entradas!$H41 -> 1151
B132: EL CAMPIN | C132: =+[35]entradas!$H42 -> 8196 | D132: =+[36]entradas!$H42 -> 8081 | E132: =+[37]entradas!$H42 -> 8015 | F132: =+[38]entradas!$H42 -> 8318 | G132: =+[39]entradas!$H42 -> 6129 | H132: =+[40]entradas!$H42 -> 3936 | I132: =+[41]entradas!$H42 -> 7931 | J132: =+[42]entradas!$H42 -> 8425 | K132: =+[43]entradas!$H42 -> 7920 | L132: =+[44]entradas!$H42 -> 8470 | M132: =+[45]entradas!$H42 -> 8436 | N132: =+[46]entradas!$H42 -> 7792 | O132: =+[47]entradas!$H42 -> 3509 | P132: =+[48]entradas!$H42 -> 8494 | Q132: =+[49]entradas!$H42 -> 8068 | R132: =+[50]entradas!$H42 -> 7810 | S132: =+[51]entradas!$H42 -> 8175 | T132: =+[52]entradas!$H42 -> 8427 | U132: =+[53]entradas!$H42 -> 7793 | V132: =+[54]entradas!$H42 -> 2553 | W132: =+[55]entradas!$H42 -> 8194 | X132: =+[56]entradas!$H42 -> 8369 | Y132: =+[57]entradas!$H42 -> 7842 | Z132: =+[58]entradas!$H42 -> 7901 | AA132: =+[59]entradas!$H42 -> 8326 | AB132: =+[60]entradas!$H42 -> 6616 | AC132: =+[61]entradas!$H42 -> 5869 | AD132: =+[62]entradas!$H42 -> 8144 | AE132: =+[63]entradas!$H42 -> 8719 | AF132: =+[64]entradas!$H42 -> 8140 | AG132: =+[65]entradas!$H42 -> 8417 | AH132: =+[66]entradas!$H42 -> 8601 | AI132: =+[67]entradas!$H42 -> 7632 | AJ132: =+[68]entradas!$H42 -> 3810
... B155: PORTAL SUR | C155: =+[35]entradas!$H65 -> 53530 | D155: =+[36]entradas!$H65 -> 53181 | E155: =+[37]entradas!$H65 -> 51617 | F155: =+[38]entradas!$H65 -> 54279 | G155: =+[39]entradas!$H65 -> 38682 | H155: =+[40]entradas!$H65 -> 16954 | I155: =+[41]entradas!$H65 -> 54324 | J155: =+[42]entradas!$H65 -> 54685 | K155: =+[43]entradas!$H65 -> 54371 | L155: =+[44]entradas!$H65 -> 55122 | M155: =+[45]entradas!$H65 -> 55895 | N155: =+[46]entradas!$H65 -> 39019 | O155: =+[47]entradas!$H65 -> 15892 | P155: =+[48]entradas!$H65 -> 56077 | Q155: =+[49]entradas!$H65 -> 58595 | R155: =+[50]entradas!$H65 -> 57535 | S155: =+[51]entradas!$H65 -> 57574 | T155: =+[52]entradas!$H65 -> 57518 | U155: =+[53]entradas!$H65 -> 40270 | V155: =+[54]entradas!$H65 -> 16657 | W155: =+[55]entradas!$H65 -> 56327 | X155: =+[56]entradas!$H65 -> 56096 | Y155: =+[57]entradas!$H65 -> 55482 | Z155: =+[58]entradas!$H65 -> 55222 | AA155: =+[59]entradas!$H65 -> 57134 | AB155: =+[60]entradas!$H65 -> 40502 | AC155: =+[61]entradas!$H65 -> 16458 | AD155: =+[62]entradas!$H65 -> 56678 | AE155: =+[63]entradas!$H65 -> 57151 | AF155: =+[64]entradas!$H65 -> 56843 | AG155: =+[65]entradas!$H65 -> 58453 | AH155: =+[66]entradas!$H65 -> 58084 | AI155: =+[67]entradas!$H65 -> 41387 | AJ155: =+[68]entradas!$H65 -> 16910
B156: PORTAL SUBA | C156: =+[35]entradas!$H$73 -> 63852 | D156: =+[36]entradas!$H$73 -> 63006 | E156: =+[37]entradas!$H$73 -> 61404 | F156: =+[38]entradas!$H$73 -> 64357 | G156: =+[39]entradas!$H$73 -> 44432 | H156: =+[40]entradas!$H$73 -> 19735 | I156: =+[41]entradas!$H$73 -> 64825 | J156: =+[42]entradas!$H$73 -> 65666 | K156: =+[43]entradas!$H$73 -> 65386 | L156: =+[44]entradas!$H$73 -> 66305 | M156: =+[45]entradas!$H$73 -> 66824 | N156: =+[46]entradas!$H$73 -> 44837 | O156: =+[47]entradas!$H$73 -> 18518 | P156: =+[48]entradas!$H$73 -> 65886 | Q156: =+[49]entradas!$H$73 -> 66772 | R156: =+[50]entradas!$H$73 -> 67529 | S156: =+[51]entradas!$H$73 -> 67267 | T156: =+[52]entradas!$H$73 -> 68077 | U156: =+[53]entradas!$H$73 -> 46130 | V156: =+[54]entradas!$H$73 -> 19342 | W156: =+[55]entradas!$H$73 -> 66801 | X156: =+[56]entradas!$H$73 -> 66927 | Y156: =+[57]entradas!$H$73 -> 66431 | Z156: =+[58]entradas!$H$73 -> 66145 | AA156: =+[59]entradas!$H$73 -> 67431 | AB156: =+[60]entradas!$H$73 -> 45485 | AC156: =+[61]entradas!$H$73 -> 19083 | AD156: =+[62]entradas!$H$73 -> 66336 | AE156: =+[63]entradas!$H$73 -> 68289 | AF156: =+[64]entradas!$H$73 -> 68690 | AG156: =+[65]entradas!$H$73 -> 68365 | AH156: =+[66]entradas!$H$73 -> 69538 | AI156: =+[67]entradas!$H$73 -> 47908 | AJ156: =+[68]entradas!$H$73 -> 19599
B157: LA CAMPIÑA | C157: =+[35]entradas!$H81 -> 8017 | D157: =+[36]entradas!$H81 -> 8319 | E157: =+[37]entradas!$H81 -> 7925 | F157: =+[38]entradas!$H81 -> 8546 | G157: =+[39]entradas!$H81 -> 5146 | H157: =+[40]entradas!$H81 -> 1767 | I157: =+[41]entradas!$H81 -> 8031 | J157: =+[42]entradas!$H81 -> 8512 | K157: =+[43]entradas!$H81 -> 8742 | L157: =+[44]entradas!$H81 -> 8555 | M157: =+[45]entradas!$H81 -> 8586 | N157: =+[46]entradas!$H81 -> 5283 | O157: =+[47]entradas!$H81 -> 1665 | P157: =+[48]entradas!$H81 -> 8486 | Q157: =+[49]entradas!$H81 -> 8544 | R157: =+[50]entradas!$H81 -> 8628 | S157: =+[51]entradas!$H81 -> 8712 | T157: =+[52]entradas!$H81 -> 8727 | U157: =+[53]entradas!$H81 -> 5274 | V157: =+[54]entradas!$H81 -> 1677 | W157: =+[55]entradas!$H81 -> 8429 | X157: =+[56]entradas!$H81 -> 8685 | Y157: =+[57]entradas!$H81 -> 8701 | Z157: =+[58]entradas!$H81 -> 8642 | AA157: =+[59]entradas!$H81 -> 8651 | AB157: =+[60]entradas!$H81 -> 5366 | AC157: =+[61]entradas!$H81 -> 1732 | AD157: =+[62]entradas!$H81 -> 8526 | AE157: =+[63]entradas!$H81 -> 8691 | AF157: =+[64]entradas!$H81 -> 8867 | AG157: =+[65]entradas!$H81 -> 8850 | AH157: =+[66]entradas!$H81 -> 9095 | AI157: =+[67]entradas!$H81 -> 5765 | AJ157: =+[68]entradas!$H81 -> 1703
B158: SUBA - TV- 91 | C158: =+[35]entradas!$H82 -> 8479 | D158: =+[36]entradas!$H82 -> 8466 | E158: =+[37]entradas!$H82 -> 8036 | F158: =+[38]entradas!$H82 -> 8708 | G158: =+[39]entradas!$H82 -> 5798 | H158: =+[40]entradas!$H82 -> 2654 | I158: =+[41]entradas!$H82 -> 8714 | J158: =+[42]entradas!$H82 -> 8585 | K158: =+[43]entradas!$H82 -> 8887 | L158: =+[44]entradas!$H82 -> 8567 | M158: =+[45]entradas!$H82 -> 8614 | N158: =+[46]entradas!$H82 -> 5755 | O158: =+[47]entradas!$H82 -> 2505 | P158: =+[48]entradas!$H82 -> 8610 | Q158: =+[49]entradas!$H82 -> 8643 | R158: =+[50]entradas!$H82 -> 8684 | S158: =+[51]entradas!$H82 -> 8666 | T158: =+[52]entradas!$H82 -> 8776 | U158: =+[53]entradas!$H82 -> 5949 | V158: =+[54]entradas!$H82 -> 2601 | W158: =+[55]entradas!$H82 -> 8631 | X158: =+[56]entradas!$H82 -> 8516 | Y158: =+[57]entradas!$H82 -> 8421 | Z158: =+[58]entradas!$H82 -> 8359 | AA158: =+[59]entradas!$H82 -> 8485 | AB158: =+[60]entradas!$H82 -> 6117 | AC158: =+[61]entradas!$H82 -> 2508 | AD158: =+[62]entradas!$H82 -> 8763 | AE158: =+[63]entradas!$H82 -> 9094 | AF158: =+[64]entradas!$H82 -> 9038 | AG158: =+[65]entradas!$H82 -> 9120 | AH158: =+[66]entradas!$H82 -> 9124 | AI158: =+[67]entradas!$H82 -> 6498 | AJ158: =+[68]entradas!$H82 -> 2504
B159: 21 ANGELES | C159: =+[35]entradas!$H83 -> 1950 | D159: =+[36]entradas!$H83 -> 1919 | E159: =+[37]entradas!$H83 -> 1849 | F159: =+[38]entradas!$H83 -> 1898 | G159: =+[39]entradas!$H83 -> 1260 | H159: =+[40]entradas!$H83 -> 490 | I159: =+[41]entradas!$H83 -> 1821 | J159: =+[42]entradas!$H83 -> 1856 | K159: =+[43]entradas!$H83 -> 2568 | L159: =+[44]entradas!$H83 -> 1857 | M159: =+[45]entradas!$H83 -> 1993 | N159: =+[46]entradas!$H83 -> 1170 | O159: =+[47]entradas!$H83 -> 528 | P159: =+[48]entradas!$H83 -> 2012 | Q159: =+[49]entradas!$H83 -> 1883 | R159: =+[50]entradas!$H83 -> 1905 | S159: =+[51]entradas!$H83 -> 1872 | T159: =+[52]entradas!$H83 -> 1875 | U159: =+[53]entradas!$H83 -> 1176 | V159: =+[54]entradas!$H83 -> 476 | W159: =+[55]entradas!$H83 -> 1727 | X159: =+[56]entradas!$H83 -> 1815 | Y159: =+[57]entradas!$H83 -> 1862 | Z159: =+[58]entradas!$H83 -> 1808 | AA159: =+[59]entradas!$H83 -> 1901 | AB159: =+[60]entradas!$H83 -> 1252 | AC159: =+[61]entradas!$H83 -> 464 | AD159: =+[62]entradas!$H83 -> 1842 | AE159: =+[63]entradas!$H83 -> 2071 | AF159: =+[64]entradas!$H83 -> 2050 | AG159: =+[65]entradas!$H83 -> 1880 | AH159: =+[66]entradas!$H83 -> 2023 | AI159: =+[67]entradas!$H83 -> 1261 | AJ159: =+[68]entradas!$H83 -> 478
B160: GRATAMIRA | C160: =+[35]entradas!$H84 -> 1255 | D160: =+[36]entradas!$H84 -> 1116 | E160: =+[37]entradas!$H84 -> 1295 | F160: =+[38]entradas!$H84 -> 1107 | G160: =+[39]entradas!$H84 -> 1023 | H160: =+[40]entradas!$H84 -> 350 | I160: =+[41]entradas!$H84 -> 1052 | J160: =+[42]entradas!$H84 -> 1195 | K160: =+[43]entradas!$H84 -> 1468 | L160: =+[44]entradas!$H84 -> 1270 | M160: =+[45]entradas!$H84 -> 1191 | N160: =+[46]entradas!$H84 -> 978 | O160: =+[47]entradas!$H84 -> 408 | P160: =+[48]entradas!$H84 -> 1195 | Q160: =+[49]entradas!$H84 -> 1289 | R160: =+[50]entradas!$H84 -> 1166 | S160: =+[51]entradas!$H84 -> 1369 | T160: =+[52]entradas!$H84 -> 1187 | U160: =+[53]entradas!$H84 -> 1072 | V160: =+[54]entradas!$H84 -> 387 | W160: =+[55]entradas!$H84 -> 1045 | X160: =+[56]entradas!$H84 -> 1180 | Y160: =+[57]entradas!$H84 -> 1150 | Z160: =+[58]entradas!$H84 -> 1277 | AA160: =+[59]entradas!$H84 -> 1157 | AB160: =+[60]entradas!$H84 -> 1062 | AC160: =+[61]entradas!$H84 -> 472 | AD160: =+[62]entradas!$H84 -> 1157 | AE160: =+[63]entradas!$H84 -> 1527 | AF160: =+[64]entradas!$H84 -> 1420 | AG160: =+[65]entradas!$H84 -> 1291 | AH160: =+[66]entradas!$H84 -> 1301 | AI160: =+[67]entradas!$H84 -> 969 | AJ160: =+[68]entradas!$H84 -> 393
B161: SUBA - AV. BOYACA NORTE | C161: =+[35]entradas!$H85 -> 2235 | D161: =+[36]entradas!$H85 -> 2205 | E161: =+[37]entradas!$H85 -> 2391 | F161: =+[38]entradas!$H85 -> 2208 | G161: =+[39]entradas!$H85 -> 1279 | H161: =+[40]entradas!$H85 -> 481 | I161: =+[41]entradas!$H85 -> 2187 | J161: =+[42]entradas!$H85 -> 2185 | K161: =+[43]entradas!$H85 -> 2409 | L161: =+[44]entradas!$H85 -> 2142 | M161: =+[45]entradas!$H85 -> 2261 | N161: =+[46]entradas!$H85 -> 1309 | O161: =+[47]entradas!$H85 -> 520 | P161: =+[48]entradas!$H85 -> 2303 | Q161: =+[49]entradas!$H85 -> 2379 | R161: =+[50]entradas!$H85 -> 2296 | S161: =+[51]entradas!$H85 -> 2278 | T161: =+[52]entradas!$H85 -> 2299 | U161: =+[53]entradas!$H85 -> 1436 | V161: =+[54]entradas!$H85 -> 468 | W161: =+[55]entradas!$H85 -> 2233 | X161: =+[56]entradas!$H85 -> 2325 | Y161: =+[57]entradas!$H85 -> 2230 | Z161: =+[58]entradas!$H85 -> 2239 | AA161: =+[59]entradas!$H85 -> 2380 | AB161: =+[60]entradas!$H85 -> 1358 | AC161: =+[61]entradas!$H85 -> 427 | AD161: =+[62]entradas!$H85 -> 2260 | AE161: =+[63]entradas!$H85 -> 2404 | AF161: =+[64]entradas!$H85 -> 2354 | AG161: =+[65]entradas!$H85 -> 2314 | AH161: =+[66]entradas!$H85 -> 2421 | AI161: =+[67]entradas!$H85 -> 1424 | AJ161: =+[68]entradas!$H85 -> 440
B162: SUBA - AV. BOYACA SUR | C162: =+[35]entradas!$H86 -> 2860 | D162: =+[36]entradas!$H86 -> 2768 | E162: =+[37]entradas!$H86 -> 2734 | F162: =+[38]entradas!$H86 -> 2798 | G162: =+[39]entradas!$H86 -> 2059 | H162: =+[40]entradas!$H86 -> 822 | I162: =+[41]entradas!$H86 -> 2906 | J162: =+[42]entradas!$H86 -> 2969 | K162: =+[43]entradas!$H86 -> 2906 | L162: =+[44]entradas!$H86 -> 2868 | M162: =+[45]entradas!$H86 -> 2794 | N162: =+[46]entradas!$H86 -> 1903 | O162: =+[47]entradas!$H86 -> 800 | P162: =+[48]entradas!$H86 -> 3009 | Q162: =+[49]entradas!$H86 -> 2952 | R162: =+[50]entradas!$H86 -> 2969 | S162: =+[51]entradas!$H86 -> 2969 | T162: =+[52]entradas!$H86 -> 2924 | U162: =+[53]entradas!$H86 -> 2047 | V162: =+[54]entradas!$H86 -> 788 | W162: =+[55]entradas!$H86 -> 2864 | X162: =+[56]entradas!$H86 -> 2945 | Y162: =+[57]entradas!$H86 -> 2903 | Z162: =+[58]entradas!$H86 -> 2995 | AA162: =+[59]entradas!$H86 -> 2924 | AB162: =+[60]entradas!$H86 -> 2112 | AC162: =+[61]entradas!$H86 -> 788 | AD162: =+[62]entradas!$H86 -> 3003 | AE162: =+[63]entradas!$H86 -> 2984 | AF162: =+[64]entradas!$H86 -> 3010 | AG162: =+[65]entradas!$H86 -> 3007 | AH162: =+[66]entradas!$H86 -> 3015 | AI162: =+[67]entradas!$H86 -> 2162 | AJ162: =+[68]entradas!$H86 -> 799
B163: NIZA - CALLE 127 NORTE | C163: =+[35]entradas!$H87 -> 3784 | D163: =+[36]entradas!$H87 -> 3647 | E163: =+[37]entradas!$H87 -> 3553 | F163: =+[38]entradas!$H87 -> 3603 | G163: =+[39]entradas!$H87 -> 2541 | H163: =+[40]entradas!$H87 -> 682 | I163: =+[41]entradas!$H87 -> 3547 | J163: =+[42]entradas!$H87 -> 3695 | K163: =+[43]entradas!$H87 -> 3707 | L163: =+[44]entradas!$H87 -> 3568 | M163: =+[45]entradas!$H87 -> 3554 | N163: =+[46]entradas!$H87 -> 2396 | O163: =+[47]entradas!$H87 -> 654 | P163: =+[48]entradas!$H87 -> 3804 | Q163: =+[49]entradas!$H87 -> 3703 | R163: =+[50]entradas!$H87 -> 3533 | S163: =+[51]entradas!$H87 -> 3556 | T163: =+[52]entradas!$H87 -> 3790 | U163: =+[53]entradas!$H87 -> 2538 | V163: =+[54]entradas!$H87 -> 707 | W163: =+[55]entradas!$H87 -> 3496 | X163: =+[56]entradas!$H87 -> 3642 | Y163: =+[57]entradas!$H87 -> 3458 | Z163: =+[58]entradas!$H87 -> 3507 | AA163: =+[59]entradas!$H87 -> 3758 | AB163: =+[60]entradas!$H87 -> 2549 | AC163: =+[61]entradas!$H87 -> 660 | AD163: =+[62]entradas!$H87 -> 3668 | AE163: =+[63]entradas!$H87 -> 3751 | AF163: =+[64]entradas!$H87 -> 3786 | AG163: =+[65]entradas!$H87 -> 3763 | AH163: =+[66]entradas!$H87 -> 3917 | AI163: =+[67]entradas!$H87 -> 2672 | AJ163: =+[68]entradas!$H87 -> 646
B164: NIZA - CALLE 127 SUR | C164: =+[35]entradas!$H88 -> 4312 | D164: =+[36]entradas!$H88 -> 4074 | E164: =+[37]entradas!$H88 -> 4161 | F164: =+[38]entradas!$H88 -> 4327 | G164: =+[39]entradas!$H88 -> 3062 | H164: =+[40]entradas!$H88 -> 1148 | I164: =+[41]entradas!$H88 -> 3857 | J164: =+[42]entradas!$H88 -> 3868 | K164: =+[43]entradas!$H88 -> 3871 | L164: =+[44]entradas!$H88 -> 3769 | M164: =+[45]entradas!$H88 -> 4098 | N164: =+[46]entradas!$H88 -> 2905 | O164: =+[47]entradas!$H88 -> 1102 | P164: =+[48]entradas!$H88 -> 3942 | Q164: =+[49]entradas!$H88 -> 4121 | R164: =+[50]entradas!$H88 -> 4040 | S164: =+[51]entradas!$H88 -> 4001 | T164: =+[52]entradas!$H88 -> 4332 | U164: =+[53]entradas!$H88 -> 3023 | V164: =+[54]entradas!$H88 -> 1044 | W164: =+[55]entradas!$H88 -> 3962 | X164: =+[56]entradas!$H88 -> 3808 | Y164: =+[57]entradas!$H88 -> 3931 | Z164: =+[58]entradas!$H88 -> 3929 | AA164: =+[59]entradas!$H88 -> 4155 | AB164: =+[60]entradas!$H88 -> 2993 | AC164: =+[61]entradas!$H88 -> 1108 | AD164: =+[62]entradas!$H88 -> 4012 | AE164: =+[63]entradas!$H88 -> 4401 | AF164: =+[64]entradas!$H88 -> 4173 | AG164: =+[65]entradas!$H88 -> 4112 | AH164: =+[66]entradas!$H88 -> 4431 | AI164: =+[67]entradas!$H88 -> 3195 | AJ164: =+[68]entradas!$H88 -> 1073
B165: HUMEDAL CORDOBA | C165: =+[35]entradas!$H89 -> 2373 | D165: =+[36]entradas!$H89 -> 2530 | E165: =+[37]entradas!$H89 -> 2645 | F165: =+[38]entradas!$H89 -> 2438 | G165: =+[39]entradas!$H89 -> 1414 | H165: =+[40]entradas!$H89 -> 408 | I165: =+[41]entradas!$H89 -> 2380 | J165: =+[42]entradas!$H89 -> 2401 | K165: =+[43]entradas!$H89 -> 2497 | L165: =+[44]entradas!$H89 -> 2393 | M165: =+[45]entradas!$H89 -> 2340 | N165: =+[46]entradas!$H89 -> 1424 | O165: =+[47]entradas!$H89 -> 404 | P165: =+[48]entradas!$H89 -> 2400 | Q165: =+[49]entradas!$H89 -> 2457 | R165: =+[50]entradas!$H89 -> 2363 | S165: =+[51]entradas!$H89 -> 2396 | T165: =+[52]entradas!$H89 -> 2449 | U165: =+[53]entradas!$H89 -> 1417 | V165: =+[54]entradas!$H89 -> 463 | W165: =+[55]entradas!$H89 -> 2318 | X165: =+[56]entradas!$H89 -> 2477 | Y165: =+[57]entradas!$H89 -> 2439 | Z165: =+[58]entradas!$H89 -> 2428 | AA165: =+[59]entradas!$H89 -> 2416 | AB165: =+[60]entradas!$H89 -> 1515 | AC165: =+[61]entradas!$H89 -> 446 | AD165: =+[62]entradas!$H89 -> 2350 | AE165: =+[63]entradas!$H89 -> 2497 | AF165: =+[64]entradas!$H89 -> 2498 | AG165: =+[65]entradas!$H89 -> 2449 | AH165: =+[66]entradas!$H89 -> 2442 | AI165: =+[67]entradas!$H89 -> 1459 | AJ165: =+[68]entradas!$H89 -> 471
B166: SHAIO | C166: =+[35]entradas!$H90 -> 8187 | D166: =+[36]entradas!$H90 -> 8165 | E166: =+[37]entradas!$H90 -> 8230 | F166: =+[38]entradas!$H90 -> 7817 | G166: =+[39]entradas!$H90 -> 3889 | H166: =+[40]entradas!$H90 -> 1532 | I166: =+[41]entradas!$H90 -> 8019 | J166: =+[42]entradas!$H90 -> 8120 | K166: =+[43]entradas!$H90 -> 8040 | L166: =+[44]entradas!$H90 -> 8093 | M166: =+[45]entradas!$H90 -> 7843 | N166: =+[46]entradas!$H90 -> 4063 | O166: =+[47]entradas!$H90 -> 1476 | P166: =+[48]entradas!$H90 -> 8149 | Q166: =+[49]entradas!$H90 -> 8123 | R166: =+[50]entradas!$H90 -> 8306 | S166: =+[51]entradas!$H90 -> 8084 | T166: =+[52]entradas!$H90 -> 8117 | U166: =+[53]entradas!$H90 -> 4046 | V166: =+[54]entradas!$H90 -> 1388 | W166: =+[55]entradas!$H90 -> 8296 | X166: =+[56]entradas!$H90 -> 8369 | Y166: =+[57]entradas!$H90 -> 8331 | Z166: =+[58]entradas!$H90 -> 8148 | AA166: =+[59]entradas!$H90 -> 7989 | AB166: =+[60]entradas!$H90 -> 4517 | AC166: =+[61]entradas!$H90 -> 1436 | AD166: =+[62]entradas!$H90 -> 8151 | AE166: =+[63]entradas!$H90 -> 8062 | AF166: =+[64]entradas!$H90 -> 8423 | AG166: =+[65]entradas!$H90 -> 8152 | AH166: =+[66]entradas!$H90 -> 8198 | AI166: =+[67]entradas!$H90 -> 4351 | AJ166: =+[68]entradas!$H90 -> 1498
B167: PUENTE LARGO | C167: =+[35]entradas!$H91 -> 6353 | D167: =+[36]entradas!$H91 -> 6367 | E167: =+[37]entradas!$H91 -> 6441 | F167: =+[38]entradas!$H91 -> 6407 | G167: =+[39]entradas!$H91 -> 3274 | H167: =+[40]entradas!$H91 -> 968 | I167: =+[41]entradas!$H91 -> 6200 | J167: =+[42]entradas!$H91 -> 6432 | K167: =+[43]entradas!$H91 -> 6413 | L167: =+[44]entradas!$H91 -> 6522 | M167: =+[45]entradas!$H91 -> 6345 | N167: =+[46]entradas!$H91 -> 3238 | O167: =+[47]entradas!$H91 -> 1069 | P167: =+[48]entradas!$H91 -> 6368 | Q167: =+[49]entradas!$H91 -> 6479 | R167: =+[50]entradas!$H91 -> 6489 | S167: =+[51]entradas!$H91 -> 6579 | T167: =+[52]entradas!$H91 -> 6587 | U167: =+[53]entradas!$H91 -> 3618 | V167: =+[54]entradas!$H91 -> 1085 | W167: =+[55]entradas!$H91 -> 6272 | X167: =+[56]entradas!$H91 -> 6489 | Y167: =+[57]entradas!$H91 -> 6571 | Z167: =+[58]entradas!$H91 -> 6586 | AA167: =+[59]entradas!$H91 -> 6471 | AB167: =+[60]entradas!$H91 -> 3490 | AC167: =+[61]entradas!$H91 -> 1011 | AD167: =+[62]entradas!$H91 -> 6338 | AE167: =+[63]entradas!$H91 -> 6812 | AF167: =+[64]entradas!$H91 -> 6720 | AG167: =+[65]entradas!$H91 -> 6470 | AH167: =+[66]entradas!$H91 -> 6623 | AI167: =+[67]entradas!$H91 -> 3572 | AJ167: =+[68]entradas!$H91 -> 1033
B168: SUBA - CALLE 100 | C168: =+[35]entradas!$H92 -> 4972 | D168: =+[36]entradas!$H92 -> 5102 | E168: =+[37]entradas!$H92 -> 4683 | F168: =+[38]entradas!$H92 -> 4924 | G168: =+[39]entradas!$H92 -> 3101 | H168: =+[40]entradas!$H92 -> 1104 | I168: =+[41]entradas!$H92 -> 4901 | J168: =+[42]entradas!$H92 -> 5032 | K168: =+[43]entradas!$H92 -> 4958 | L168: =+[44]entradas!$H92 -> 5088 | M168: =+[45]entradas!$H92 -> 4923 | N168: =+[46]entradas!$H92 -> 2974 | O168: =+[47]entradas!$H92 -> 1211 | P168: =+[48]entradas!$H92 -> 4947 | Q168: =+[49]entradas!$H92 -> 4897 | R168: =+[50]entradas!$H92 -> 5138 | S168: =+[51]entradas!$H92 -> 5043 | T168: =+[52]entradas!$H92 -> 5227 | U168: =+[53]entradas!$H92 -> 3119 | V168: =+[54]entradas!$H92 -> 1169 | W168: =+[55]entradas!$H92 -> 4850 | X168: =+[56]entradas!$H92 -> 4886 | Y168: =+[57]entradas!$H92 -> 4876 | Z168: =+[58]entradas!$H92 -> 4888 | AA168: =+[59]entradas!$H92 -> 5099 | AB168: =+[60]entradas!$H92 -> 3062 | AC168: =+[61]entradas!$H92 -> 1192 | AD168: =+[62]entradas!$H92 -> 4987 | AE168: =+[63]entradas!$H92 -> 5276 | AF168: =+[64]entradas!$H92 -> 5111 | AG168: =+[65]entradas!$H92 -> 5049 | AH168: =+[66]entradas!$H92 -> 5269 | AI168: =+[67]entradas!$H92 -> 3167 | AJ168: =+[68]entradas!$H92 -> 1164
... B171: SAN MARTIN | C171: =+[35]entradas!$H95 -> 1392 | D171: =+[36]entradas!$H95 -> 1361 | E171: =+[37]entradas!$H95 -> 1209 | F171: =+[38]entradas!$H95 -> 1344 | G171: =+[39]entradas!$H95 -> 755 | H171: =+[40]entradas!$H95 -> 247 | I171: =+[41]entradas!$H95 -> 1339 | J171: =+[42]entradas!$H95 -> 1354 | K171: =+[43]entradas!$H95 -> 1420 | L171: =+[44]entradas!$H95 -> 1302 | M171: =+[45]entradas!$H95 -> 1277 | N171: =+[46]entradas!$H95 -> 698 | O171: =+[47]entradas!$H95 -> 225 | P171: =+[48]entradas!$H95 -> 1360 | Q171: =+[49]entradas!$H95 -> 1391 | R171: =+[50]entradas!$H95 -> 1390 | S171: =+[51]entradas!$H95 -> 1382 | T171: =+[52]entradas!$H95 -> 1328 | U171: =+[53]entradas!$H95 -> 720 | V171: =+[54]entradas!$H95 -> 254 | W171: =+[55]entradas!$H95 -> 1308 | X171: =+[56]entradas!$H95 -> 1316 | Y171: =+[57]entradas!$H95 -> 1384 | Z171: =+[58]entradas!$H95 -> 1414 | AA171: =+[59]entradas!$H95 -> 1381 | AB171: =+[60]entradas!$H95 -> 742 | AC171: =+[61]entradas!$H95 -> 229 | AD171: =+[62]entradas!$H95 -> 1342 | AE171: =+[63]entradas!$H95 -> 1331 | AF171: =+[64]entradas!$H95 -> 1402 | AG171: =+[65]entradas!$H95 -> 1366 | AH171: =+[66]entradas!$H95 -> 1357 | AI171: =+[67]entradas!$H95 -> 765 | AJ171: =+[68]entradas!$H95 -> 272
A173: TOTAL F1 ENTRADAS | C173: =+SUM(C3:C112)-C7-C10-C11-C106-C99 -> 1125928 | D173: =+SUM(D3:D112)-D7-D10-D11-D106-D99 -> 1143228 | E173: =+SUM(E3:E112)-E7-E10-E11-E106-E99 -> 1135065 | F173: =+SUM(F3:F112)-F7-F10-F11-F106-F99 -> 1145682 | G173: =+SUM(G3:G112)-G7-G10-G11-G106-G99 -> 736063 | H173: =+SUM(H3:H112)-H7-H10-H11-H106-H99 -> 300645 | I173: =+SUM(I3:I112)-I7-I10-I11-I106-I99 -> 1154779 | J173: =+SUM(J3:J112)-J7-J10-J11-J106-J99 -> 1172940 | ... AJ173: =+SUM(AJ3:AJ112)-AJ7-AJ10-AJ11-AJ106-AJ99 -> 298288 | AK173: =SUM(C173:AD173) -> 27397798
A174: TOTAL F2 ENTRADAS | C174: =+SUM(C113:C171) -> 475985 | D174: =+SUM(D113:D171) -> 474675 | E174: =+SUM(E113:E171) -> 464475 | F174: =+SUM(F113:F171) -> 476596 | G174: =+SUM(G113:G171) -> 323818 | H174: =+SUM(H113:H171) -> 133987 | I174: =+SUM(I113:I171) -> 478590 | J174: =+SUM(J113:J171) -> 488196 | ... AJ174: =+SUM(AJ113:AJ171) -> 133141 | AK174: =SUM(C174:AD174) -> 11442945
A175: ENTRADAS SISTEMA | C175: =+C173+C174 -> 1601913 | D175: =+D173+D174 -> 1617903 | E175: =+E173+E174 -> 1599540 | F175: =+F173+F174 -> 1622278 | G175: =+G173+G174 -> 1059881 | H175: =+H173+H174 -> 434632 | I175: =+I173+I174 -> 1633369 | J175: =+J173+J174 -> 1661136 | ... AJ175: =+AJ173+AJ174 -> 431429
A177: TOTAL ALIMENTACION FASE I | C177: =+C$7+C$10+C$11+C$99+C$106+C$189+C$194+C$198+C$203 -> 202623 | D177: =+D$7+D$10+D$11+D$99+D$106+D$189+D$194+D$198+D$203 -> 207037 | E177: =+E$7+E$10+E$11+E$99+E$106+E$189+E$194+E$198+E$203 -> 209311 | F177: =+F$7+F$10+F$11+F$99+F$106+F$189+F$194+F$198+F$203 -> 212355 | G177: =+G$7+G$10+G$11+G$99+G$106+G$189+G$194+G$198+G$203 -> 155307 | H177: =+H$7+H$10+H$11+H$99+H$106+H$189+H$194+H$198+H$203 -> 74211 | I177: =+I$7+I$10+I$11+I$99+I$106+I$189+I$194+I$198+I$203 -> 210899 | J177: =+J$7+J$10+J$11+J$99+J$106+J$189+J$194+J$198+J$203 -> 213279 | ... AJ177: =+AJ$7+AJ$10+AJ$11+AJ$99+AJ$106+AJ$189+AJ$194+AJ$198+AJ$203 -> 73337
A178: % | C178: =+C177/C173 -> 0.17996089 | D178: =+D177/D173 -> 0.18109861 | E178: =+E177/E173 -> 0.18440442 | F178: =+F177/F173 -> 0.18535248 | G178: =+G177/G173 -> 0.21099688 | H178: =+H177/H173 -> 0.2468393 | I178: =+I177/I173 -> 0.18263148 | J178: =+J177/J173 -> 0.18183283 | ... AJ178: =+AJ177/AJ173 -> 0.24585971
A179: TOTAL ALIMENTACION FASE II | C179: =C$120+C$209+C$214+C219+C148+C149+C208 -> 165026 | D179: =D$120+D$209+D$214+D219+D148+D149+D208 -> 164362 | E179: =E$120+E$209+E$214+E219+E148+E149+E208 -> 160269 | F179: =F$120+F$209+F$214+F219+F148+F149+F208 -> 166805 | G179: =G$120+G$209+G$214+G219+G148+G149+G208 -> 117336 | H179: =H$120+H$209+H$214+H219+H148+H149+H208 -> 49228 | I179: =I$120+I$209+I$214+I219+I148+I149+I208 -> 167262 | J179: =J$120+J$209+J$214+J219+J148+J149+J208 -> 169302 | ... AJ179: =AJ$120+AJ$209+AJ$214+AJ219+AJ148+AJ149+AJ208 -> 49292
A180: % | C180: =+C179/C174 -> 0.3467042 | D180: =+D179/D174 -> 0.34626218 | E180: =+E179/E174 -> 0.34505409 | F180: =+F179/F174 -> 0.34999245 | G180: =+G179/G174 -> 0.36235169 | H180: =+H179/H174 -> 0.36740878 | I180: =+I179/I174 -> 0.34948912 | J180: =+J179/J174 -> 0.34679104 | ... AJ180: =+AJ179/AJ174 -> 0.37022405
A181: TOTAL ENTRADAS ALIMENTACION | C181: =+C179+C177 -> 367649 | D181: =+D179+D177 -> 371399 | E181: =+E179+E177 -> 369580 | F181: =+F179+F177 -> 379160 | G181: =+G179+G177 -> 272643 | H181: =+H179+H177 -> 123439 | I181: =+I179+I177 -> 378161 | J181: =+J179+J177 -> 382581 | ... AJ181: =+AJ179+AJ177 -> 122629
A182: %ALIMENTACION | C182: =+C181/C175 -> 0.22950622 | D182: =+D181/D175 -> 0.22955579 | E182: =+E181/E175 -> 0.23105393 | F182: =+F181/F175 -> 0.23372073 | G182: =+G181/G175 -> 0.25723926 | H182: =+H181/H175 -> 0.28400808 | I182: =+I181/I175 -> 0.23152209 | J182: =+J181/J175 -> 0.23031287 | ... AJ182: =+AJ181/AJ175 -> 0.28423912
A184: SISTEMA INTEGRACIÓN CALLE 142 | C184: =+[1]entradas!$H$171 -> 2350 | D184: =+[2]entradas!$H$171 -> 2367 | E184: =+[3]entradas!$H$171 -> 2885 | F184: =+[4]entradas!$H$171 -> 2219 | G184: =+[5]entradas!$H$171 -> 417 | H184: =+[6]entradas!$H$171 -> 0 | I184: =+[7]entradas!$H$171 -> 2409 | J184: =+[8]entradas!$H$171 -> 2524 | K184: =+[9]entradas!$H$171 -> 2675 | L184: =+[10]entradas!$H$171 -> 2449 | M184: =+[11]entradas!$H$171 -> 2254 | N184: =+[12]entradas!$H$171 -> 387 | O184: =+[13]entradas!$H$171 -> 0 | P184: =+[14]entradas!$H$171 -> 2493 | Q184: =+[15]entradas!$H$171 -> 2491 | R184: =+[16]entradas!$H$171 -> 2499 | S184: =+[17]entradas!$H$171 -> 2459 | T184: =+[18]entradas!$H$171 -> 2334 | U184: =+[19]entradas!$H$171 -> 421 | V184: =+[20]entradas!$H$171 -> 0 | W184: =+[21]entradas!$H$171 -> 2502 | X184: =+[22]entradas!$H$171 -> 2644 | Y184: =+[23]entradas!$H$171 -> 2563 | Z184: =+[24]entradas!$H$171 -> 2487 | AA184: =+[25]entradas!$H$171 -> 2326 | AB184: =+[26]entradas!$H$171 -> 492 | AC184: =+[27]entradas!$H$171 -> 0 | AD184: =+[28]entradas!$H$171 -> 2481 | AE184: =+[29]entradas!$H$171 -> 2639 | AF184: =+[30]entradas!$H$171 -> 2608 | AG184: =+[31]entradas!$H$171 -> 2660 | AH184: =+[32]entradas!$H$171 -> 2300 | AI184: =+[33]entradas!$H$171 -> 439 | AJ184: =+[34]entradas!$H$171 -> 0
A187: Portal 80
A188: Peatonal | C188: =+[1]entradas!$C$150 -> 15012 | D188: =+[2]entradas!$C$150 -> 15189 | E188: =+[3]entradas!$C$150 -> 14406 | F188: =+[4]entradas!$C$150 -> 15547 | G188: =+[5]entradas!$C$150 -> 12150 | H188: =+[6]entradas!$C$150 -> 6234 | I188: =+[7]entradas!$C$150 -> 14510 | J188: =+[8]entradas!$C$150 -> 14805 | K188: =+[9]entradas!$C$150 -> 14484 | L188: =+[10]entradas!$C$150 -> 14372 | M188: =+[11]entradas!$C$150 -> 15241 | N188: =+[12]entradas!$C$150 -> 11659 | O188: =+[13]entradas!$C$150 -> 5899 | P188: =+[14]entradas!$C$150 -> 16259 | Q188: =+[15]entradas!$C$150 -> 17167 | R188: =+[16]entradas!$C$150 -> 16029 | S188: =+[17]entradas!$C$150 -> 15567 | T188: =+[18]entradas!$C$150 -> 16701 | U188: =+[19]entradas!$C$150 -> 12479 | V188: =+[20]entradas!$C$150 -> 6435 | W188: =+[21]entradas!$C$150 -> 15158 | X188: =+[22]entradas!$C$150 -> 15148 | Y188: =+[23]entradas!$C$150 -> 15173 | Z188: =+[24]entradas!$C$150 -> 16158 | AA188: =+[25]entradas!$C$150 -> 16196 | AB188: =+[26]entradas!$C$150 -> 12389 | AC188: =+[27]entradas!$C$150 -> 6366 | AD188: =+[28]entradas!$C$150 -> 16200 | AE188: =+[29]entradas!$C$150 -> 16848 | AF188: =+[30]entradas!$C$150 -> 16071 | AG188: =+[31]entradas!$C$150 -> 16044 | AH188: =+[32]entradas!$C$150 -> 16929 | AI188: =+[33]entradas!$C$150 -> 13058 | AJ188: =+[34]entradas!$C$150 -> 6624
A189: Entradas Alim. | C189: =SUM([1]entradas!$C$151:$C$156) -> 46277 | D189: =SUM([2]entradas!$C$151:$C$156) -> 46138 | E189: =SUM([3]entradas!$C$151:$C$156) -> 48149 | F189: =SUM([4]entradas!$C$151:$C$156) -> 47085 | G189: =SUM([5]entradas!$C$151:$C$156) -> 33404 | H189: =SUM([6]entradas!$C$151:$C$156) -> 14453 | I189: =SUM([7]entradas!$C$151:$C$156) -> 47144 | J189: =SUM([8]entradas!$C$151:$C$156) -> 48369 | K189: =SUM([9]entradas!$C$151:$C$156) -> 47774 | L189: =SUM([10]entradas!$C$151:$C$156) -> 48380 | M189: =SUM([11]entradas!$C$151:$C$156) -> 48709 | N189: =SUM([12]entradas!$C$151:$C$156) -> 33502 | O189: =SUM([13]entradas!$C$151:$C$156) -> 14262 | P189: =SUM([14]entradas!$C$151:$C$156) -> 48811 | Q189: =SUM([15]entradas!$C$151:$C$156) -> 47469 | R189: =SUM([16]entradas!$C$151:$C$156) -> 49242 | S189: =SUM([17]entradas!$C$151:$C$156) -> 49754 | T189: =SUM([18]entradas!$C$151:$C$156) -> 49828 | U189: =SUM([19]entradas!$C$151:$C$156) -> 34517 | V189: =SUM([20]entradas!$C$151:$C$156) -> 14860 | W189: =SUM([21]entradas!$C$151:$C$156) -> 48236 | X189: =SUM([22]entradas!$C$151:$C$156) -> 48428 | Y189: =SUM([23]entradas!$C$151:$C$156) -> 48531 | Z189: =SUM([24]entradas!$C$151:$C$156) -> 47023 | AA189: =SUM([25]entradas!$C$151:$C$156) -> 48957 | AB189: =SUM([26]entradas!$C$151:$C$156) -> 34723 | AC189: =SUM([27]entradas!$C$151:$C$156) -> 14768 | AD189: =SUM([28]entradas!$C$151:$C$156) -> 48357 | AE189: =SUM([29]entradas!$C$151:$C$156) -> 48769 | AF189: =SUM([30]entradas!$C$151:$C$156) -> 48661 | AG189: =SUM([31]entradas!$C$151:$C$156) -> 48588 | AH189: =SUM([32]entradas!$C$151:$C$156) -> 50005 | AI189: =SUM([33]entradas!$C$151:$C$156) -> 35354 | AJ189: =SUM([34]entradas!$C$151:$C$156) -> 14768
A190: Entradas Inter. | C190: =+[1]entradas!$C$157 -> 18169 | D190: =+[2]entradas!$C$157 -> 17991 | E190: =+[3]entradas!$C$157 -> 18412 | F190: =+[4]entradas!$C$157 -> 18708 | G190: =+[5]entradas!$C$157 -> 11880 | H190: =+[6]entradas!$C$157 -> 5152 | I190: =+[7]entradas!$C$157 -> 18440 | J190: =+[8]entradas!$C$157 -> 18440 | K190: =+[9]entradas!$C$157 -> 18180 | L190: =+[10]entradas!$C$157 -> 18228 | M190: =+[11]entradas!$C$157 -> 18310 | N190: =+[12]entradas!$C$157 -> 11885 | O190: =+[13]entradas!$C$157 -> 4967 | P190: =+[14]entradas!$C$157 -> 19753 | Q190: =+[15]entradas!$C$157 -> 19587 | R190: =+[16]entradas!$C$157 -> 19583 | S190: =+[17]entradas!$C$157 -> 19263 | T190: =+[18]entradas!$C$157 -> 18679 | U190: =+[19]entradas!$C$157 -> 11871 | V190: =+[20]entradas!$C$157 -> 5190 | W190: =+[21]entradas!$C$157 -> 18741 | X190: =+[22]entradas!$C$157 -> 18576 | Y190: =+[23]entradas!$C$157 -> 18463 | Z190: =+[24]entradas!$C$157 -> 18179 | AA190: =+[25]entradas!$C$157 -> 18755 | AB190: =+[26]entradas!$C$157 -> 12468 | AC190: =+[27]entradas!$C$157 -> 5130 | AD190: =+[28]entradas!$C$157 -> 18440 | AE190: =+[29]entradas!$C$157 -> 18721 | AF190: =+[30]entradas!$C$157 -> 19045 | AG190: =+[31]entradas!$C$157 -> 18854 | AH190: =+[32]entradas!$C$157 -> 19517 | AI190: =+[33]entradas!$C$157 -> 12643 | AJ190: =+[34]entradas!$C$157 -> 5376
A192: Portal USME
A193: Peatonal | C193: =+SUM([1]entradas!$E$150:$E$151) -> 4435 | D193: =+SUM([2]entradas!$E$150:$E$151) -> 4502 | E193: =+SUM([3]entradas!$E$150:$E$151) -> 4390 | F193: =+SUM([4]entradas!$E$150:$E$151) -> 4506 | G193: =+SUM([5]entradas!$E$150:$E$151) -> 3665 | H193: =+SUM([6]entradas!$E$150:$E$151) -> 1951 | I193: =+SUM([7]entradas!$E$150:$E$151) -> 4590 | J193: =+SUM([8]entradas!$E$150:$E$151) -> 4545 | K193: =+SUM([9]entradas!$E$150:$E$151) -> 4494 | L193: =+SUM([10]entradas!$E$150:$E$151) -> 4461 | M193: =+SUM([11]entradas!$E$150:$E$151) -> 4931 | N193: =+SUM([12]entradas!$E$150:$E$151) -> 3664 | O193: =+SUM([13]entradas!$E$150:$E$151) -> 1817 | P193: =+SUM([14]entradas!$E$150:$E$151) -> 4584 | Q193: =+SUM([15]entradas!$E$150:$E$151) -> 4622 | R193: =+SUM([16]entradas!$E$150:$E$151) -> 4755 | S193: =+SUM([17]entradas!$E$150:$E$151) -> 4700 | T193: =+SUM([18]entradas!$E$150:$E$151) -> 4892 | U193: =+SUM([19]entradas!$E$150:$E$151) -> 3670 | V193: =+SUM([20]entradas!$E$150:$E$151) -> 1893 | W193: =+SUM([21]entradas!$E$150:$E$151) -> 4720 | X193: =+SUM([22]entradas!$E$150:$E$151) -> 4736 | Y193: =+SUM([23]entradas!$E$150:$E$151) -> 4596 | Z193: =+SUM([24]entradas!$E$150:$E$151) -> 4704 | AA193: =+SUM([25]entradas!$E$150:$E$151) -> 4740 | AB193: =+SUM([26]entradas!$E$150:$E$151) -> 3763 | AC193: =+SUM([27]entradas!$E$150:$E$151) -> 1749 | AD193: =+SUM([28]entradas!$E$150:$E$151) -> 4909 | AE193: =+SUM([29]entradas!$E$150:$E$151) -> 5027 | AF193: =+SUM([30]entradas!$E$150:$E$151) -> 4977 | AG193: =+SUM([31]entradas!$E$150:$E$151) -> 4877 | AH193: =+SUM([32]entradas!$E$150:$E$151) -> 5124 | AI193: =+SUM([33]entradas!$E$150:$E$151) -> 3931 | AJ193: =+SUM([34]entradas!$E$150:$E$151) -> 1826
A194: Entradas Alim. | C194: =SUM([1]entradas!$E$152:$E$157) -> 39288 | D194: =SUM([2]entradas!$E$152:$E$157) -> 39331 | E194: =SUM([3]entradas!$E$152:$E$157) -> 38846 | F194: =SUM([4]entradas!$E$152:$E$157) -> 40370 | G194: =SUM([5]entradas!$E$152:$E$157) -> 30911 | H194: =SUM([6]entradas!$E$152:$E$157) -> 13524 | I194: =SUM([7]entradas!$E$152:$E$157) -> 40600 | J194: =SUM([8]entradas!$E$152:$E$157) -> 40531 | K194: =SUM([9]entradas!$E$152:$E$157) -> 40246 | L194: =SUM([10]entradas!$E$152:$E$157) -> 40260 | M194: =SUM([11]entradas!$E$152:$E$157) -> 40433 | N194: =SUM([12]entradas!$E$152:$E$157) -> 31222 | O194: =SUM([13]entradas!$E$152:$E$157) -> 13474 | P194: =SUM([14]entradas!$E$152:$E$157) -> 41356 | Q194: =SUM([15]entradas!$E$152:$E$157) -> 41400 | R194: =SUM([16]entradas!$E$152:$E$157) -> 41274 | S194: =SUM([17]entradas!$E$152:$E$157) -> 41750 | T194: =SUM([18]entradas!$E$152:$E$157) -> 42218 | U194: =SUM([19]entradas!$E$152:$E$157) -> 31908 | V194: =SUM([20]entradas!$E$152:$E$157) -> 13695 | W194: =SUM([21]entradas!$E$152:$E$157) -> 41713 | X194: =SUM([22]entradas!$E$152:$E$157) -> 42004 | Y194: =SUM([23]entradas!$E$152:$E$157) -> 41329 | Z194: =SUM([24]entradas!$E$152:$E$157) -> 41226 | AA194: =SUM([25]entradas!$E$152:$E$157) -> 42133 | AB194: =SUM([26]entradas!$E$152:$E$157) -> 31844 | AC194: =SUM([27]entradas!$E$152:$E$157) -> 13160 | AD194: =SUM([28]entradas!$E$152:$E$157) -> 42117 | AE194: =SUM([29]entradas!$E$152:$E$157) -> 42829 | AF194: =SUM([30]entradas!$E$152:$E$157) -> 43256 | AG194: =SUM([31]entradas!$E$152:$E$157) -> 42821 | AH194: =SUM([32]entradas!$E$152:$E$157) -> 43832 | AI194: =SUM([33]entradas!$E$152:$E$157) -> 32957 | AJ194: =SUM([34]entradas!$E$152:$E$157) -> 13805
A196: Portal NORTE
A197: Peatonal | C197: =+[1]entradas!$G$150 -> 27382 | D197: =+[2]entradas!$G$150 -> 28260 | E197: =+[3]entradas!$G$150 -> 26287 | F197: =+[4]entradas!$G$150 -> 29921 | G197: =+[5]entradas!$G$150 -> 22515 | H197: =+[6]entradas!$G$150 -> 13035 | I197: =+[7]entradas!$G$150 -> 29226 | J197: =+[8]entradas!$G$150 -> 28985 | K197: =+[9]entradas!$G$150 -> 29603 | L197: =+[10]entradas!$G$150 -> 29650 | M197: =+[11]entradas!$G$150 -> 30524 | N197: =+[12]entradas!$G$150 -> 21923 | O197: =+[13]entradas!$G$150 -> 12251 | P197: =+[14]entradas!$G$150 -> 29650 | Q197: =+[15]entradas!$G$150 -> 28553 | R197: =+[16]entradas!$G$150 -> 27640 | S197: =+[17]entradas!$G$150 -> 28069 | T197: =+[18]entradas!$G$150 -> 30544 | U197: =+[19]entradas!$G$150 -> 22543 | V197: =+[20]entradas!$G$150 -> 12629 | W197: =+[21]entradas!$G$150 -> 29781 | X197: =+[22]entradas!$G$150 -> 29502 | Y197: =+[23]entradas!$G$150 -> 29208 | Z197: =+[24]entradas!$G$150 -> 29499 | AA197: =+[25]entradas!$G$150 -> 31300 | AB197: =+[26]entradas!$G$150 -> 22650 | AC197: =+[27]entradas!$G$150 -> 12628 | AD197: =+[28]entradas!$G$150 -> 31063 | AE197: =+[29]entradas!$G$150 -> 29865 | AF197: =+[30]entradas!$G$150 -> 29989 | AG197: =+[31]entradas!$G$150 -> 32277 | AH197: =+[32]entradas!$G$150 -> 32046 | AI197: =+[33]entradas!$G$150 -> 24008 | AJ197: =+[34]entradas!$G$150 -> 12371
A198: Entradas Alim. | C198: =+SUM([1]entradas!$G$152,[1]entradas!$G$154:$G$155) -> 46919 | D198: =+SUM([2]entradas!$G$152,[2]entradas!$G$154:$G$155) -> 51813 | E198: =+SUM([3]entradas!$G$152,[3]entradas!$G$154:$G$155) -> 53289 | F198: =+SUM([4]entradas!$G$152,[4]entradas!$G$154:$G$155) -> 52995 | G198: =+SUM([5]entradas!$G$152,[5]entradas!$G$154:$G$155) -> 36696 | H198: =+SUM([6]entradas!$G$152,[6]entradas!$G$154:$G$155) -> 20551 | I198: =+SUM([7]entradas!$G$152,[7]entradas!$G$154:$G$155) -> 52016 | J198: =+SUM([8]entradas!$G$152,[8]entradas!$G$154:$G$155) -> 53340 | K198: =+SUM([9]entradas!$G$152,[9]entradas!$G$154:$G$155) -> 52048 | L198: =+SUM([10]entradas!$G$152,[10]entradas!$G$154:$G$155) -> 53340 | M198: =+SUM([11]entradas!$G$152,[11]entradas!$G$154:$G$155) -> 53949 | N198: =+SUM([12]entradas!$G$152,[12]entradas!$G$154:$G$155) -> 37225 | O198: =+SUM([13]entradas!$G$152,[13]entradas!$G$154:$G$155) -> 19605 | P198: =+SUM([14]entradas!$G$152,[14]entradas!$G$154:$G$155) -> 53248 | Q198: =+SUM([15]entradas!$G$152,[15]entradas!$G$154:$G$155) -> 52360 | R198: =+SUM([16]entradas!$G$152,[16]entradas!$G$154:$G$155) -> 53194 | S198: =+SUM([17]entradas!$G$152,[17]entradas!$G$154:$G$155) -> 53774 | T198: =+SUM([18]entradas!$G$152,[18]entradas!$G$154:$G$155) -> 54237 | U198: =+SUM([19]entradas!$G$152,[19]entradas!$G$154:$G$155) -> 38391 | V198: =+SUM([20]entradas!$G$152,[20]entradas!$G$154:$G$155) -> 20294 | W198: =+SUM([21]entradas!$G$152,[21]entradas!$G$154:$G$155) -> 52608 | X198: =+SUM([22]entradas!$G$152,[22]entradas!$G$154:$G$155) -> 53361 | Y198: =+SUM([23]entradas!$G$152,[23]entradas!$G$154:$G$155) -> 53524 | Z198: =+SUM([24]entradas!$G$152,[24]entradas!$G$154:$G$155) -> 52826 | AA198: =+SUM([25]entradas!$G$152,[25]entradas!$G$154:$G$155) -> 53584 | AB198: =+SUM([26]entradas!$G$152,[26]entradas!$G$154:$G$155) -> 37974 | AC198: =+SUM([27]entradas!$G$152,[27]entradas!$G$154:$G$155) -> 19707 | AD198: =+SUM([28]entradas!$G$152,[28]entradas!$G$154:$G$155) -> 52145 | AE198: =+SUM([29]entradas!$G$152,[29]entradas!$G$154:$G$155) -> 53985 | AF198: =+SUM([30]entradas!$G$152,[30]entradas!$G$154:$G$155) -> 52964 | AG198: =+SUM([31]entradas!$G$152,[31]entradas!$G$154:$G$155) -> 51055 | AH198: =+SUM([32]entradas!$G$152,[32]entradas!$G$154:$G$155) -> 54788 | AI198: =+SUM([33]entradas!$G$152,[33]entradas!$G$154:$G$155) -> 39558 | AJ198: =+SUM([34]entradas!$G$152,[34]entradas!$G$154:$G$155) -> 19568
A199: Entradas Inter. | C199: =+SUM([1]entradas!$G$151,[1]entradas!$G$153) -> 26347 | D199: =+SUM([2]entradas!$G$151,[2]entradas!$G$153) -> 28506 | E199: =+SUM([3]entradas!$G$151,[3]entradas!$G$153) -> 30215 | F199: =+SUM([4]entradas!$G$151,[4]entradas!$G$153) -> 29241 | G199: =+SUM([5]entradas!$G$151,[5]entradas!$G$153) -> 19055 | H199: =+SUM([6]entradas!$G$151,[6]entradas!$G$153) -> 10909 | I199: =+SUM([7]entradas!$G$151,[7]entradas!$G$153) -> 28740 | J199: =+SUM([8]entradas!$G$151,[8]entradas!$G$153) -> 29271 | K199: =+SUM([9]entradas!$G$151,[9]entradas!$G$153) -> 28137 | L199: =+SUM([10]entradas!$G$151,[10]entradas!$G$153) -> 28847 | M199: =+SUM([11]entradas!$G$151,[11]entradas!$G$153) -> 29503 | N199: =+SUM([12]entradas!$G$151,[12]entradas!$G$153) -> 19167 | O199: =+SUM([13]entradas!$G$151,[13]entradas!$G$153) -> 10281 | P199: =+SUM([14]entradas!$G$151,[14]entradas!$G$153) -> 29139 | Q199: =+SUM([15]entradas!$G$151,[15]entradas!$G$153) -> 28214 | R199: =+SUM([16]entradas!$G$151,[16]entradas!$G$153) -> 28532 | S199: =+SUM([17]entradas!$G$151,[17]entradas!$G$153) -> 28260 | T199: =+SUM([18]entradas!$G$151,[18]entradas!$G$153) -> 29412 | U199: =+SUM([19]entradas!$G$151,[19]entradas!$G$153) -> 19322 | V199: =+SUM([20]entradas!$G$151,[20]entradas!$G$153) -> 11063 | W199: =+SUM([21]entradas!$G$151,[21]entradas!$G$153) -> 29883 | X199: =+SUM([22]entradas!$G$151,[22]entradas!$G$153) -> 29361 | Y199: =+SUM([23]entradas!$G$151,[23]entradas!$G$153) -> 29025 | Z199: =+SUM([24]entradas!$G$151,[24]entradas!$G$153) -> 28763 | AA199: =+SUM([25]entradas!$G$151,[25]entradas!$G$153) -> 29694 | AB199: =+SUM([26]entradas!$G$151,[26]entradas!$G$153) -> 19467 | AC199: =+SUM([27]entradas!$G$151,[27]entradas!$G$153) -> 10275 | AD199: =+SUM([28]entradas!$G$151,[28]entradas!$G$153) -> 29193 | AE199: =+SUM([29]entradas!$G$151,[29]entradas!$G$153) -> 29257 | AF199: =+SUM([30]entradas!$G$151,[30]entradas!$G$153) -> 29071 | AG199: =+SUM([31]entradas!$G$151,[31]entradas!$G$153) -> 29223 | AH199: =+SUM([32]entradas!$G$151,[32]entradas!$G$153) -> 30493 | AI199: =+SUM([33]entradas!$G$151,[33]entradas!$G$153) -> 20401 | AJ199: =+SUM([34]entradas!$G$151,[34]entradas!$G$153) -> 10615
A201: Portal TUNAL
A202: Peatonal | C202: =+[1]entradas!$C$161 -> 2699 | D202: =+[2]entradas!$C$161 -> 2722 | E202: =+[3]entradas!$C$161 -> 2641 | F202: =+[4]entradas!$C$161 -> 3121 | G202: =+[5]entradas!$C$161 -> 2087 | H202: =+[6]entradas!$C$161 -> 1185 | I202: =+[7]entradas!$C$161 -> 2945 | J202: =+[8]entradas!$C$161 -> 3174 | K202: =+[9]entradas!$C$161 -> 2777 | L202: =+[10]entradas!$C$161 -> 2828 | M202: =+[11]entradas!$C$161 -> 3089 | N202: =+[12]entradas!$C$161 -> 2032 | O202: =+[13]entradas!$C$161 -> 1183 | P202: =+[14]entradas!$C$161 -> 4251 | Q202: =+[15]entradas!$C$161 -> 3028 | R202: =+[16]entradas!$C$161 -> 2841 | S202: =+[17]entradas!$C$161 -> 2911 | T202: =+[18]entradas!$C$161 -> 3002 | U202: =+[19]entradas!$C$161 -> 2117 | V202: =+[20]entradas!$C$161 -> 1243 | W202: =+[21]entradas!$C$161 -> 2970 | X202: =+[22]entradas!$C$161 -> 2870 | Y202: =+[23]entradas!$C$161 -> 2831 | Z202: =+[24]entradas!$C$161 -> 3846 | AA202: =+[25]entradas!$C$161 -> 3234 | AB202: =+[26]entradas!$C$161 -> 2082 | AC202: =+[27]entradas!$C$161 -> 1150 | AD202: =+[28]entradas!$C$161 -> 3091 | AE202: =+[29]entradas!$C$161 -> 2962 | AF202: =+[30]entradas!$C$161 -> 2954 | AG202: =+[31]entradas!$C$161 -> 2854 | AH202: =+[32]entradas!$C$161 -> 3179 | AI202: =+[33]entradas!$C$161 -> 2207 | AJ202: =+[34]entradas!$C$161 -> 1295
A203: Entradas Alim. | C203: =SUM([1]entradas!$C$162:$C$163) -> 44120 | D203: =SUM([2]entradas!$C$162:$C$163) -> 44204 | E203: =SUM([3]entradas!$C$162:$C$163) -> 43059 | F203: =SUM([4]entradas!$C$162:$C$163) -> 44786 | G203: =SUM([5]entradas!$C$162:$C$163) -> 34368 | H203: =SUM([6]entradas!$C$162:$C$163) -> 15998 | I203: =SUM([7]entradas!$C$162:$C$163) -> 45202 | J203: =SUM([8]entradas!$C$162:$C$163) -> 44224 | K203: =SUM([9]entradas!$C$162:$C$163) -> 45562 | L203: =SUM([10]entradas!$C$162:$C$163) -> 45875 | M203: =SUM([11]entradas!$C$162:$C$163) -> 45910 | N203: =SUM([12]entradas!$C$162:$C$163) -> 34340 | O203: =SUM([13]entradas!$C$162:$C$163) -> 14595 | P203: =SUM([14]entradas!$C$162:$C$163) -> 43483 | Q203: =SUM([15]entradas!$C$162:$C$163) -> 46779 | R203: =SUM([16]entradas!$C$162:$C$163) -> 47963 | S203: =SUM([17]entradas!$C$162:$C$163) -> 47239 | T203: =SUM([18]entradas!$C$162:$C$163) -> 47569 | U203: =SUM([19]entradas!$C$162:$C$163) -> 35592 | V203: =SUM([20]entradas!$C$162:$C$163) -> 15479 | W203: =SUM([21]entradas!$C$162:$C$163) -> 46307 | X203: =SUM([22]entradas!$C$162:$C$163) -> 47159 | Y203: =SUM([23]entradas!$C$162:$C$163) -> 46511 | Z203: =SUM([24]entradas!$C$162:$C$163) -> 43781 | AA203: =SUM([25]entradas!$C$162:$C$163) -> 47099 | AB203: =SUM([26]entradas!$C$162:$C$163) -> 35326 | AC203: =SUM([27]entradas!$C$162:$C$163) -> 15468 | AD203: =SUM([28]entradas!$C$162:$C$163) -> 47919 | AE203: =SUM([29]entradas!$C$162:$C$163) -> 48310 | AF203: =SUM([30]entradas!$C$162:$C$163) -> 47923 | AG203: =SUM([31]entradas!$C$162:$C$163) -> 47439 | AH203: =SUM([32]entradas!$C$162:$C$163) -> 48489 | AI203: =SUM([33]entradas!$C$162:$C$163) -> 36644 | AJ203: =SUM([34]entradas!$C$162:$C$163) -> 15488
A205: Portal AMÉRICAS
A206: Peatonal | C206: =+[35]entradas!$C$99 -> 9236 | D206: =+[36]entradas!$C$99 -> 9321 | E206: =+[37]entradas!$C$99 -> 9180 | F206: =+[38]entradas!$C$99 -> 9377 | G206: =+[39]entradas!$C$99 -> 6620 | H206: =+[40]entradas!$C$99 -> 2558 | I206: =+[41]entradas!$C$99 -> 9664 | J206: =+[42]entradas!$C$99 -> 9960 | K206: =+[43]entradas!$C$99 -> 10029 | L206: =+[44]entradas!$C$99 -> 9660 | M206: =+[45]entradas!$C$99 -> 9666 | N206: =+[46]entradas!$C$99 -> 6698 | O206: =+[47]entradas!$C$99 -> 2369 | P206: =+[48]entradas!$C$99 -> 8705 | Q206: =+[49]entradas!$C$99 -> 2203 | R206: =+[50]entradas!$C$99 -> 6227 | S206: =+[51]entradas!$C$99 -> 6733 | T206: =+[52]entradas!$C$99 -> 9376 | U206: =+[53]entradas!$C$99 -> 6690 | V206: =+[54]entradas!$C$99 -> 2393 | W206: =+[55]entradas!$C$99 -> 9571 | X206: =+[56]entradas!$C$99 -> 9634 | Y206: =+[57]entradas!$C$99 -> 9755 | Z206: =+[58]entradas!$C$99 -> 9543 | AA206: =+[59]entradas!$C$99 -> 9786 | AB206: =+[60]entradas!$C$99 -> 7010 | AC206: =+[61]entradas!$C$99 -> 2477 | AD206: =+[62]entradas!$C$99 -> 10059 | AE206: =+[63]entradas!$C$99 -> 10224 | AF206: =+[64]entradas!$C$99 -> 10359 | AG206: =+[65]entradas!$C$99 -> 10286 | AH206: =+[66]entradas!$C$99 -> 10234 | AI206: =+[67]entradas!$C$99 -> 7377 | AJ206: =+[68]entradas!$C$99 -> 2522
A207: Bicicletas | C207: =+[35]entradas!$C$100 -> 238 | D207: =+[36]entradas!$C$100 -> 247 | E207: =+[37]entradas!$C$100 -> 224 | F207: =+[38]entradas!$C$100 -> 255 | G207: =+[39]entradas!$C$100 -> 150 | H207: =+[40]entradas!$C$100 -> 40 | I207: =+[41]entradas!$C$100 -> 255 | J207: =+[42]entradas!$C$100 -> 273 | K207: =+[43]entradas!$C$100 -> 184 | L207: =+[44]entradas!$C$100 -> 275 | M207: =+[45]entradas!$C$100 -> 268 | N207: =+[46]entradas!$C$100 -> 157 | O207: =+[47]entradas!$C$100 -> 59 | P207: =+[48]entradas!$C$100 -> 218 | Q207: =+[49]entradas!$C$100 -> 56 | R207: =+[50]entradas!$C$100 -> 108 | S207: =+[51]entradas!$C$100 -> 142 | T207: =+[52]entradas!$C$100 -> 211 | U207: =+[53]entradas!$C$100 -> 149 | V207: =+[54]entradas!$C$100 -> 40 | W207: =+[55]entradas!$C$100 -> 250 | X207: =+[56]entradas!$C$100 -> 252 | Y207: =+[57]entradas!$C$100 -> 263 | Z207: =+[58]entradas!$C$100 -> 257 | AA207: =+[59]entradas!$C$100 -> 249 | AB207: =+[60]entradas!$C$100 -> 158 | AC207: =+[61]entradas!$C$100 -> 45 | AD207: =+[62]entradas!$C$100 -> 262 | AE207: =+[63]entradas!$C$100 -> 157 | AF207: =+[64]entradas!$C$100 -> 220 | AG207: =+[65]entradas!$C$100 -> 260 | AH207: =+[66]entradas!$C$100 -> 244 | AI207: =+[67]entradas!$C$100 -> 155 | AJ207: =+[68]entradas!$C$100 -> 46
A208: Plat 3 Alim | C208: =SUM([35]entradas!$C$108:$C$109) -> 9008 | D208: =SUM([36]entradas!$C$108:$C$109) -> 9110 | E208: =SUM([37]entradas!$C$108:$C$109) -> 8855 | F208: =SUM([38]entradas!$C$108:$C$109) -> 9059 | G208: =SUM([39]entradas!$C$108:$C$109) -> 6890 | H208: =SUM([40]entradas!$C$108:$C$109) -> 3262 | I208: =SUM([41]entradas!$C$108:$C$109) -> 8918 | J208: =SUM([42]entradas!$C$108:$C$109) -> 9021 | K208: =SUM([43]entradas!$C$108:$C$109) -> 9163 | L208: =SUM([44]entradas!$C$108:$C$109) -> 8879 | M208: =SUM([45]entradas!$C$108:$C$109) -> 9134 | N208: =SUM([46]entradas!$C$108:$C$109) -> 6843 | O208: =SUM([47]entradas!$C$108:$C$109) -> 3036 | P208: =SUM([48]entradas!$C$108:$C$109) -> 7690 | Q208: =SUM([49]entradas!$C$108:$C$109) -> 902 | R208: =SUM([50]entradas!$C$108:$C$109) -> 4144 | S208: =SUM([51]entradas!$C$108:$C$109) -> 5533 | T208: =SUM([52]entradas!$C$108:$C$109) -> 8569 | U208: =SUM([53]entradas!$C$108:$C$109) -> 6479 | V208: =SUM([54]entradas!$C$108:$C$109) -> 2977 | W208: =SUM([55]entradas!$C$108:$C$109) -> 8988 | X208: =SUM([56]entradas!$C$108:$C$109) -> 8849 | Y208: =SUM([57]entradas!$C$108:$C$109) -> 8696 | Z208: =SUM([58]entradas!$C$108:$C$109) -> 8653 | AA208: =SUM([59]entradas!$C$108:$C$109) -> 8988 | AB208: =SUM([60]entradas!$C$108:$C$109) -> 6799 | AC208: =SUM([61]entradas!$C$108:$C$109) -> 2944 | AD208: =SUM([62]entradas!$C$108:$C$109) -> 8770 | AE208: =SUM([63]entradas!$C$108:$C$109) -> 8919 | AF208: =SUM([64]entradas!$C$108:$C$109) -> 9310 | AG208: =SUM([65]entradas!$C$108:$C$109) -> 9031 | AH208: =SUM([66]entradas!$C$108:$C$109) -> 9391 | AI208: =SUM([67]entradas!$C$108:$C$109) -> 6958 | AJ208: =SUM([68]entradas!$C$108:$C$109) -> 3169
A209: Entradas Alim. | C209: =SUM([35]entradas!$C$101:$C$107) -> 40236 | D209: =SUM([36]entradas!$C$101:$C$107) -> 40605 | E209: =SUM([37]entradas!$C$101:$C$107) -> 38979 | F209: =SUM([38]entradas!$C$101:$C$107) -> 40609 | G209: =SUM([39]entradas!$C$101:$C$107) -> 29426 | H209: =SUM([40]entradas!$C$101:$C$107) -> 12002 | I209: =SUM([41]entradas!$C$101:$C$107) -> 41295 | J209: =SUM([42]entradas!$C$101:$C$107) -> 41214 | K209: =SUM([43]entradas!$C$101:$C$107) -> 41426 | L209: =SUM([44]entradas!$C$101:$C$107) -> 41365 | M209: =SUM([45]entradas!$C$101:$C$107) -> 41286 | N209: =SUM([46]entradas!$C$101:$C$107) -> 29690 | O209: =SUM([47]entradas!$C$101:$C$107) -> 11721 | P209: =SUM([48]entradas!$C$101:$C$107) -> 36553 | Q209: =SUM([49]entradas!$C$101:$C$107) -> 5200 | R209: =SUM([50]entradas!$C$101:$C$107) -> 22716 | S209: =SUM([51]entradas!$C$101:$C$107) -> 27216 | T209: =SUM([52]entradas!$C$101:$C$107) -> 40454 | U209: =SUM([53]entradas!$C$101:$C$107) -> 29591 | V209: =SUM([54]entradas!$C$101:$C$107) -> 11845 | W209: =SUM([55]entradas!$C$101:$C$107) -> 41549 | X209: =SUM([56]entradas!$C$101:$C$107) -> 41475 | Y209: =SUM([57]entradas!$C$101:$C$107) -> 41213 | Z209: =SUM([58]entradas!$C$101:$C$107) -> 40861 | AA209: =SUM([59]entradas!$C$101:$C$107) -> 42068 | AB209: =SUM([60]entradas!$C$101:$C$107) -> 29502 | AC209: =SUM([61]entradas!$C$101:$C$107) -> 11493 | AD209: =SUM([62]entradas!$C$101:$C$107) -> 41634 | AE209: =SUM([63]entradas!$C$101:$C$107) -> 42420 | AF209: =SUM([64]entradas!$C$101:$C$107) -> 43029 | AG209: =SUM([65]entradas!$C$101:$C$107) -> 42445 | AH209: =SUM([66]entradas!$C$101:$C$107) -> 43286 | AI209: =SUM([67]entradas!$C$101:$C$107) -> 30785 | AJ209: =SUM([68]entradas!$C$101:$C$107) -> 12202
A211: PORTAL SUR
A212: Peatonal | C212: =[35]entradas!$F$99 -> 18239 | D212: =[36]entradas!$F$99 -> 18136 | E212: =[37]entradas!$F$99 -> 17708 | F212: =[38]entradas!$F$99 -> 18355 | G212: =[39]entradas!$F$99 -> 12645 | H212: =[40]entradas!$F$99 -> 6037 | I212: =[41]entradas!$F$99 -> 18892 | J212: =[42]entradas!$F$99 -> 18691 | K212: =[43]entradas!$F$99 -> 18886 | L212: =[44]entradas!$F$99 -> 19122 | M212: =[45]entradas!$F$99 -> 19499 | N212: =[46]entradas!$F$99 -> 12814 | O212: =[47]entradas!$F$99 -> 5668 | P212: =[48]entradas!$F$99 -> 19630 | Q212: =[49]entradas!$F$99 -> 20854 | R212: =[50]entradas!$F$99 -> 19852 | S212: =[51]entradas!$F$99 -> 19773 | T212: =[52]entradas!$F$99 -> 19897 | U212: =[53]entradas!$F$99 -> 13364 | V212: =[54]entradas!$F$99 -> 5990 | W212: =[55]entradas!$F$99 -> 20104 | X212: =[56]entradas!$F$99 -> 19662 | Y212: =[57]entradas!$F$99 -> 19444 | Z212: =[58]entradas!$F$99 -> 19386 | AA212: =[59]entradas!$F$99 -> 20174 | AB212: =[60]entradas!$F$99 -> 13566 | AC212: =[61]entradas!$F$99 -> 5670 | AD212: =[62]entradas!$F$99 -> 20304 | AE212: =[63]entradas!$F$99 -> 20180 | AF212: =[64]entradas!$F$99 -> 20464 | AG212: =[65]entradas!$F$99 -> 21462 | AH212: =[66]entradas!$F$99 -> 21269 | AI212: =[67]entradas!$F$99 -> 14072 | AJ212: =[68]entradas!$F$99 -> 6010
...

Sheet Salidas
A1: SALIDAS | B1: SALIDAS | C1: Martes | D1: Miércoles | E1: Jueves | F1: Viernes | G1: Sábado | H1: Domingo | I1: Lunes | J1: Martes | K1: Miércoles | L1: Jueves | M1: Viernes | N1: Sábado | O1: Domingo | P1: Lunes | Q1: Martes | R1: Miércoles | S1: Jueves | T1: Viernes | U1: Sábado | V1: Domingo | W1: Lunes | X1: Martes | Y1: Miércoles | Z1: Jueves | AA1: Viernes | AB1: Sábado | AC1: Domingo | AD1: Lunes | AE1: Martes | AF1: Miércoles | AG1: Jueves | AH1: Viernes | AI1: Sábado | AJ1: Domingo
A2: ESTACIÓN | C2: 40575 | D2: 40576 | E2: 40577 | F2: 40578 | G2: 40579 | H2: 40580 | I2: 40581 | J2: 40582 | K2: 40583 | L2: 40584 | M2: 40585 | N2: 40586 | O2: 40587 | P2: 40588 | Q2: 40589 | R2: 40590 | S2: 40591 | T2: 40592 | U2: 40593 | V2: 40594 | W2: 40595 | X2: 40596 | Y2: 40597 | Z2: 40598 | AA2: 40599 | AB2: 40600 | AC2: 40601 | AD2: 40602 | AE2: 40603 | AF2: 40604 | AG2: 40605 | AH2: 40606 | AI2: 40607 | AJ2: 40608
A3: FASE 1 | B3: PORTAL 80 | C3: =[1]Salidas!$D$11 -> 87005 | D3: =[2]Salidas!$D$11 -> 86665 | E3: =[3]Salidas!$D$11 -> 84939 | F3: =[4]Salidas!$D$11 -> 85709 | G3: =[5]Salidas!$D$11 -> 63518 | H3: =[6]Salidas!$D$11 -> 32069 | I3: =[7]Salidas!$D$11 -> 87278 | J3: =[8]Salidas!$D$11 -> 88271 | K3: =[9]Salidas!$D$11 -> 86566 | L3: =[10]Salidas!$D$11 -> 86361 | M3: =[11]Salidas!$D$11 -> 85309 | N3: =[12]Salidas!$D$11 -> 63464 | O3: =[13]Salidas!$D$11 -> 31089 | P3: =[14]Salidas!$D$11 -> 91883 | Q3: =[15]Salidas!$D$11 -> 90312 | R3: =[16]Salidas!$D$11 -> 92424 | S3: =[17]Salidas!$D$11 -> 89447 | T3: =[18]Salidas!$D$11 -> 89182 | U3: =[19]Salidas!$D$11 -> 64769 | V3: =[20]Salidas!$D$11 -> 33250 | W3: =[21]Salidas!$D$11 -> 88839 | X3: =[22]Salidas!$D$11 -> 90250 | Y3: =[23]Salidas!$D$11 -> 88157 | Z3: =[24]Salidas!$D$11 -> 88116 | AA3: =[25]Salidas!$D$11 -> 87770 | AB3: =[26]Salidas!$D$11 -> 66145 | AC3: =[27]Salidas!$D$11 -> 32494 | AD3: =[28]Salidas!$D$11 -> 89361 | AE3: =[29]Salidas!$D$11 -> 89925 | AF3: =[30]Salidas!$D$11 -> 90314 | AG3: =[31]Salidas!$D$11 -> 88431 | AH3: =[32]Salidas!$D$11 -> 88818 | AI3: =[33]Salidas!$D$11 -> 66886 | AJ3: =[34]Salidas!$D$11 -> 32320
B4: QUIRIGUA | C4: =+[1]Salidas!$D20 -> 5696 | D4: =+[2]Salidas!$D20 -> 5568 | E4: =+[3]Salidas!$D20 -> 5318 | F4: =+[4]Salidas!$D20 -> 5569 | G4: =+[5]Salidas!$D20 -> 4260 | H4: =+[6]Salidas!$D20 -> 2560 | I4: =+[7]Salidas!$D20 -> 5455 | J4: =+[8]Salidas!$D20 -> 5502 | K4: =+[9]Salidas!$D20 -> 5395 | L4: =+[10]Salidas!$D20 -> 5417 | M4: =+[11]Salidas!$D20 -> 5183 | N4: =+[12]Salidas!$D20 -> 4295 | O4: =+[13]Salidas!$D20 -> 2356 | P4: =+[14]Salidas!$D20 -> 5543 | Q4: =+[15]Salidas!$D20 -> 5747 | R4: =+[16]Salidas!$D20 -> 5445 | S4: =+[17]Salidas!$D20 -> 5541 | T4: =+[18]Salidas!$D20 -> 5684 | U4: =+[19]Salidas!$D20 -> 4402 | V4: =+[20]Salidas!$D20 -> 2689 | W4: =+[21]Salidas!$D20 -> 5534 | X4: =+[22]Salidas!$D20 -> 5503 | Y4: =+[23]Salidas!$D20 -> 5540 | Z4: =+[24]Salidas!$D20 -> 5379 | AA4: =+[25]Salidas!$D20 -> 5532 | AB4: =+[26]Salidas!$D20 -> 4279 | AC4: =+[27]Salidas!$D20 -> 2599 | AD4: =+[28]Salidas!$D20 -> 5607 | AE4: =+[29]Salidas!$D20 -> 5882 | AF4: =+[30]Salidas!$D20 -> 5651 | AG4: =+[31]Salidas!$D20 -> 5879 | AH4: =+[32]Salidas!$D20 -> 5702 | AI4: =+[33]Salidas!$D20 -> 4513 | AJ4: =+[34]Salidas!$D20 -> 2685
B5: CARRERA 90 | C5: =+[1]Salidas!$D21 -> 5591 | D5: =+[2]Salidas!$D21 -> 5513 | E5: =+[3]Salidas!$D21 -> 5632 | F5: =+[4]Salidas!$D21 -> 5426 | G5: =+[5]Salidas!$D21 -> 3617 | H5: =+[6]Salidas!$D21 -> 1334 | I5: =+[7]Salidas!$D21 -> 5418 | J5: =+[8]Salidas!$D21 -> 5548 | K5: =+[9]Salidas!$D21 -> 5419 | L5: =+[10]Salidas!$D21 -> 5542 | M5: =+[11]Salidas!$D21 -> 5302 | N5: =+[12]Salidas!$D21 -> 3854 | O5: =+[13]Salidas!$D21 -> 1336 | P5: =+[14]Salidas!$D21 -> 5663 | Q5: =+[15]Salidas!$D21 -> 5735 | R5: =+[16]Salidas!$D21 -> 5646 | S5: =+[17]Salidas!$D21 -> 5748 | T5: =+[18]Salidas!$D21 -> 5610 | U5: =+[19]Salidas!$D21 -> 3790 | V5: =+[20]Salidas!$D21 -> 1405 | W5: =+[21]Salidas!$D21 -> 5872 | X5: =+[22]Salidas!$D21 -> 5874 | Y5: =+[23]Salidas!$D21 -> 5491 | Z5: =+[24]Salidas!$D21 -> 5603 | AA5: =+[25]Salidas!$D21 -> 5298 | AB5: =+[26]Salidas!$D21 -> 3746 | AC5: =+[27]Salidas!$D21 -> 1395 | AD5: =+[28]Salidas!$D21 -> 5721 | AE5: =+[29]Salidas!$D21 -> 5847 | AF5: =+[30]Salidas!$D21 -> 5811 | AG5: =+[31]Salidas!$D21 -> 5730 | AH5: =+[32]Salidas!$D21 -> 5648 | AI5: =+[33]Salidas!$D21 -> 3877 | AJ5: =+[34]Salidas!$D21 -> 1373
B6: AV. CIUD. DE CALI TAQ | C6: =+[1]Salidas!$D22 -> 8671 | D6: =+[2]Salidas!$D22 -> 8869 | E6: =+[3]Salidas!$D22 -> 8479 | F6: =+[4]Salidas!$D22 -> 8618 | G6: =+[5]Salidas!$D22 -> 6418 | H6: =+[6]Salidas!$D22 -> 3239 | I6: =+[7]Salidas!$D22 -> 8604 | J6: =+[8]Salidas!$D22 -> 8993 | K6: =+[9]Salidas!$D22 -> 8829 | L6: =+[10]Salidas!$D22 -> 8919 | M6: =+[11]Salidas!$D22 -> 8651 | N6: =+[12]Salidas!$D22 -> 6829 | O6: =+[13]Salidas!$D22 -> 3065 | P6: =+[14]Salidas!$D22 -> 8902 | Q6: =+[15]Salidas!$D22 -> 9067 | R6: =+[16]Salidas!$D22 -> 9293 | S6: =+[17]Salidas!$D22 -> 9121 | T6: =+[18]Salidas!$D22 -> 8906 | U6: =+[19]Salidas!$D22 -> 6806 | V6: =+[20]Salidas!$D22 -> 3218 | W6: =+[21]Salidas!$D22 -> 9008 | X6: =+[22]Salidas!$D22 -> 9039 | Y6: =+[23]Salidas!$D22 -> 9032 | Z6: =+[24]Salidas!$D22 -> 8948 | AA6: =+[25]Salidas!$D22 -> 8853 | AB6: =+[26]Salidas!$D22 -> 6541 | AC6: =+[27]Salidas!$D22 -> 3170 | AD6: =+[28]Salidas!$D22 -> 9012 | AE6: =+[29]Salidas!$D22 -> 9330 | AF6: =+[30]Salidas!$D22 -> 9236 | AG6: =+[31]Salidas!$D22 -> 9313 | AH6: =+[32]Salidas!$D22 -> 9069 | AI6: =+[33]Salidas!$D22 -> 6974 | AJ6: =+[34]Salidas!$D22 -> 3119
B7: AV. CIUD. DE CALI ALI | C7: =+[1]Salidas!$D23 -> 5179 | D7: =+[2]Salidas!$D23 -> 5032 | E7: =+[3]Salidas!$D23 -> 4932 | F7: =+[4]Salidas!$D23 -> 5012 | G7: =+[5]Salidas!$D23 -> 4203 | H7: =+[6]Salidas!$D23 -> 2387 | I7: =+[7]Salidas!$D23 -> 5167 | J7: =+[8]Salidas!$D23 -> 5234 | K7: =+[9]Salidas!$D23 -> 5028 | L7: =+[10]Salidas!$D23 -> 5707 | M7: =+[11]Salidas!$D23 -> 4357 | N7: =+[12]Salidas!$D23 -> 3832 | O7: =+[13]Salidas!$D23 -> 2258 | P7: =+[14]Salidas!$D23 -> 5145 | Q7: =+[15]Salidas!$D23 -> 4752 | R7: =+[16]Salidas!$D23 -> 4580 | S7: =+[17]Salidas!$D23 -> 4865 | T7: =+[18]Salidas!$D23 -> 6244 | U7: =+[19]Salidas!$D23 -> 4078 | V7: =+[20]Salidas!$D23 -> 2163 | W7: =+[21]Salidas!$D23 -> 5020 | X7: =+[22]Salidas!$D23 -> 5424 | Y7: =+[23]Salidas!$D23 -> 5260 | Z7: =+[24]Salidas!$D23 -> 5149 | AA7: =+[25]Salidas!$D23 -> 5482 | AB7: =+[26]Salidas!$D23 -> 3451 | AC7: =+[27]Salidas!$D23 -> 2278 | AD7: =+[28]Salidas!$D23 -> 5851 | AE7: =+[29]Salidas!$D23 -> 5355 | AF7: =+[30]Salidas!$D23 -> 4859 | AG7: =+[31]Salidas!$D23 -> 4945 | AH7: =+[32]Salidas!$D23 -> 4988 | AI7: =+[33]Salidas!$D23 -> 3902 | AJ7: =+[34]Salidas!$D23 -> 2281
B8: LA GRANJA | C8: =+[1]Salidas!$D24 -> 4223 | D8: =+[2]Salidas!$D24 -> 4259 | E8: =+[3]Salidas!$D24 -> 4162 | F8: =+[4]Salidas!$D24 -> 3889 | G8: =+[5]Salidas!$D24 -> 3067 | H8: =+[6]Salidas!$D24 -> 1447 | I8: =+[7]Salidas!$D24 -> 4163 | J8: =+[8]Salidas!$D24 -> 3444 | K8: =+[9]Salidas!$D24 -> 4154 | L8: =+[10]Salidas!$D24 -> 4193 | M8: =+[11]Salidas!$D24 -> 4189 | N8: =+[12]Salidas!$D24 -> 3185 | O8: =+[13]Salidas!$D24 -> 1396 | P8: =+[14]Salidas!$D24 -> 4282 | Q8: =+[15]Salidas!$D24 -> 4169 | R8: =+[16]Salidas!$D24 -> 4321 | S8: =+[17]Salidas!$D24 -> 4271 | T8: =+[18]Salidas!$D24 -> 4232 | U8: =+[19]Salidas!$D24 -> 3022 | V8: =+[20]Salidas!$D24 -> 1484 | W8: =+[21]Salidas!$D24 -> 4154 | X8: =+[22]Salidas!$D24 -> 4190 | Y8: =+[23]Salidas!$D24 -> 4170 | Z8: =+[24]Salidas!$D24 -> 4127 | AA8: =+[25]Salidas!$D24 -> 4149 | AB8: =+[26]Salidas!$D24 -> 3181 | AC8: =+[27]Salidas!$D24 -> 1528 | AD8: =+[28]Salidas!$D24 -> 4340 | AE8: =+[29]Salidas!$D24 -> 4245 | AF8: =+[30]Salidas!$D24 -> 4325 | AG8: =+[31]Salidas!$D24 -> 4329 | AH8: =+[32]Salidas!$D24 -> 4151 | AI8: =+[33]Salidas!$D24 -> 3228 | AJ8: =+[34]Salidas!$D24 -> 1505
B9: CARRERA 77 TAQ | C9: =+[1]Salidas!$D25 -> 15863 | D9: =+[2]Salidas!$D25 -> 16438 | E9: =+[3]Salidas!$D25 -> 16067 | F9: =+[4]Salidas!$D25 -> 16546 | G9: =+[5]Salidas!$D25 -> 12071 | H9: =+[6]Salidas!$D25 -> 5629 | I9: =+[7]Salidas!$D25 -> 16654 | J9: =+[8]Salidas!$D25 -> 16610 | K9: =+[9]Salidas!$D25 -> 16150 | L9: =+[10]Salidas!$D25 -> 16395 | M9: =+[11]Salidas!$D25 -> 16400 | N9: =+[12]Salidas!$D25 -> 12275 | O9: =+[13]Salidas!$D25 -> 5696 | P9: =+[14]Salidas!$D25 -> 17006 | Q9: =+[15]Salidas!$D25 -> 17278 | R9: =+[16]Salidas!$D25 -> 17526 | S9: =+[17]Salidas!$D25 -> 17456 | T9: =+[18]Salidas!$D25 -> 17010 | U9: =+[19]Salidas!$D25 -> 11666 | V9: =+[20]Salidas!$D25 -> 5748 | W9: =+[21]Salidas!$D25 -> 17036 | X9: =+[22]Salidas!$D25 -> 16897 | Y9: =+[23]Salidas!$D25 -> 16946 | Z9: =+[24]Salidas!$D25 -> 16778 | AA9: =+[25]Salidas!$D25 -> 16894 | AB9: =+[26]Salidas!$D25 -> 12300 | AC9: =+[27]Salidas!$D25 -> 5753 | AD9: =+[28]Salidas!$D25 -> 16889 | AE9: =+[29]Salidas!$D25 -> 17602 | AF9: =+[30]Salidas!$D25 -> 17372 | AG9: =+[31]Salidas!$D25 -> 17438 | AH9: =+[32]Salidas!$D25 -> 17248 | AI9: =+[33]Salidas!$D25 -> 12836 | AJ9: =+[34]Salidas!$D25 -> 5851
B10: CARRERA 77 ALIM.NORTE | C10: =+[1]Salidas!$D26 -> 13660 | D10: =+[2]Salidas!$D26 -> 13791 | E10: =+[3]Salidas!$D26 -> 13615 | F10: =+[4]Salidas!$D26 -> 13527 | G10: =+[5]Salidas!$D26 -> 9786 | H10: =+[6]Salidas!$D26 -> 5591 | I10: =+[7]Salidas!$D26 -> 14166 | J10: =+[8]Salidas!$D26 -> 14118 | K10: =+[9]Salidas!$D26 -> 13429 | L10: =+[10]Salidas!$D26 -> 13706 | M10: =+[11]Salidas!$D26 -> 13017 | N10: =+[12]Salidas!$D26 -> 10157 | O10: =+[13]Salidas!$D26 -> 5598 | P10: =+[14]Salidas!$D26 -> 14367 | Q10: =+[15]Salidas!$D26 -> 13868 | R10: =+[16]Salidas!$D26 -> 13491 | S10: =+[17]Salidas!$D26 -> 13185 | T10: =+[18]Salidas!$D26 -> 13560 | U10: =+[19]Salidas!$D26 -> 9812 | V10: =+[20]Salidas!$D26 -> 5971 | W10: =+[21]Salidas!$D26 -> 14078 | X10: =+[22]Salidas!$D26 -> 14256 | Y10: =+[23]Salidas!$D26 -> 13469 | Z10: =+[24]Salidas!$D26 -> 13729 | AA10: =+[25]Salidas!$D26 -> 13293 | AB10: =+[26]Salidas!$D26 -> 9952 | AC10: =+[27]Salidas!$D26 -> 5802 | AD10: =+[28]Salidas!$D26 -> 14026 | AE10: =+[29]Salidas!$D26 -> 13662 | AF10: =+[30]Salidas!$D26 -> 13023 | AG10: =+[31]Salidas!$D26 -> 14099 | AH10: =+[32]Salidas!$D26 -> 13353 | AI10: =+[33]Salidas!$D26 -> 9736 | AJ10: =+[34]Salidas!$D26 -> 5834
B11: CARRERA 77 ALIM.SUR | C11: =+[1]Salidas!$D27 -> 6929 | D11: =+[2]Salidas!$D27 -> 6835 | E11: =+[3]Salidas!$D27 -> 6551 | F11: =+[4]Salidas!$D27 -> 6862 | G11: =+[5]Salidas!$D27 -> 4782 | H11: =+[6]Salidas!$D27 -> 2906 | I11: =+[7]Salidas!$D27 -> 6233 | J11: =+[8]Salidas!$D27 -> 6932 | K11: =+[9]Salidas!$D27 -> 6553 | L11: =+[10]Salidas!$D27 -> 6603 | M11: =+[11]Salidas!$D27 -> 6697 | N11: =+[12]Salidas!$D27 -> 4357 | O11: =+[13]Salidas!$D27 -> 2709 | P11: =+[14]Salidas!$D27 -> 6915 | Q11: =+[15]Salidas!$D27 -> 7385 | R11: =+[16]Salidas!$D27 -> 5739 | S11: =+[17]Salidas!$D27 -> 6861 | T11: =+[18]Salidas!$D27 -> 6771 | U11: =+[19]Salidas!$D27 -> 4718 | V11: =+[20]Salidas!$D27 -> 2830 | W11: =+[21]Salidas!$D27 -> 6805 | X11: =+[22]Salidas!$D27 -> 6861 | Y11: =+[23]Salidas!$D27 -> 6926 | Z11: =+[24]Salidas!$D27 -> 6893 | AA11: =+[25]Salidas!$D27 -> 5770 | AB11: =+[26]Salidas!$D27 -> 4800 | AC11: =+[27]Salidas!$D27 -> 2786 | AD11: =+[28]Salidas!$D27 -> 6686 | AE11: =+[29]Salidas!$D27 -> 7295 | AF11: =+[30]Salidas!$D27 -> 6850 | AG11: =+[31]Salidas!$D27 -> 6989 | AH11: =+[32]Salidas!$D27 -> 6790 | AI11: =+[33]Salidas!$D27 -> 4956 | AJ11: =+[34]Salidas!$D27 -> 2686
B12: MINUTO DE DIOS | C12: =+[1]Salidas!$D28 -> 7841 | D12: =+[2]Salidas!$D28 -> 7529 | E12: =+[3]Salidas!$D28 -> 7835 | F12: =+[4]Salidas!$D28 -> 7974 | G12: =+[5]Salidas!$D28 -> 4571 | H12: =+[6]Salidas!$D28 -> 1542 | I12: =+[7]Salidas!$D28 -> 7863 | J12: =+[8]Salidas!$D28 -> 7776 | K12: =+[9]Salidas!$D28 -> 7832 | L12: =+[10]Salidas!$D28 -> 7986 | M12: =+[11]Salidas!$D28 -> 8059 | N12: =+[12]Salidas!$D28 -> 4565 | O12: =+[13]Salidas!$D28 -> 1335 | P12: =+[14]Salidas!$D28 -> 7910 | Q12: =+[15]Salidas!$D28 -> 8031 | R12: =+[16]Salidas!$D28 -> 7964 | S12: =+[17]Salidas!$D28 -> 7967 | T12: =+[18]Salidas!$D28 -> 8300 | U12: =+[19]Salidas!$D28 -> 5309 | V12: =+[20]Salidas!$D28 -> 1433 | W12: =+[21]Salidas!$D28 -> 7717 | X12: =+[22]Salidas!$D28 -> 7929 | Y12: =+[23]Salidas!$D28 -> 7548 | Z12: =+[24]Salidas!$D28 -> 7747 | AA12: =+[25]Salidas!$D28 -> 8152 | AB12: =+[26]Salidas!$D28 -> 4652 | AC12: =+[27]Salidas!$D28 -> 1533 | AD12: =+[28]Salidas!$D28 -> 7757 | AE12: =+[29]Salidas!$D28 -> 8331 | AF12: =+[30]Salidas!$D28 -> 7776 | AG12: =+[31]Salidas!$D28 -> 8015 | AH12: =+[32]Salidas!$D28 -> 8478 | AI12: =+[33]Salidas!$D28 -> 4966 | AJ12: =+[34]Salidas!$D28 -> 1462
B13: AV. BOYACA | C13: =+[1]Salidas!$D29 -> 3003 | D13: =+[2]Salidas!$D29 -> 3008 | E13: =+[3]Salidas!$D29 -> 3169 | F13: =+[4]Salidas!$D29 -> 2911 | G13: =+[5]Salidas!$D29 -> 2025 | H13: =+[6]Salidas!$D29 -> 861 | I13: =+[7]Salidas!$D29 -> 2897 | J13: =+[8]Salidas!$D29 -> 3021 | K13: =+[9]Salidas!$D29 -> 2965 | L13: =+[10]Salidas!$D29 -> 2959 | M13: =+[11]Salidas!$D29 -> 2885 | N13: =+[12]Salidas!$D29 -> 2069 | O13: =+[13]Salidas!$D29 -> 729 | P13: =+[14]Salidas!$D29 -> 2959 | Q13: =+[15]Salidas!$D29 -> 3174 | R13: =+[16]Salidas!$D29 -> 3160 | S13: =+[17]Salidas!$D29 -> 3031 | T13: =+[18]Salidas!$D29 -> 3029 | U13: =+[19]Salidas!$D29 -> 2161 | V13: =+[20]Salidas!$D29 -> 869 | W13: =+[21]Salidas!$D29 -> 3046 | X13: =+[22]Salidas!$D29 -> 3105 | Y13: =+[23]Salidas!$D29 -> 3036 | Z13: =+[24]Salidas!$D29 -> 2935 | AA13: =+[25]Salidas!$D29 -> 2953 | AB13: =+[26]Salidas!$D29 -> 2205 | AC13: =+[27]Salidas!$D29 -> 837 | AD13: =+[28]Salidas!$D29 -> 3008 | AE13: =+[29]Salidas!$D29 -> 3000 | AF13: =+[30]Salidas!$D29 -> 3025 | AG13: =+[31]Salidas!$D29 -> 3069 | AH13: =+[32]Salidas!$D29 -> 3026 | AI13: =+[33]Salidas!$D29 -> 2230 | AJ13: =+[34]Salidas!$D29 -> 755
B14: FERIAS | C14: =+[1]Salidas!$D30 -> 4808 | D14: =+[2]Salidas!$D30 -> 4786 | E14: =+[3]Salidas!$D30 -> 4626 | F14: =+[4]Salidas!$D30 -> 4621 | G14: =+[5]Salidas!$D30 -> 3913 | H14: =+[6]Salidas!$D30 -> 2166 | I14: =+[7]Salidas!$D30 -> 4599 | J14: =+[8]Salidas!$D30 -> 4569 | K14: =+[9]Salidas!$D30 -> 4440 | L14: =+[10]Salidas!$D30 -> 4515 | M14: =+[11]Salidas!$D30 -> 4650 | N14: =+[12]Salidas!$D30 -> 3817 | O14: =+[13]Salidas!$D30 -> 1969 | P14: =+[14]Salidas!$D30 -> 4493 | Q14: =+[15]Salidas!$D30 -> 4619 | R14: =+[16]Salidas!$D30 -> 4614 | S14: =+[17]Salidas!$D30 -> 4561 | T14: =+[18]Salidas!$D30 -> 4743 | U14: =+[19]Salidas!$D30 -> 3963 | V14: =+[20]Salidas!$D30 -> 1984 | W14: =+[21]Salidas!$D30 -> 4695 | X14: =+[22]Salidas!$D30 -> 4747 | Y14: =+[23]Salidas!$D30 -> 4855 | Z14: =+[24]Salidas!$D30 -> 4713 | AA14: =+[25]Salidas!$D30 -> 4719 | AB14: =+[26]Salidas!$D30 -> 4085 | AC14: =+[27]Salidas!$D30 -> 2494 | AD14: =+[28]Salidas!$D30 -> 4989 | AE14: =+[29]Salidas!$D30 -> 5011 | AF14: =+[30]Salidas!$D30 -> 5008 | AG14: =+[31]Salidas!$D30 -> 4819 | AH14: =+[32]Salidas!$D30 -> 4915 | AI14: =+[33]Salidas!$D30 -> 4388 | AJ14: =+[34]Salidas!$D30 -> 2203
B15: AVENIDA 68 | C15: =+[1]Salidas!$D31 -> 9854 | D15: =+[2]Salidas!$D31 -> 9912 | E15: =+[3]Salidas!$D31 -> 9826 | F15: =+[4]Salidas!$D31 -> 9895 | G15: =+[5]Salidas!$D31 -> 7169 | H15: =+[6]Salidas!$D31 -> 3515 | I15: =+[7]Salidas!$D31 -> 9574 | J15: =+[8]Salidas!$D31 -> 9522 | K15: =+[9]Salidas!$D31 -> 9145 | L15: =+[10]Salidas!$D31 -> 9892 | M15: =+[11]Salidas!$D31 -> 9753 | N15: =+[12]Salidas!$D31 -> 6937 | O15: =+[13]Salidas!$D31 -> 3364 | P15: =+[14]Salidas!$D31 -> 9752 | Q15: =+[15]Salidas!$D31 -> 9770 | R15: =+[16]Salidas!$D31 -> 9565 | S15: =+[17]Salidas!$D31 -> 9697 | T15: =+[18]Salidas!$D31 -> 10164 | U15: =+[19]Salidas!$D31 -> 7176 | V15: =+[20]Salidas!$D31 -> 3333 | W15: =+[21]Salidas!$D31 -> 9672 | X15: =+[22]Salidas!$D31 -> 9649 | Y15: =+[23]Salidas!$D31 -> 9619 | Z15: =+[24]Salidas!$D31 -> 9336 | AA15: =+[25]Salidas!$D31 -> 10114 | AB15: =+[26]Salidas!$D31 -> 6947 | AC15: =+[27]Salidas!$D31 -> 3144 | AD15: =+[28]Salidas!$D31 -> 9802 | AE15: =+[29]Salidas!$D31 -> 10219 | AF15: =+[30]Salidas!$D31 -> 9968 | AG15: =+[31]Salidas!$D31 -> 9940 | AH15: =+[32]Salidas!$D31 -> 10468 | AI15: =+[33]Salidas!$D31 -> 7398 | AJ15: =+[34]Salidas!$D31 -> 3297
... B40: PORTAL DEL NORTE | C40: =+[1]Salidas!$D56 -> 106464 | D40: =+[2]Salidas!$D56 -> 107844 | E40: =+[3]Salidas!$D56 -> 111318 | F40: =+[4]Salidas!$D56 -> 111625 | G40: =+[5]Salidas!$D56 -> 83153 | H40: =+[6]Salidas!$D56 -> 50388 | I40: =+[7]Salidas!$D56 -> 109505 | J40: =+[8]Salidas!$D56 -> 112778 | K40: =+[9]Salidas!$D56 -> 110262 | L40: =+[10]Salidas!$D56 -> 111760 | M40: =+[11]Salidas!$D56 -> 112365 | N40: =+[12]Salidas!$D56 -> 82751 | O40: =+[13]Salidas!$D56 -> 47897 | P40: =+[14]Salidas!$D56 -> 110635 | Q40: =+[15]Salidas!$D56 -> 109511 | R40: =+[16]Salidas!$D56 -> 108783 | S40: =+[17]Salidas!$D56 -> 109139 | T40: =+[18]Salidas!$D56 -> 111800 | U40: =+[19]Salidas!$D56 -> 83519 | V40: =+[20]Salidas!$D56 -> 49653 | W40: =+[21]Salidas!$D56 -> 111568 | X40: =+[22]Salidas!$D56 -> 112280 | Y40: =+[23]Salidas!$D56 -> 109892 | Z40: =+[24]Salidas!$D56 -> 110774 | AA40: =+[25]Salidas!$D56 -> 111066 | AB40: =+[26]Salidas!$D56 -> 85142 | AC40: =+[27]Salidas!$D56 -> 47731 | AD40: =+[28]Salidas!$D56 -> 110908 | AE40: =+[29]Salidas!$D56 -> 113130 | AF40: =+[30]Salidas!$D56 -> 113922 | AG40: =+[31]Salidas!$D56 -> 112117 | AH40: =+[32]Salidas!$D56 -> 118706 | AI40: =+[33]Salidas!$D56 -> 89021 | AJ40: =+[34]Salidas!$D56 -> 49224
B41: CALLE 76 N | C41: =[1]Salidas!$D64 -> 21765 | D41: =[2]Salidas!$D64 -> 21634 | E41: =[3]Salidas!$D64 -> 20980 | F41: =[4]Salidas!$D64 -> 21999 | G41: =[5]Salidas!$D64 -> 11893 | H41: =[6]Salidas!$D64 -> 2326 | I41: =[7]Salidas!$D64 -> 21571 | J41: =[8]Salidas!$D64 -> 21727 | K41: =[9]Salidas!$D64 -> 21303 | L41: =[10]Salidas!$D64 -> 21239 | M41: =[11]Salidas!$D64 -> 21835 | N41: =[12]Salidas!$D64 -> 12609 | O41: =[13]Salidas!$D64 -> 2334 | P41: =[14]Salidas!$D64 -> 21212 | Q41: =[15]Salidas!$D64 -> 18537 | R41: =[16]Salidas!$D64 -> 21025 | S41: =[17]Salidas!$D64 -> 21530 | T41: =[18]Salidas!$D64 -> 21957 | U41: =[19]Salidas!$D64 -> 12598 | V41: =[20]Salidas!$D64 -> 2314 | W41: =[21]Salidas!$D64 -> 21753 | X41: =[22]Salidas!$D64 -> 21674 | Y41: =[23]Salidas!$D64 -> 22125 | Z41: =[24]Salidas!$D64 -> 21050 | AA41: =[25]Salidas!$D64 -> 22199 | AB41: =[26]Salidas!$D64 -> 12566 | AC41: =[27]Salidas!$D64 -> 2512 | AD41: =[28]Salidas!$D64 -> 21787 | AE41: =[29]Salidas!$D64 -> 22748 | AF41: =[30]Salidas!$D64 -> 22672 | AG41: =[31]Salidas!$D64 -> 22656 | AH41: =[32]Salidas!$D64 -> 23174 | AI41: =[33]Salidas!$D64 -> 13216 | AJ41: =[34]Salidas!$D64 -> 2402
B42: CALLE 76 S | C42: =[1]Salidas!$D65 -> 17235 | D42: =[2]Salidas!$D65 -> 17333 | E42: =[3]Salidas!$D65 -> 16598 | F42: =[4]Salidas!$D65 -> 17049 | G42: =[5]Salidas!$D65 -> 5899 | H42: =[6]Salidas!$D65 -> 877 | I42: =[7]Salidas!$D65 -> 14460 | J42: =[8]Salidas!$D65 -> 15807 | K42: =[9]Salidas!$D65 -> 15234 | L42: =[10]Salidas!$D65 -> 15375 | M42: =[11]Salidas!$D65 -> 15147 | N42: =[12]Salidas!$D65 -> 6283 | O42: =[13]Salidas!$D65 -> 846 | P42: =[14]Salidas!$D65 -> 15352 | Q42: =[15]Salidas!$D65 -> 15198 | R42: =[16]Salidas!$D65 -> 15036 | S42: =[17]Salidas!$D65 -> 15434 | T42: =[18]Salidas!$D65 -> 15365 | U42: =[19]Salidas!$D65 -> 6534 | V42: =[20]Salidas!$D65 -> 910 | W42: =[21]Salidas!$D65 -> 15403 | X42: =[22]Salidas!$D65 -> 15450 | Y42: =[23]Salidas!$D65 -> 15639 | Z42: =[24]Salidas!$D65 -> 15120 | AA42: =[25]Salidas!$D65 -> 15290 | AB42: =[26]Salidas!$D65 -> 6705 | AC42: =[27]Salidas!$D65 -> 915 | AD42: =[28]Salidas!$D65 -> 15401 | AE42: =[29]Salidas!$D65 -> 15982 | AF42: =[30]Salidas!$D65 -> 15556 | AG42: =[31]Salidas!$D65 -> 15605 | AH42: =[32]Salidas!$D65 -> 15485 | AI42: =[33]Salidas!$D65 -> 6411 | AJ42: =[34]Salidas!$D65 -> 853
B43: CALLE 72 N | C43: =[1]Salidas!$D66 -> 17923 | D43: =[2]Salidas!$D66 -> 18533 | E43: =[3]Salidas!$D66 -> 16375 | F43: =[4]Salidas!$D66 -> 19481 | G43: =[5]Salidas!$D66 -> 12647 | H43: =[6]Salidas!$D66 -> 4865 | I43: =[7]Salidas!$D66 -> 23636 | J43: =[8]Salidas!$D66 -> 26271 | K43: =[9]Salidas!$D66 -> 26284 | L43: =[10]Salidas!$D66 -> 26749 | M43: =[11]Salidas!$D66 -> 27024 | N43: =[12]Salidas!$D66 -> 14046 | O43: =[13]Salidas!$D66 -> 4620 | P43: =[14]Salidas!$D66 -> 26820 | Q43: =[15]Salidas!$D66 -> 26034 | R43: =[16]Salidas!$D66 -> 26257 | S43: =[17]Salidas!$D66 -> 26421 | T43: =[18]Salidas!$D66 -> 28202 | U43: =[19]Salidas!$D66 -> 14705 | V43: =[20]Salidas!$D66 -> 4859 | W43: =[21]Salidas!$D66 -> 26569 | X43: =[22]Salidas!$D66 -> 27321 | Y43: =[23]Salidas!$D66 -> 27380 | Z43: =[24]Salidas!$D66 -> 26802 | AA43: =[25]Salidas!$D66 -> 28329 | AB43: =[26]Salidas!$D66 -> 15214 | AC43: =[27]Salidas!$D66 -> 4848 | AD43: =[28]Salidas!$D66 -> 27293 | AE43: =[29]Salidas!$D66 -> 28678 | AF43: =[30]Salidas!$D66 -> 28441 | AG43: =[31]Salidas!$D66 -> 28276 | AH43: =[32]Salidas!$D66 -> 29217 | AI43: =[33]Salidas!$D66 -> 15400 | AJ43: =[34]Salidas!$D66 -> 4888
B44: CALLE 72 S | C44: =[1]Salidas!$D67 -> 7426 | D44: =[2]Salidas!$D67 -> 7701 | E44: =[3]Salidas!$D67 -> 7591 | F44: =[4]Salidas!$D67 -> 7659 | G44: =[5]Salidas!$D67 -> 3145 | H44: =[6]Salidas!$D67 -> 1004 | I44: =[7]Salidas!$D67 -> 10083 | J44: =[8]Salidas!$D67 -> 10273 | K44: =[9]Salidas!$D67 -> 10106 | L44: =[10]Salidas!$D67 -> 9889 | M44: =[11]Salidas!$D67 -> 9921 | N44: =[12]Salidas!$D67 -> 4182 | O44: =[13]Salidas!$D67 -> 1131 | P44: =[14]Salidas!$D67 -> 10222 | Q44: =[15]Salidas!$D67 -> 10078 | R44: =[16]Salidas!$D67 -> 9999 | S44: =[17]Salidas!$D67 -> 10499 | T44: =[18]Salidas!$D67 -> 10665 | U44: =[19]Salidas!$D67 -> 4393 | V44: =[20]Salidas!$D67 -> 1148 | W44: =[21]Salidas!$D67 -> 10574 | X44: =[22]Salidas!$D67 -> 10947 | Y44: =[23]Salidas!$D67 -> 10741 | Z44: =[24]Salidas!$D67 -> 10484 | AA44: =[25]Salidas!$D67 -> 10733 | AB44: =[26]Salidas!$D67 -> 4443 | AC44: =[27]Salidas!$D67 -> 1047 | AD44: =[28]Salidas!$D67 -> 10659 | AE44: =[29]Salidas!$D67 -> 10924 | AF44: =[30]Salidas!$D67 -> 10712 | AG44: =[31]Salidas!$D67 -> 10834 | AH44: =[32]Salidas!$D67 -> 10987 | AI44: =[33]Salidas!$D67 -> 4549 | AJ44: =[34]Salidas!$D67 -> 1179
B45: FLORES N | C45: =[1]Salidas!$D68 -> 10102 | D45: =[2]Salidas!$D68 -> 9654 | E45: =[3]Salidas!$D68 -> 9328 | F45: =[4]Salidas!$D68 -> 9738 | G45: =[5]Salidas!$D68 -> 4418 | H45: =[6]Salidas!$D68 -> 1470 | I45: =[7]Salidas!$D68 -> 7731 | J45: =[8]Salidas!$D68 -> 8750 | K45: =[9]Salidas!$D68 -> 7335 | L45: =[10]Salidas!$D68 -> 7273 | M45: =[11]Salidas!$D68 -> 7403 | N45: =[12]Salidas!$D68 -> 4462 | O45: =[13]Salidas!$D68 -> 1532 | P45: =[14]Salidas!$D68 -> 7424 | Q45: =[15]Salidas!$D68 -> 7828 | R45: =[16]Salidas!$D68 -> 7002 | S45: =[17]Salidas!$D68 -> 6885 | T45: =[18]Salidas!$D68 -> 7462 | U45: =[19]Salidas!$D68 -> 4484 | V45: =[20]Salidas!$D68 -> 1689 | W45: =[21]Salidas!$D68 -> 6973 | X45: =[22]Salidas!$D68 -> 7064 | Y45: =[23]Salidas!$D68 -> 7251 | Z45: =[24]Salidas!$D68 -> 6954 | AA45: =[25]Salidas!$D68 -> 7116 | AB45: =[26]Salidas!$D68 -> 4255 | AC45: =[27]Salidas!$D68 -> 1367 | AD45: =[28]Salidas!$D68 -> 7043 | AE45: =[29]Salidas!$D68 -> 7408 | AF45: =[30]Salidas!$D68 -> 7260 | AG45: =[31]Salidas!$D68 -> 7259 | AH45: =[32]Salidas!$D68 -> 7188 | AI45: =[33]Salidas!$D68 -> 4327 | AJ45: =[34]Salidas!$D68 -> 1511
B46: FLORES S | C46: =[1]Salidas!$D69 -> 14451 | D46: =[2]Salidas!$D69 -> 15454 | E46: =[3]Salidas!$D69 -> 15116 | F46: =[4]Salidas!$D69 -> 14923 | G46: =[5]Salidas!$D69 -> 8042 | H46: =[6]Salidas!$D69 -> 2617 | I46: =[7]Salidas!$D69 -> 13772 | J46: =[8]Salidas!$D69 -> 13593 | K46: =[9]Salidas!$D69 -> 14317 | L46: =[10]Salidas!$D69 -> 13683 | M46: =[11]Salidas!$D69 -> 13962 | N46: =[12]Salidas!$D69 -> 8433 | O46: =[13]Salidas!$D69 -> 2809 | P46: =[14]Salidas!$D69 -> 14017 | Q46: =[15]Salidas!$D69 -> 13449 | R46: =[16]Salidas!$D69 -> 13493 | S46: =[17]Salidas!$D69 -> 13929 | T46: =[18]Salidas!$D69 -> 14224 | U46: =[19]Salidas!$D69 -> 8472 | V46: =[20]Salidas!$D69 -> 2699 | W46: =[21]Salidas!$D69 -> 14194 | X46: =[22]Salidas!$D69 -> 14166 | Y46: =[23]Salidas!$D69 -> 14326 | Z46: =[24]Salidas!$D69 -> 13766 | AA46: =[25]Salidas!$D69 -> 14046 | AB46: =[26]Salidas!$D69 -> 8445 | AC46: =[27]Salidas!$D69 -> 2761 | AD46: =[28]Salidas!$D69 -> 14415 | AE46: =[29]Salidas!$D69 -> 14299 | AF46: =[30]Salidas!$D69 -> 14307 | AG46: =[31]Salidas!$D69 -> 14048 | AH46: =[32]Salidas!$D69 -> 14543 | AI46: =[33]Salidas!$D69 -> 8778 | AJ46: =[34]Salidas!$D69 -> 2776
B47: CALLE 63 N | C47: =[1]Salidas!$D70 -> 19510 | D47: =[2]Salidas!$D70 -> 20239 | E47: =[3]Salidas!$D70 -> 20917 | F47: =[4]Salidas!$D70 -> 22410 | G47: =[5]Salidas!$D70 -> 17979 | H47: =[6]Salidas!$D70 -> 6254 | I47: =[7]Salidas!$D70 -> 23506 | J47: =[8]Salidas!$D70 -> 24434 | K47: =[9]Salidas!$D70 -> 24838 | L47: =[10]Salidas!$D70 -> 25701 | M47: =[11]Salidas!$D70 -> 25814 | N47: =[12]Salidas!$D70 -> 19461 | O47: =[13]Salidas!$D70 -> 6007 | P47: =[14]Salidas!$D70 -> 26140 | Q47: =[15]Salidas!$D70 -> 25258 | R47: =[16]Salidas!$D70 -> 25921 | S47: =[17]Salidas!$D70 -> 25833 | T47: =[18]Salidas!$D70 -> 28033 | U47: =[19]Salidas!$D70 -> 20362 | V47: =[20]Salidas!$D70 -> 6470 | W47: =[21]Salidas!$D70 -> 26711 | X47: =[22]Salidas!$D70 -> 27072 | Y47: =[23]Salidas!$D70 -> 27000 | Z47: =[24]Salidas!$D70 -> 25872 | AA47: =[25]Salidas!$D70 -> 28427 | AB47: =[26]Salidas!$D70 -> 20104 | AC47: =[27]Salidas!$D70 -> 6210 | AD47: =[28]Salidas!$D70 -> 27326 | AE47: =[29]Salidas!$D70 -> 27735 | AF47: =[30]Salidas!$D70 -> 28100 | AG47: =[31]Salidas!$D70 -> 28446 | AH47: =[32]Salidas!$D70 -> 29795 | AI47: =[33]Salidas!$D70 -> 21950 | AJ47: =[34]Salidas!$D70 -> 6503
B48: CALLE 63 S | C48: =[1]Salidas!$D71 -> 10688 | D48: =[2]Salidas!$D71 -> 11242 | E48: =[3]Salidas!$D71 -> 11538 | F48: =[4]Salidas!$D71 -> 12014 | G48: =[5]Salidas!$D71 -> 7739 | H48: =[6]Salidas!$D71 -> 2136 | I48: =[7]Salidas!$D71 -> 13385 | J48: =[8]Salidas!$D71 -> 13571 | K48: =[9]Salidas!$D71 -> 13771 | L48: =[10]Salidas!$D71 -> 13550 | M48: =[11]Salidas!$D71 -> 14082 | N48: =[12]Salidas!$D71 -> 8439 | O48: =[13]Salidas!$D71 -> 2070 | P48: =[14]Salidas!$D71 -> 13483 | Q48: =[15]Salidas!$D71 -> 12994 | R48: =[16]Salidas!$D71 -> 13428 | S48: =[17]Salidas!$D71 -> 13557 | T48: =[18]Salidas!$D71 -> 14764 | U48: =[19]Salidas!$D71 -> 9212 | V48: =[20]Salidas!$D71 -> 2202 | W48: =[21]Salidas!$D71 -> 14040 | X48: =[22]Salidas!$D71 -> 13950 | Y48: =[23]Salidas!$D71 -> 14246 | Z48: =[24]Salidas!$D71 -> 13910 | AA48: =[25]Salidas!$D71 -> 14484 | AB48: =[26]Salidas!$D71 -> 8752 | AC48: =[27]Salidas!$D71 -> 2234 | AD48: =[28]Salidas!$D71 -> 14175 | AE48: =[29]Salidas!$D71 -> 14139 | AF48: =[30]Salidas!$D71 -> 14916 | AG48: =[31]Salidas!$D71 -> 14772 | AH48: =[32]Salidas!$D71 -> 15154 | AI48: =[33]Salidas!$D71 -> 9126 | AJ48: =[34]Salidas!$D71 -> 2049
B49: CALLE 57 N | C49: =[1]Salidas!$D72 -> 12469 | D49: =[2]Salidas!$D72 -> 12431 | E49: =[3]Salidas!$D72 -> 12435 | F49: =[4]Salidas!$D72 -> 12647 | G49: =[5]Salidas!$D72 -> 7536 | H49: =[6]Salidas!$D72 -> 1978 | I49: =[7]Salidas!$D72 -> 10127 | J49: =[8]Salidas!$D72 -> 9997 | K49: =[9]Salidas!$D72 -> 9698 | L49: =[10]Salidas!$D72 -> 9776 | M49: =[11]Salidas!$D72 -> 10156 | N49: =[12]Salidas!$D72 -> 6930 | O49: =[13]Salidas!$D72 -> 1773 | P49: =[14]Salidas!$D72 -> 9574 | Q49: =[15]Salidas!$D72 -> 9116 | R49: =[16]Salidas!$D72 -> 9329 | S49: =[17]Salidas!$D72 -> 9308 | T49: =[18]Salidas!$D72 -> 10262 | U49: =[19]Salidas!$D72 -> 7299 | V49: =[20]Salidas!$D72 -> 1794 | W49: =[21]Salidas!$D72 -> 9571 | X49: =[22]Salidas!$D72 -> 9603 | Y49: =[23]Salidas!$D72 -> 9623 | Z49: =[24]Salidas!$D72 -> 9440 | AA49: =[25]Salidas!$D72 -> 9999 | AB49: =[26]Salidas!$D72 -> 6775 | AC49: =[27]Salidas!$D72 -> 1894 | AD49: =[28]Salidas!$D72 -> 9755 | AE49: =[29]Salidas!$D72 -> 9868 | AF49: =[30]Salidas!$D72 -> 10006 | AG49: =[31]Salidas!$D72 -> 10159 | AH49: =[32]Salidas!$D72 -> 10538 | AI49: =[33]Salidas!$D72 -> 7353 | AJ49: =[34]Salidas!$D72 -> 1898
B50: CALLE 57 S | C50: =[1]Salidas!$D73 -> 5980 | D50: =[2]Salidas!$D73 -> 6405 | E50: =[3]Salidas!$D73 -> 6132 | F50: =[4]Salidas!$D73 -> 6433 | G50: =[5]Salidas!$D73 -> 4214 | H50: =[6]Salidas!$D73 -> 1233 | I50: =[7]Salidas!$D73 -> 6015 | J50: =[8]Salidas!$D73 -> 6439 | K50: =[9]Salidas!$D73 -> 6211 | L50: =[10]Salidas!$D73 -> 6472 | M50: =[11]Salidas!$D73 -> 6554 | N50: =[12]Salidas!$D73 -> 4205 | O50: =[13]Salidas!$D73 -> 1208 | P50: =[14]Salidas!$D73 -> 6264 | Q50: =[15]Salidas!$D73 -> 6379 | R50: =[16]Salidas!$D73 -> 6338 | S50: =[17]Salidas!$D73 -> 6256 | T50: =[18]Salidas!$D73 -> 6476 | U50: =[19]Salidas!$D73 -> 4411 | V50: =[20]Salidas!$D73 -> 1423 | W50: =[21]Salidas!$D73 -> 6673 | X50: =[22]Salidas!$D73 -> 6789 | Y50: =[23]Salidas!$D73 -> 6522 | Z50: =[24]Salidas!$D73 -> 6376 | AA50: =[25]Salidas!$D73 -> 6856 | AB50: =[26]Salidas!$D73 -> 4653 | AC50: =[27]Salidas!$D73 -> 1462 | AD50: =[28]Salidas!$D73 -> 6406 | AE50: =[29]Salidas!$D73 -> 6856 | AF50: =[30]Salidas!$D73 -> 6830 | AG50: =[31]Salidas!$D73 -> 6700 | AH50: =[32]Salidas!$D73 -> 7018 | AI50: =[33]Salidas!$D73 -> 4716 | AJ50: =[34]Salidas!$D73 -> 1450
B51: MARLY N | C51: =[1]Salidas!$D74 -> 25533 | D51: =[2]Salidas!$D74 -> 24247 | E51: =[3]Salidas!$D74 -> 24150 | F51: =[4]Salidas!$D74 -> 25622 | G51: =[5]Salidas!$D74 -> 15075 | H51: =[6]Salidas!$D74 -> 4391 | I51: =[7]Salidas!$D74 -> 23797 | J51: =[8]Salidas!$D74 -> 26956 | K51: =[9]Salidas!$D74 -> 24217 | L51: =[10]Salidas!$D74 -> 24805 | M51: =[11]Salidas!$D74 -> 25899 | N51: =[12]Salidas!$D74 -> 15479 | O51: =[13]Salidas!$D74 -> 4372 | P51: =[14]Salidas!$D74 -> 24136 | Q51: =[15]Salidas!$D74 -> 24914 | R51: =[16]Salidas!$D74 -> 23120 | S51: =[17]Salidas!$D74 -> 23612 | T51: =[18]Salidas!$D74 -> 26142 | U51: =[19]Salidas!$D74 -> 15834 | V51: =[20]Salidas!$D74 -> 4412 | W51: =[21]Salidas!$D74 -> 25329 | X51: =[22]Salidas!$D74 -> 27042 | Y51: =[23]Salidas!$D74 -> 24939 | Z51: =[24]Salidas!$D74 -> 23762 | AA51: =[25]Salidas!$D74 -> 25813 | AB51: =[26]Salidas!$D74 -> 16099 | AC51: =[27]Salidas!$D74 -> 4430 | AD51: =[28]Salidas!$D74 -> 25164 | AE51: =[29]Salidas!$D74 -> 26765 | AF51: =[30]Salidas!$D74 -> 25142 | AG51: =[31]Salidas!$D74 -> 25868 | AH51: =[32]Salidas!$D74 -> 26952 | AI51: =[33]Salidas!$D74 -> 16939 | AJ51: =[34]Salidas!$D74 -> 4426
B52: MARLY S | C52: =[1]Salidas!$D75 -> 19661 | D52: =[2]Salidas!$D75 -> 19928 | E52: =[3]Salidas!$D75 -> 19044 | F52: =[4]Salidas!$D75 -> 19774 | G52: =[5]Salidas!$D75 -> 11141 | H52: =[6]Salidas!$D75 -> 2653 | I52: =[7]Salidas!$D75 -> 19348 | J52: =[8]Salidas!$D75 -> 18643 | K52: =[9]Salidas!$D75 -> 18754 | L52: =[10]Salidas!$D75 -> 19272 | M52: =[11]Salidas!$D75 -> 19197 | N52: =[12]Salidas!$D75 -> 11588 | O52: =[13]Salidas!$D75 -> 2617 | P52: =[14]Salidas!$D75 -> 18003 | Q52: =[15]Salidas!$D75 -> 17840 | R52: =[16]Salidas!$D75 -> 17216 | S52: =[17]Salidas!$D75 -> 17993 | T52: =[18]Salidas!$D75 -> 18345 | U52: =[19]Salidas!$D75 -> 10718 | V52: =[20]Salidas!$D75 -> 2459 | W52: =[21]Salidas!$D75 -> 18481 | X52: =[22]Salidas!$D75 -> 18498 | Y52: =[23]Salidas!$D75 -> 18244 | Z52: =[24]Salidas!$D75 -> 18333 | AA52: =[25]Salidas!$D75 -> 19004 | AB52: =[26]Salidas!$D75 -> 10695 | AC52: =[27]Salidas!$D75 -> 2426 | AD52: =[28]Salidas!$D75 -> 18462 | AE52: =[29]Salidas!$D75 -> 19200 | AF52: =[30]Salidas!$D75 -> 18547 | AG52: =[31]Salidas!$D75 -> 18806 | AH52: =[32]Salidas!$D75 -> 19385 | AI52: =[33]Salidas!$D75 -> 11338 | AJ52: =[34]Salidas!$D75 -> 2696
... B107: PORTAL DE USME | C107: =[1]Salidas!$D130 -> 49864 | D107: =[2]Salidas!$D130 -> 51035 | E107: =[3]Salidas!$D130 -> 49050 | F107: =[4]Salidas!$D130 -> 50558 | G107: =[5]Salidas!$D130 -> 38883 | H107: =[6]Salidas!$D130 -> 20259 | I107: =[7]Salidas!$D130 -> 50973 | J107: =[8]Salidas!$D130 -> 50188 | K107: =[9]Salidas!$D130 -> 51676 | L107: =[10]Salidas!$D130 -> 52426 | M107: =[11]Salidas!$D130 -> 51586 | N107: =[12]Salidas!$D130 -> 39449 | O107: =[13]Salidas!$D130 -> 19553 | P107: =[14]Salidas!$D130 -> 52934 | Q107: =[15]Salidas!$D130 -> 53361 | R107: =[16]Salidas!$D130 -> 55413 | S107: =[17]Salidas!$D130 -> 54413 | T107: =[18]Salidas!$D130 -> 54699 | U107: =[19]Salidas!$D130 -> 41727 | V107: =[20]Salidas!$D130 -> 20562 | W107: =[21]Salidas!$D130 -> 53397 | X107: =[22]Salidas!$D130 -> 54733 | Y107: =[23]Salidas!$D130 -> 54458 | Z107: =[24]Salidas!$D130 -> 54640 | AA107: =[25]Salidas!$D130 -> 54069 | AB107: =[26]Salidas!$D130 -> 41928 | AC107: =[27]Salidas!$D130 -> 20212 | AD107: =[28]Salidas!$D130 -> 55104 | AE107: =[29]Salidas!$D130 -> 56618 | AF107: =[30]Salidas!$D130 -> 56438 | AG107: =[31]Salidas!$D130 -> 56283 | AH107: =[32]Salidas!$D130 -> 55593 | AI107: =[33]Salidas!$D130 -> 43326 | AJ107: =[34]Salidas!$D130 -> 20892
B108: BIBLIOTECA NORTE | C108: =[1]Salidas!$D139 -> 2234 | D108: =[2]Salidas!$D139 -> 2289 | E108: =[3]Salidas!$D139 -> 2232 | F108: =[4]Salidas!$D139 -> 2334 | G108: =[5]Salidas!$D139 -> 1744 | H108: =[6]Salidas!$D139 -> 801 | I108: =[7]Salidas!$D139 -> 2246 | J108: =[8]Salidas!$D139 -> 2358 | K108: =[9]Salidas!$D139 -> 2241 | L108: =[10]Salidas!$D139 -> 2296 | M108: =[11]Salidas!$D139 -> 2211 | N108: =[12]Salidas!$D139 -> 1718 | O108: =[13]Salidas!$D139 -> 810 | P108: =[14]Salidas!$D139 -> 2328 | Q108: =[15]Salidas!$D139 -> 2298 | R108: =[16]Salidas!$D139 -> 2232 | S108: =[17]Salidas!$D139 -> 2059 | T108: =[18]Salidas!$D139 -> 2265 | U108: =[19]Salidas!$D139 -> 1740 | V108: =[20]Salidas!$D139 -> 819 | W108: =[21]Salidas!$D139 -> 2295 | X108: =[22]Salidas!$D139 -> 2393 | Y108: =[23]Salidas!$D139 -> 2351 | Z108: =[24]Salidas!$D139 -> 2315 | AA108: =[25]Salidas!$D139 -> 2235 | AB108: =[26]Salidas!$D139 -> 1698 | AC108: =[27]Salidas!$D139 -> 890 | AD108: =[28]Salidas!$D139 -> 2385 | AE108: =[29]Salidas!$D139 -> 2372 | AF108: =[30]Salidas!$D139 -> 2446 | AG108: =[31]Salidas!$D139 -> 2352 | AH108: =[32]Salidas!$D139 -> 2183 | AI108: =[33]Salidas!$D139 -> 1744 | AJ108: =[34]Salidas!$D139 -> 858
B109: BIBLIOTECA SUR | C109: =[1]Salidas!$D140 -> 339 | D109: =[2]Salidas!$D140 -> 382 | E109: =[3]Salidas!$D140 -> 458 | F109: =[4]Salidas!$D140 -> 341 | G109: =[5]Salidas!$D140 -> 285 | H109: =[6]Salidas!$D140 -> 279 | I109: =[7]Salidas!$D140 -> 357 | J109: =[8]Salidas!$D140 -> 323 | K109: =[9]Salidas!$D140 -> 316 | L109: =[10]Salidas!$D140 -> 338 | M109: =[11]Salidas!$D140 -> 328 | N109: =[12]Salidas!$D140 -> 246 | O109: =[13]Salidas!$D140 -> 239 | P109: =[14]Salidas!$D140 -> 329 | Q109: =[15]Salidas!$D140 -> 350 | R109: =[16]Salidas!$D140 -> 336 | S109: =[17]Salidas!$D140 -> 298 | T109: =[18]Salidas!$D140 -> 375 | U109: =[19]Salidas!$D140 -> 300 | V109: =[20]Salidas!$D140 -> 291 | W109: =[21]Salidas!$D140 -> 340 | X109: =[22]Salidas!$D140 -> 406 | Y109: =[23]Salidas!$D140 -> 379 | Z109: =[24]Salidas!$D140 -> 345 | AA109: =[25]Salidas!$D140 -> 356 | AB109: =[26]Salidas!$D140 -> 330 | AC109: =[27]Salidas!$D140 -> 258 | AD109: =[28]Salidas!$D140 -> 364 | AE109: =[29]Salidas!$D140 -> 382 | AF109: =[30]Salidas!$D140 -> 362 | AG109: =[31]Salidas!$D140 -> 366 | AH109: =[32]Salidas!$D140 -> 390 | AI109: =[33]Salidas!$D140 -> 294 | AJ109: =[34]Salidas!$D140 -> 221
B110: PARQUE NORTE | C110: =[1]Salidas!$D141 -> 1918 | D110: =[2]Salidas!$D141 -> 1881 | E110: =[3]Salidas!$D141 -> 1939 | F110: =[4]Salidas!$D141 -> 2085 | G110: =[5]Salidas!$D141 -> 1535 | H110: =[6]Salidas!$D141 -> 636 | I110: =[7]Salidas!$D141 -> 1999 | J110: =[8]Salidas!$D141 -> 1957 | K110: =[9]Salidas!$D141 -> 1933 | L110: =[10]Salidas!$D141 -> 1969 | M110: =[11]Salidas!$D141 -> 1804 | N110: =[12]Salidas!$D141 -> 1436 | O110: =[13]Salidas!$D141 -> 642 | P110: =[14]Salidas!$D141 -> 1892 | Q110: =[15]Salidas!$D141 -> 1892 | R110: =[16]Salidas!$D141 -> 1950 | S110: =[17]Salidas!$D141 -> 1949 | T110: =[18]Salidas!$D141 -> 1993 | U110: =[19]Salidas!$D141 -> 1463 | V110: =[20]Salidas!$D141 -> 658 | W110: =[21]Salidas!$D141 -> 1907 | X110: =[22]Salidas!$D141 -> 1983 | Y110: =[23]Salidas!$D141 -> 1965 | Z110: =[24]Salidas!$D141 -> 2006 | AA110: =[25]Salidas!$D141 -> 1942 | AB110: =[26]Salidas!$D141 -> 1508 | AC110: =[27]Salidas!$D141 -> 667 | AD110: =[28]Salidas!$D141 -> 1940 | AE110: =[29]Salidas!$D141 -> 1984 | AF110: =[30]Salidas!$D141 -> 2055 | AG110: =[31]Salidas!$D141 -> 1969 | AH110: =[32]Salidas!$D141 -> 2017 | AI110: =[33]Salidas!$D141 -> 1526 | AJ110: =[34]Salidas!$D141 -> 671
B111: PARQUE SUR | C111: =[1]Salidas!$D142 -> 329 | D111: =[2]Salidas!$D142 -> 335 | E111: =[3]Salidas!$D142 -> 282 | F111: =[4]Salidas!$D142 -> 311 | G111: =[5]Salidas!$D142 -> 269 | H111: =[6]Salidas!$D142 -> 200 | I111: =[7]Salidas!$D142 -> 268 | J111: =[8]Salidas!$D142 -> 327 | K111: =[9]Salidas!$D142 -> 282 | L111: =[10]Salidas!$D142 -> 343 | M111: =[11]Salidas!$D142 -> 337 | N111: =[12]Salidas!$D142 -> 237 | O111: =[13]Salidas!$D142 -> 183 | P111: =[14]Salidas!$D142 -> 288 | Q111: =[15]Salidas!$D142 -> 273 | R111: =[16]Salidas!$D142 -> 327 | S111: =[17]Salidas!$D142 -> 309 | T111: =[18]Salidas!$D142 -> 371 | U111: =[19]Salidas!$D142 -> 253 | V111: =[20]Salidas!$D142 -> 187 | W111: =[21]Salidas!$D142 -> 302 | X111: =[22]Salidas!$D142 -> 316 | Y111: =[23]Salidas!$D142 -> 300 | Z111: =[24]Salidas!$D142 -> 251 | AA111: =[25]Salidas!$D142 -> 273 | AB111: =[26]Salidas!$D142 -> 274 | AC111: =[27]Salidas!$D142 -> 248 | AD111: =[28]Salidas!$D142 -> 270 | AE111: =[29]Salidas!$D142 -> 251 | AF111: =[30]Salidas!$D142 -> 294 | AG111: =[31]Salidas!$D142 -> 260 | AH111: =[32]Salidas!$D142 -> 258 | AI111: =[33]Salidas!$D142 -> 211 | AJ111: =[34]Salidas!$D142 -> 59
B112: PORTAL TUNAL | C112: =[1]Salidas!$D143 -> 52864 | D112: =[2]Salidas!$D143 -> 52450 | E112: =[3]Salidas!$D143 -> 51801 | F112: =[4]Salidas!$D143 -> 53433 | G112: =[5]Salidas!$D143 -> 41806 | H112: =[6]Salidas!$D143 -> 21846 | I112: =[7]Salidas!$D143 -> 53783 | J112: =[8]Salidas!$D143 -> 53718 | K112: =[9]Salidas!$D143 -> 53983 | L112: =[10]Salidas!$D143 -> 53546 | M112: =[11]Salidas!$D143 -> 54151 | N112: =[12]Salidas!$D143 -> 41389 | O112: =[13]Salidas!$D143 -> 20836 | P112: =[14]Salidas!$D143 -> 55644 | Q112: =[15]Salidas!$D143 -> 56854 | R112: =[16]Salidas!$D143 -> 57203 | S112: =[17]Salidas!$D143 -> 56503 | T112: =[18]Salidas!$D143 -> 55785 | U112: =[19]Salidas!$D143 -> 42377 | V112: =[20]Salidas!$D143 -> 21542 | W112: =[21]Salidas!$D143 -> 55353 | X112: =[22]Salidas!$D143 -> 55517 | Y112: =[23]Salidas!$D143 -> 55575 | Z112: =[24]Salidas!$D143 -> 55302 | AA112: =[25]Salidas!$D143 -> 55284 | AB112: =[26]Salidas!$D143 -> 43038 | AC112: =[27]Salidas!$D143 -> 21127 | AD112: =[28]Salidas!$D143 -> 55712 | AE112: =[29]Salidas!$D143 -> 57608 | AF112: =[30]Salidas!$D143 -> 57597 | AG112: =[31]Salidas!$D143 -> 56867 | AH112: =[32]Salidas!$D143 -> 55994 | AI112: =[33]Salidas!$D143 -> 43634 | AJ112: =[34]Salidas!$D143 -> 21975
A113: FASE 2 | B113: PORTAL AMERICAS | C113: =[35]Salidas!$D$11 -> 60626 | D113: =[36]Salidas!$D$11 -> 62704 | E113: =[37]Salidas!$D$11 -> 59670 | F113: =[38]Salidas!$D$11 -> 59579 | G113: =[39]Salidas!$D$11 -> 42067 | H113: =[40]Salidas!$D$11 -> 20524 | I113: =[41]Salidas!$D$11 -> 60314 | J113: =[42]Salidas!$D$11 -> 60422 | K113: =[43]Salidas!$D$11 -> 61011 | L113: =[44]Salidas!$D$11 -> 60705 | M113: =[45]Salidas!$D$11 -> 60158 | N113: =[46]Salidas!$D$11 -> 42710 | O113: =[47]Salidas!$D$11 -> 20628 | P113: =[48]Salidas!$D$11 -> 15034 | Q113: =[49]Salidas!$D$11 -> 18603 | R113: =[50]Salidas!$D$11 -> 30044 | S113: =[51]Salidas!$D$11 -> 35399 | T113: =[52]Salidas!$D$11 -> 57309 | U113: =[53]Salidas!$D$11 -> 40400 | V113: =[54]Salidas!$D$11 -> 20185 | W113: =[55]Salidas!$D$11 -> 60164 | X113: =[56]Salidas!$D$11 -> 58972 | Y113: =[57]Salidas!$D$11 -> 59177 | Z113: =[58]Salidas!$D$11 -> 59838 | AA113: =[59]Salidas!$D$11 -> 58621 | AB113: =[60]Salidas!$D$11 -> 41349 | AC113: =[61]Salidas!$D$11 -> 20009 | AD113: =[62]Salidas!$D$11 -> 60177 | AE113: =[63]Salidas!$D$11 -> 62792 | AF113: =[64]Salidas!$D$11 -> 61933 | AG113: =[65]Salidas!$D$11 -> 62684 | AH113: =[66]Salidas!$D$11 -> 58949 | AI113: =[67]Salidas!$D$11 -> 42866 | AJ113: =[68]Salidas!$D$11 -> 19923
B114: PATIO BONITO NORTE | C114: =[35]Salidas!$D23 -> 2746 | D114: =[36]Salidas!$D23 -> 2700 | E114: =[37]Salidas!$D23 -> 2659 | F114: =[38]Salidas!$D23 -> 2670 | G114: =[39]Salidas!$D23 -> 2653 | H114: =[40]Salidas!$D23 -> 838 | I114: =[41]Salidas!$D23 -> 2788 | J114: =[42]Salidas!$D23 -> 2738 | K114: =[43]Salidas!$D23 -> 2736 | L114: =[44]Salidas!$D23 -> 2635 | M114: =[45]Salidas!$D23 -> 2741 | N114: =[46]Salidas!$D23 -> 2588 | O114: =[47]Salidas!$D23 -> 770 | P114: =[48]Salidas!$D23 -> 750 | Q114: =[49]Salidas!$D23 -> 4505 | R114: =[50]Salidas!$D23 -> 4816 | S114: =[51]Salidas!$D23 -> 5264 | T114: =[52]Salidas!$D23 -> 2839 | U114: =[53]Salidas!$D23 -> 2496 | V114: =[54]Salidas!$D23 -> 772 | W114: =[55]Salidas!$D23 -> 2835 | X114: =[56]Salidas!$D23 -> 2748 | Y114: =[57]Salidas!$D23 -> 2818 | Z114: =[58]Salidas!$D23 -> 2577 | AA114: =[59]Salidas!$D23 -> 2708 | AB114: =[60]Salidas!$D23 -> 2534 | AC114: =[61]Salidas!$D23 -> 748 | AD114: =[62]Salidas!$D23 -> 2828 | AE114: =[63]Salidas!$D23 -> 2899 | AF114: =[64]Salidas!$D23 -> 2963 | AG114: =[65]Salidas!$D23 -> 2872 | AH114: =[66]Salidas!$D23 -> 2813 | AI114: =[67]Salidas!$D23 -> 2840 | AJ114: =[68]Salidas!$D23 -> 849
B115: PATIO BONITO SUR | C115: =[35]Salidas!$D24 -> 5323 | D115: =[36]Salidas!$D24 -> 5488 | E115: =[37]Salidas!$D24 -> 5348 | F115: =[38]Salidas!$D24 -> 5153 | G115: =[39]Salidas!$D24 -> 4737 | H115: =[40]Salidas!$D24 -> 1561 | I115: =[41]Salidas!$D24 -> 5491 | J115: =[42]Salidas!$D24 -> 5574 | K115: =[43]Salidas!$D24 -> 5540 | L115: =[44]Salidas!$D24 -> 5739 | M115: =[45]Salidas!$D24 -> 5570 | N115: =[46]Salidas!$D24 -> 5393 | O115: =[47]Salidas!$D24 -> 1827 | P115: =[48]Salidas!$D24 -> 1560 | Q115: =[49]Salidas!$D24 -> 2488 | R115: =[50]Salidas!$D24 -> 3138 | S115: =[51]Salidas!$D24 -> 3663 | T115: =[52]Salidas!$D24 -> 5887 | U115: =[53]Salidas!$D24 -> 5436 | V115: =[54]Salidas!$D24 -> 1777 | W115: =[55]Salidas!$D24 -> 5794 | X115: =[56]Salidas!$D24 -> 5906 | Y115: =[57]Salidas!$D24 -> 5303 | Z115: =[58]Salidas!$D24 -> 5111 | AA115: =[59]Salidas!$D24 -> 5475 | AB115: =[60]Salidas!$D24 -> 5070 | AC115: =[61]Salidas!$D24 -> 1743 | AD115: =[62]Salidas!$D24 -> 5631 | AE115: =[63]Salidas!$D24 -> 6157 | AF115: =[64]Salidas!$D24 -> 5587 | AG115: =[65]Salidas!$D24 -> 5752 | AH115: =[66]Salidas!$D24 -> 6134 | AI115: =[67]Salidas!$D24 -> 5291 | AJ115: =[68]Salidas!$D24 -> 1737
B116: TINTAL NORTE | C116: =[35]Salidas!$D25 -> 6332 | D116: =[36]Salidas!$D25 -> 6218 | E116: =[37]Salidas!$D25 -> 6097 | F116: =[38]Salidas!$D25 -> 5954 | G116: =[39]Salidas!$D25 -> 4410 | H116: =[40]Salidas!$D25 -> 2320 | I116: =[41]Salidas!$D25 -> 6374 | J116: =[42]Salidas!$D25 -> 6208 | K116: =[43]Salidas!$D25 -> 6446 | L116: =[44]Salidas!$D25 -> 6309 | M116: =[45]Salidas!$D25 -> 6130 | N116: =[46]Salidas!$D25 -> 4308 | O116: =[47]Salidas!$D25 -> 2047 | P116: =[48]Salidas!$D25 -> 1152 | Q116: =[49]Salidas!$D25 -> 52 | R116: =[50]Salidas!$D25 -> 40 | S116: =[51]Salidas!$D25 -> 3 | T116: =[52]Salidas!$D25 -> 5869 | U116: =[53]Salidas!$D25 -> 4224 | V116: =[54]Salidas!$D25 -> 2159 | W116: =[55]Salidas!$D25 -> 6293 | X116: =[56]Salidas!$D25 -> 6178 | Y116: =[57]Salidas!$D25 -> 6299 | Z116: =[58]Salidas!$D25 -> 6095 | AA116: =[59]Salidas!$D25 -> 6038 | AB116: =[60]Salidas!$D25 -> 4331 | AC116: =[61]Salidas!$D25 -> 2273 | AD116: =[62]Salidas!$D25 -> 6333 | AE116: =[63]Salidas!$D25 -> 6604 | AF116: =[64]Salidas!$D25 -> 6683 | AG116: =[65]Salidas!$D25 -> 6491 | AH116: =[66]Salidas!$D25 -> 6303 | AI116: =[67]Salidas!$D25 -> 4609 | AJ116: =[68]Salidas!$D25 -> 2231
B117: TINTAL SUR | C117: =[35]Salidas!$D26 -> 7257 | D117: =[36]Salidas!$D26 -> 7143 | E117: =[37]Salidas!$D26 -> 6855 | F117: =[38]Salidas!$D26 -> 6972 | G117: =[39]Salidas!$D26 -> 5079 | H117: =[40]Salidas!$D26 -> 2860 | I117: =[41]Salidas!$D26 -> 7379 | J117: =[42]Salidas!$D26 -> 7131 | K117: =[43]Salidas!$D26 -> 7323 | L117: =[44]Salidas!$D26 -> 7208 | M117: =[45]Salidas!$D26 -> 7824 | N117: =[46]Salidas!$D26 -> 5570 | O117: =[47]Salidas!$D26 -> 3027 | P117: =[48]Salidas!$D26 -> 1369 | Q117: =[49]Salidas!$D26 -> 54 | R117: =[50]Salidas!$D26 -> 37 | S117: =[51]Salidas!$D26 -> 3 | T117: =[52]Salidas!$D26 -> 7647 | U117: =[53]Salidas!$D26 -> 5713 | V117: =[54]Salidas!$D26 -> 3170 | W117: =[55]Salidas!$D26 -> 7761 | X117: =[56]Salidas!$D26 -> 8047 | Y117: =[57]Salidas!$D26 -> 7778 | Z117: =[58]Salidas!$D26 -> 7854 | AA117: =[59]Salidas!$D26 -> 7691 | AB117: =[60]Salidas!$D26 -> 5746 | AC117: =[61]Salidas!$D26 -> 2994 | AD117: =[62]Salidas!$D26 -> 7986 | AE117: =[63]Salidas!$D26 -> 8114 | AF117: =[64]Salidas!$D26 -> 8175 | AG117: =[65]Salidas!$D26 -> 8170 | AH117: =[66]Salidas!$D26 -> 8042 | AI117: =[67]Salidas!$D26 -> 5659 | AJ117: =[68]Salidas!$D26 -> 2885
B118: ABASTOS | C118: =[35]Salidas!$D27 -> 2232 | D118: =[36]Salidas!$D27 -> 2329 | E118: =[37]Salidas!$D27 -> 2270 | F118: =[38]Salidas!$D27 -> 2100 | G118: =[39]Salidas!$D27 -> 1816 | H118: =[40]Salidas!$D27 -> 776 | I118: =[41]Salidas!$D27 -> 2238 | J118: =[42]Salidas!$D27 -> 2305 | K118: =[43]Salidas!$D27 -> 2211 | L118: =[44]Salidas!$D27 -> 2344 | M118: =[45]Salidas!$D27 -> 2129 | N118: =[46]Salidas!$D27 -> 1704 | O118: =[47]Salidas!$D27 -> 687 | P118: =[48]Salidas!$D27 -> 2856 | Q118: =[49]Salidas!$D27 -> 9089 | R118: =[50]Salidas!$D27 -> 10752 | S118: =[51]Salidas!$D27 -> 11007 | T118: =[52]Salidas!$D27 -> 2293 | U118: =[53]Salidas!$D27 -> 1917 | V118: =[54]Salidas!$D27 -> 724 | W118: =[55]Salidas!$D27 -> 2284 | X118: =[56]Salidas!$D27 -> 2277 | Y118: =[57]Salidas!$D27 -> 2280 | Z118: =[58]Salidas!$D27 -> 2254 | AA118: =[59]Salidas!$D27 -> 2141 | AB118: =[60]Salidas!$D27 -> 1765 | AC118: =[61]Salidas!$D27 -> 662 | AD118: =[62]Salidas!$D27 -> 2341 | AE118: =[63]Salidas!$D27 -> 2305 | AF118: =[64]Salidas!$D27 -> 2242 | AG118: =[65]Salidas!$D27 -> 2307 | AH118: =[66]Salidas!$D27 -> 2187 | AI118: =[67]Salidas!$D27 -> 1801 | AJ118: =[68]Salidas!$D27 -> 706
B119: BANDERAS | C119: =[35]Salidas!$D28 -> 9083 | D119: =[36]Salidas!$D28 -> 9575 | E119: =[37]Salidas!$D28 -> 9044 | F119: =[38]Salidas!$D28 -> 8601 | G119: =[39]Salidas!$D28 -> 5743 | H119: =[40]Salidas!$D28 -> 2360 | I119: =[41]Salidas!$D28 -> 7979 | J119: =[42]Salidas!$D28 -> 8155 | K119: =[43]Salidas!$D28 -> 8058 | L119: =[44]Salidas!$D28 -> 7814 | M119: =[45]Salidas!$D28 -> 7604 | N119: =[46]Salidas!$D28 -> 4918 | O119: =[47]Salidas!$D28 -> 1982 | P119: =[48]Salidas!$D28 -> 21869 | Q119: =[49]Salidas!$D28 -> 13447 | R119: =[50]Salidas!$D28 -> 14359 | S119: =[51]Salidas!$D28 -> 12415 | T119: =[52]Salidas!$D28 -> 8474 | U119: =[53]Salidas!$D28 -> 5658 | V119: =[54]Salidas!$D28 -> 2208 | W119: =[55]Salidas!$D28 -> 8856 | X119: =[56]Salidas!$D28 -> 8834 | Y119: =[57]Salidas!$D28 -> 8951 | Z119: =[58]Salidas!$D28 -> 8477 | AA119: =[59]Salidas!$D28 -> 8464 | AB119: =[60]Salidas!$D28 -> 5508 | AC119: =[61]Salidas!$D28 -> 2424 | AD119: =[62]Salidas!$D28 -> 9012 | AE119: =[63]Salidas!$D28 -> 9324 | AF119: =[64]Salidas!$D28 -> 9087 | AG119: =[65]Salidas!$D28 -> 8693 | AH119: =[66]Salidas!$D28 -> 9116 | AI119: =[67]Salidas!$D28 -> 6110 | AJ119: =[68]Salidas!$D28 -> 2390
B120: BANDERAS DESALIMENTADORES | C120: =SUM([35]Salidas!$D$29:$D$30) -> 26550 | D120: =SUM([36]Salidas!$D$29:$D$30) -> 23543 | E120: =SUM([37]Salidas!$D$29:$D$30) -> 29571 | F120: =SUM([38]Salidas!$D$29:$D$30) -> 24791 | G120: =SUM([39]Salidas!$D$29:$D$30) -> 16168 | H120: =SUM([40]Salidas!$D$29:$D$30) -> 6346 | I120: =SUM([41]Salidas!$D$29:$D$30) -> 24303 | J120: =SUM([42]Salidas!$D$29:$D$30) -> 26264 | K120: =SUM([43]Salidas!$D$29:$D$30) -> 26656 | L120: =SUM([44]Salidas!$D$29:$D$30) -> 28298 | M120: =SUM([45]Salidas!$D$29:$D$30) -> 24517 | N120: =SUM([46]Salidas!$D$29:$D$30) -> 15223 | O120: =SUM([47]Salidas!$D$29:$D$30) -> 6532 | P120: =SUM([48]Salidas!$D$29:$D$30) -> 29365 | Q120: =SUM([49]Salidas!$D$29:$D$30) -> 28466 | R120: =SUM([50]Salidas!$D$29:$D$30) -> 36804 | S120: =SUM([51]Salidas!$D$29:$D$30) -> 34013 | T120: =SUM([52]Salidas!$D$29:$D$30) -> 23268 | U120: =SUM([53]Salidas!$D$29:$D$30) -> 15378 | V120: =SUM([54]Salidas!$D$29:$D$30) -> 5864 | W120: =SUM([55]Salidas!$D$29:$D$30) -> 24669 | X120: =SUM([56]Salidas!$D$29:$D$30) -> 26075 | Y120: =SUM([57]Salidas!$D$29:$D$30) -> 25873 | Z120: =SUM([58]Salidas!$D$29:$D$30) -> 25523 | AA120: =SUM([59]Salidas!$D$29:$D$30) -> 24169 | AB120: =SUM([60]Salidas!$D$29:$D$30) -> 15529 | AC120: =SUM([61]Salidas!$D$29:$D$30) -> 6872 | AD120: =SUM([62]Salidas!$D$29:$D$30) -> 24346 | AE120: =SUM([63]Salidas!$D$29:$D$30) -> 24823 | AF120: =SUM([64]Salidas!$D$29:$D$30) -> 26386 | AG120: =SUM([65]Salidas!$D$29:$D$30) -> 24581 | AH120: =SUM([66]Salidas!$D$29:$D$30) -> 27054 | AI120: =SUM([67]Salidas!$D$29:$D$30) -> 15751 | AJ120: =SUM([68]Salidas!$D$29:$D$30) -> 6888
B121: MANDALAY | C121: =[35]Salidas!$D31 -> 2243 | D121: =[36]Salidas!$D31 -> 2238 | E121: =[37]Salidas!$D31 -> 2378 | F121: =[38]Salidas!$D31 -> 2168 | G121: =[39]Salidas!$D31 -> 1424 | H121: =[40]Salidas!$D31 -> 560 | I121: =[41]Salidas!$D31 -> 2198 | J121: =[42]Salidas!$D31 -> 2298 | K121: =[43]Salidas!$D31 -> 2284 | L121: =[44]Salidas!$D31 -> 2241 | M121: =[45]Salidas!$D31 -> 2155 | N121: =[46]Salidas!$D31 -> 1450 | O121: =[47]Salidas!$D31 -> 470 | P121: =[48]Salidas!$D31 -> 2367 | Q121: =[49]Salidas!$D31 -> 2179 | R121: =[50]Salidas!$D31 -> 2214 | S121: =[51]Salidas!$D31 -> 2223 | T121: =[52]Salidas!$D31 -> 2281 | U121: =[53]Salidas!$D31 -> 1489 | V121: =[54]Salidas!$D31 -> 491 | W121: =[55]Salidas!$D31 -> 2355 | X121: =[56]Salidas!$D31 -> 2351 | Y121: =[57]Salidas!$D31 -> 2267 | Z121: =[58]Salidas!$D31 -> 2332 | AA121: =[59]Salidas!$D31 -> 2288 | AB121: =[60]Salidas!$D31 -> 1452 | AC121: =[61]Salidas!$D31 -> 485 | AD121: =[62]Salidas!$D31 -> 2342 | AE121: =[63]Salidas!$D31 -> 2393 | AF121: =[64]Salidas!$D31 -> 2427 | AG121: =[65]Salidas!$D31 -> 2379 | AH121: =[66]Salidas!$D31 -> 2419 | AI121: =[67]Salidas!$D31 -> 1509 | AJ121: =[68]Salidas!$D31 -> 484
B122: MUNDO AVENTURA | C122: =[35]Salidas!$D32 -> 4348 | D122: =[36]Salidas!$D32 -> 4507 | E122: =[37]Salidas!$D32 -> 4531 | F122: =[38]Salidas!$D32 -> 4759 | G122: =[39]Salidas!$D32 -> 3611 | H122: =[40]Salidas!$D32 -> 1323 | I122: =[41]Salidas!$D32 -> 4383 | J122: =[42]Salidas!$D32 -> 4376 | K122: =[43]Salidas!$D32 -> 4463 | L122: =[44]Salidas!$D32 -> 4405 | M122: =[45]Salidas!$D32 -> 4669 | N122: =[46]Salidas!$D32 -> 3414 | O122: =[47]Salidas!$D32 -> 1330 | P122: =[48]Salidas!$D32 -> 4370 | Q122: =[49]Salidas!$D32 -> 3766 | R122: =[50]Salidas!$D32 -> 4072 | S122: =[51]Salidas!$D32 -> 4083 | T122: =[52]Salidas!$D32 -> 4841 | U122: =[53]Salidas!$D32 -> 3678 | V122: =[54]Salidas!$D32 -> 1302 | W122: =[55]Salidas!$D32 -> 4228 | X122: =[56]Salidas!$D32 -> 4496 | Y122: =[57]Salidas!$D32 -> 4468 | Z122: =[58]Salidas!$D32 -> 4294 | AA122: =[59]Salidas!$D32 -> 4999 | AB122: =[60]Salidas!$D32 -> 3705 | AC122: =[61]Salidas!$D32 -> 1499 | AD122: =[62]Salidas!$D32 -> 4476 | AE122: =[63]Salidas!$D32 -> 4582 | AF122: =[64]Salidas!$D32 -> 4680 | AG122: =[65]Salidas!$D32 -> 4539 | AH122: =[66]Salidas!$D32 -> 5348 | AI122: =[67]Salidas!$D32 -> 4048 | AJ122: =[68]Salidas!$D32 -> 1435
B123: MARSELLA | C123: =[35]Salidas!$D33 -> 6053 | D123: =[36]Salidas!$D33 -> 6142 | E123: =[37]Salidas!$D33 -> 6295 | F123: =[38]Salidas!$D33 -> 6178 | G123: =[39]Salidas!$D33 -> 4258 | H123: =[40]Salidas!$D33 -> 2010 | I123: =[41]Salidas!$D33 -> 6252 | J123: =[42]Salidas!$D33 -> 6303 | K123: =[43]Salidas!$D33 -> 6265 | L123: =[44]Salidas!$D33 -> 6272 | M123: =[45]Salidas!$D33 -> 6230 | N123: =[46]Salidas!$D33 -> 4334 | O123: =[47]Salidas!$D33 -> 1823 | P123: =[48]Salidas!$D33 -> 7213 | Q123: =[49]Salidas!$D33 -> 5774 | R123: =[50]Salidas!$D33 -> 6000 | S123: =[51]Salidas!$D33 -> 6077 | T123: =[52]Salidas!$D33 -> 6486 | U123: =[53]Salidas!$D33 -> 4523 | V123: =[54]Salidas!$D33 -> 1912 | W123: =[55]Salidas!$D33 -> 6235 | X123: =[56]Salidas!$D33 -> 5439 | Y123: =[57]Salidas!$D33 -> 5234 | Z123: =[58]Salidas!$D33 -> 4288 | AA123: =[59]Salidas!$D33 -> 6073 | AB123: =[60]Salidas!$D33 -> 3671 | AC123: =[61]Salidas!$D33 -> 1497 | AD123: =[62]Salidas!$D33 -> 6152 | AE123: =[63]Salidas!$D33 -> 5044 | AF123: =[64]Salidas!$D33 -> 5238 | AG123: =[65]Salidas!$D33 -> 5203 | AH123: =[66]Salidas!$D33 -> 5440 | AI123: =[67]Salidas!$D33 -> 3935 | AJ123: =[68]Salidas!$D33 -> 1521
B124: PRADERA | C124: =[35]Salidas!$D34 -> 8604 | D124: =[36]Salidas!$D34 -> 8742 | E124: =[37]Salidas!$D34 -> 8701 | F124: =[38]Salidas!$D34 -> 8475 | G124: =[39]Salidas!$D34 -> 6312 | H124: =[40]Salidas!$D34 -> 2755 | I124: =[41]Salidas!$D34 -> 8379 | J124: =[42]Salidas!$D34 -> 8319 | K124: =[43]Salidas!$D34 -> 8556 | L124: =[44]Salidas!$D34 -> 8338 | M124: =[45]Salidas!$D34 -> 8497 | N124: =[46]Salidas!$D34 -> 5881 | O124: =[47]Salidas!$D34 -> 2521 | P124: =[48]Salidas!$D34 -> 8097 | Q124: =[49]Salidas!$D34 -> 7333 | R124: =[50]Salidas!$D34 -> 7059 | S124: =[51]Salidas!$D34 -> 7381 | T124: =[52]Salidas!$D34 -> 8333 | U124: =[53]Salidas!$D34 -> 6107 | V124: =[54]Salidas!$D34 -> 2709 | W124: =[55]Salidas!$D34 -> 8283 | X124: =[56]Salidas!$D34 -> 8213 | Y124: =[57]Salidas!$D34 -> 8260 | Z124: =[58]Salidas!$D34 -> 8029 | AA124: =[59]Salidas!$D34 -> 7943 | AB124: =[60]Salidas!$D34 -> 6009 | AC124: =[61]Salidas!$D34 -> 2657 | AD124: =[62]Salidas!$D34 -> 8425 | AE124: =[63]Salidas!$D34 -> 8523 | AF124: =[64]Salidas!$D34 -> 8597 | AG124: =[65]Salidas!$D34 -> 8484 | AH124: =[66]Salidas!$D34 -> 8689 | AI124: =[67]Salidas!$D34 -> 6357 | AJ124: =[68]Salidas!$D34 -> 2382
B125: AMERICAS | C125: =[35]Salidas!$D35 -> 6497 | D125: =[36]Salidas!$D35 -> 6482 | E125: =[37]Salidas!$D35 -> 6443 | F125: =[38]Salidas!$D35 -> 6388 | G125: =[39]Salidas!$D35 -> 4457 | H125: =[40]Salidas!$D35 -> 1528 | I125: =[41]Salidas!$D35 -> 6441 | J125: =[42]Salidas!$D35 -> 6466 | K125: =[43]Salidas!$D35 -> 6402 | L125: =[44]Salidas!$D35 -> 6403 | M125: =[45]Salidas!$D35 -> 6431 | N125: =[46]Salidas!$D35 -> 4322 | O125: =[47]Salidas!$D35 -> 1558 | P125: =[48]Salidas!$D35 -> 5608 | Q125: =[49]Salidas!$D35 -> 5039 | R125: =[50]Salidas!$D35 -> 4964 | S125: =[51]Salidas!$D35 -> 5369 | T125: =[52]Salidas!$D35 -> 6274 | U125: =[53]Salidas!$D35 -> 4224 | V125: =[54]Salidas!$D35 -> 1502 | W125: =[55]Salidas!$D35 -> 6314 | X125: =[56]Salidas!$D35 -> 6214 | Y125: =[57]Salidas!$D35 -> 6188 | Z125: =[58]Salidas!$D35 -> 6231 | AA125: =[59]Salidas!$D35 -> 6470 | AB125: =[60]Salidas!$D35 -> 4330 | AC125: =[61]Salidas!$D35 -> 1398 | AD125: =[62]Salidas!$D35 -> 6574 | AE125: =[63]Salidas!$D35 -> 6424 | AF125: =[64]Salidas!$D35 -> 6526 | AG125: =[65]Salidas!$D35 -> 6404 | AH125: =[66]Salidas!$D35 -> 6469 | AI125: =[67]Salidas!$D35 -> 4335 | AJ125: =[68]Salidas!$D35 -> 1607
B126: LA CASTELLANA | C126: =[35]Salidas!$D36 -> 2267 | D126: =[36]Salidas!$D36 -> 2214 | E126: =[37]Salidas!$D36 -> 2259 | F126: =[38]Salidas!$D36 -> 2201 | G126: =[39]Salidas!$D36 -> 1284 | H126: =[40]Salidas!$D36 -> 480 | I126: =[41]Salidas!$D36 -> 2231 | J126: =[42]Salidas!$D36 -> 2270 | K126: =[43]Salidas!$D36 -> 2272 | L126: =[44]Salidas!$D36 -> 2234 | M126: =[45]Salidas!$D36 -> 2273 | N126: =[46]Salidas!$D36 -> 1344 | O126: =[47]Salidas!$D36 -> 567 | P126: =[48]Salidas!$D36 -> 2128 | Q126: =[49]Salidas!$D36 -> 2119 | R126: =[50]Salidas!$D36 -> 2137 | S126: =[51]Salidas!$D36 -> 2111 | T126: =[52]Salidas!$D36 -> 2137 | U126: =[53]Salidas!$D36 -> 1242 | V126: =[54]Salidas!$D36 -> 520 | W126: =[55]Salidas!$D36 -> 2140 | X126: =[56]Salidas!$D36 -> 2182 | Y126: =[57]Salidas!$D36 -> 2166 | Z126: =[58]Salidas!$D36 -> 2063 | AA126: =[59]Salidas!$D36 -> 2150 | AB126: =[60]Salidas!$D36 -> 1309 | AC126: =[61]Salidas!$D36 -> 395 | AD126: =[62]Salidas!$D36 -> 2173 | AE126: =[63]Salidas!$D36 -> 2193 | AF126: =[64]Salidas!$D36 -> 2197 | AG126: =[65]Salidas!$D36 -> 2272 | AH126: =[66]Salidas!$D36 -> 2212 | AI126: =[67]Salidas!$D36 -> 1312 | AJ126: =[68]Salidas!$D36 -> 433
B127: NQS - CL. 75 | C127: =[35]Salidas!$D37 -> 5094 | D127: =[36]Salidas!$D37 -> 4911 | E127: =[37]Salidas!$D37 -> 4786 | F127: =[38]Salidas!$D37 -> 4938 | G127: =[39]Salidas!$D37 -> 3530 | H127: =[40]Salidas!$D37 -> 925 | I127: =[41]Salidas!$D37 -> 4797 | J127: =[42]Salidas!$D37 -> 5000 | K127: =[43]Salidas!$D37 -> 4912 | L127: =[44]Salidas!$D37 -> 4967 | M127: =[45]Salidas!$D37 -> 4880 | N127: =[46]Salidas!$D37 -> 3519 | O127: =[47]Salidas!$D37 -> 936 | P127: =[48]Salidas!$D37 -> 4769 | Q127: =[49]Salidas!$D37 -> 4537 | R127: =[50]Salidas!$D37 -> 4832 | S127: =[51]Salidas!$D37 -> 4939 | T127: =[52]Salidas!$D37 -> 5083 | U127: =[53]Salidas!$D37 -> 3490 | V127: =[54]Salidas!$D37 -> 990 | W127: =[55]Salidas!$D37 -> 4962 | X127: =[56]Salidas!$D37 -> 4653 | Y127: =[57]Salidas!$D37 -> 4950 | Z127: =[58]Salidas!$D37 -> 4934 | AA127: =[59]Salidas!$D37 -> 4887 | AB127: =[60]Salidas!$D37 -> 3558 | AC127: =[61]Salidas!$D37 -> 1037 | AD127: =[62]Salidas!$D37 -> 5127 | AE127: =[63]Salidas!$D37 -> 5115 | AF127: =[64]Salidas!$D37 -> 5052 | AG127: =[65]Salidas!$D37 -> 5279 | AH127: =[66]Salidas!$D37 -> 5303 | AI127: =[67]Salidas!$D37 -> 3679 | AJ127: =[68]Salidas!$D37 -> 961
B128: AV. CHILE NORTE | C128: =[35]Salidas!$D38 -> 3535 | D128: =[36]Salidas!$D38 -> 3536 | E128: =[37]Salidas!$D38 -> 3459 | F128: =[38]Salidas!$D38 -> 3640 | G128: =[39]Salidas!$D38 -> 2604 | H128: =[40]Salidas!$D38 -> 977 | I128: =[41]Salidas!$D38 -> 3604 | J128: =[42]Salidas!$D38 -> 3626 | K128: =[43]Salidas!$D38 -> 3621 | L128: =[44]Salidas!$D38 -> 3847 | M128: =[45]Salidas!$D38 -> 3621 | N128: =[46]Salidas!$D38 -> 2640 | O128: =[47]Salidas!$D38 -> 1023 | P128: =[48]Salidas!$D38 -> 3668 | Q128: =[49]Salidas!$D38 -> 4800 | R128: =[50]Salidas!$D38 -> 7037 | S128: =[51]Salidas!$D38 -> 7356 | T128: =[52]Salidas!$D38 -> 7419 | U128: =[53]Salidas!$D38 -> 5320 | V128: =[54]Salidas!$D38 -> 1883 | W128: =[55]Salidas!$D38 -> 7563 | X128: =[56]Salidas!$D38 -> 7376 | Y128: =[57]Salidas!$D38 -> 7474 | Z128: =[58]Salidas!$D38 -> 7407 | AA128: =[59]Salidas!$D38 -> 7268 | AB128: =[60]Salidas!$D38 -> 5277 | AC128: =[61]Salidas!$D38 -> 1858 | AD128: =[62]Salidas!$D38 -> 7451 | AE128: =[63]Salidas!$D38 -> 7530 | AF128: =[64]Salidas!$D38 -> 7577 | AG128: =[65]Salidas!$D38 -> 7495 | AH128: =[66]Salidas!$D38 -> 7477 | AI128: =[67]Salidas!$D38 -> 5251 | AJ128: =[68]Salidas!$D38 -> 1815
B129: AV. CHILE SUR | C129: =[35]Salidas!$D39 -> 4439 | D129: =[36]Salidas!$D39 -> 4553 | E129: =[37]Salidas!$D39 -> 4441 | F129: =[38]Salidas!$D39 -> 4461 | G129: =[39]Salidas!$D39 -> 3276 | H129: =[40]Salidas!$D39 -> 1190 | I129: =[41]Salidas!$D39 -> 4566 | J129: =[42]Salidas!$D39 -> 4451 | K129: =[43]Salidas!$D39 -> 4479 | L129: =[44]Salidas!$D39 -> 4665 | M129: =[45]Salidas!$D39 -> 4528 | N129: =[46]Salidas!$D39 -> 3151 | O129: =[47]Salidas!$D39 -> 1251 | P129: =[48]Salidas!$D39 -> 4514 | Q129: =[49]Salidas!$D39 -> 2546 | R129: =[50]Salidas!$D39 -> 201 | S129: =[51]Salidas!$D39 -> 12 | T129: =[52]Salidas!$D39 -> 12 | U129: =[53]Salidas!$D39 -> 19 | V129: =[54]Salidas!$D39 -> 0 | W129: =[55]Salidas!$D39 -> 0 | X129: =[56]Salidas!$D39 -> 12 | Y129: =[57]Salidas!$D39 -> 9 | Z129: =[58]Salidas!$D39 -> 16 | AA129: =[59]Salidas!$D39 -> 0 | AB129: =[60]Salidas!$D39 -> 1 | AC129: =[61]Salidas!$D39 -> 0 | AD129: =[62]Salidas!$D39 -> 0 | AE129: =[63]Salidas!$D39 -> 0 | AF129: =[64]Salidas!$D39 -> 0 | AG129: =[65]Salidas!$D39 -> 0 | AH129: =[66]Salidas!$D39 -> 0 | AI129: =[67]Salidas!$D39 -> 0 | AJ129: =[68]Salidas!$D39 -> 0
B130: SIMON BOLIVAR | C130: =[35]Salidas!$D40 -> 7151 | D130: =[36]Salidas!$D40 -> 7385 | E130: =[37]Salidas!$D40 -> 6996 | F130: =[38]Salidas!$D40 -> 7316 | G130: =[39]Salidas!$D40 -> 4902 | H130: =[40]Salidas!$D40 -> 1449 | I130: =[41]Salidas!$D40 -> 7009 | J130: =[42]Salidas!$D40 -> 7373 | K130: =[43]Salidas!$D40 -> 7146 | L130: =[44]Salidas!$D40 -> 7203 | M130: =[45]Salidas!$D40 -> 7102 | N130: =[46]Salidas!$D40 -> 5014 | O130: =[47]Salidas!$D40 -> 1445 | P130: =[48]Salidas!$D40 -> 6945 | Q130: =[49]Salidas!$D40 -> 6982 | R130: =[50]Salidas!$D40 -> 7000 | S130: =[51]Salidas!$D40 -> 7115 | T130: =[52]Salidas!$D40 -> 7439 | U130: =[53]Salidas!$D40 -> 5366 | V130: =[54]Salidas!$D40 -> 1412 | W130: =[55]Salidas!$D40 -> 7435 | X130: =[56]Salidas!$D40 -> 7656 | Y130: =[57]Salidas!$D40 -> 7483 | Z130: =[58]Salidas!$D40 -> 7809 | AA130: =[59]Salidas!$D40 -> 7627 | AB130: =[60]Salidas!$D40 -> 5498 | AC130: =[61]Salidas!$D40 -> 1274 | AD130: =[62]Salidas!$D40 -> 6488 | AE130: =[63]Salidas!$D40 -> 7329 | AF130: =[64]Salidas!$D40 -> 7638 | AG130: =[65]Salidas!$D40 -> 7773 | AH130: =[66]Salidas!$D40 -> 7694 | AI130: =[67]Salidas!$D40 -> 5670 | AJ130: =[68]Salidas!$D40 -> 1333
B131: COLISEO | C131: =[35]Salidas!$D41 -> 4016 | D131: =[36]Salidas!$D41 -> 4189 | E131: =[37]Salidas!$D41 -> 4506 | F131: =[38]Salidas!$D41 -> 4200 | G131: =[39]Salidas!$D41 -> 2842 | H131: =[40]Salidas!$D41 -> 1349 | I131: =[41]Salidas!$D41 -> 3984 | J131: =[42]Salidas!$D41 -> 4037 | K131: =[43]Salidas!$D41 -> 4355 | L131: =[44]Salidas!$D41 -> 4774 | M131: =[45]Salidas!$D41 -> 5483 | N131: =[46]Salidas!$D41 -> 3971 | O131: =[47]Salidas!$D41 -> 2137 | P131: =[48]Salidas!$D41 -> 4327 | Q131: =[49]Salidas!$D41 -> 4296 | R131: =[50]Salidas!$D41 -> 4178 | S131: =[51]Salidas!$D41 -> 4314 | T131: =[52]Salidas!$D41 -> 4501 | U131: =[53]Salidas!$D41 -> 2881 | V131: =[54]Salidas!$D41 -> 1176 | W131: =[55]Salidas!$D41 -> 4252 | X131: =[56]Salidas!$D41 -> 4351 | Y131: =[57]Salidas!$D41 -> 4270 | Z131: =[58]Salidas!$D41 -> 4678 | AA131: =[59]Salidas!$D41 -> 4357 | AB131: =[60]Salidas!$D41 -> 3000 | AC131: =[61]Salidas!$D41 -> 1863 | AD131: =[62]Salidas!$D41 -> 4180 | AE131: =[63]Salidas!$D41 -> 4573 | AF131: =[64]Salidas!$D41 -> 4427 | AG131: =[65]Salidas!$D41 -> 4550 | AH131: =[66]Salidas!$D41 -> 4464 | AI131: =[67]Salidas!$D41 -> 3635 | AJ131: =[68]Salidas!$D41 -> 1193
B132: EL CAMPIN | C132: =[35]Salidas!$D42 -> 8170 | D132: =[36]Salidas!$D42 -> 8196 | E132: =[37]Salidas!$D42 -> 8369 | F132: =[38]Salidas!$D42 -> 8839 | G132: =[39]Salidas!$D42 -> 6310 | H132: =[40]Salidas!$D42 -> 4668 | I132: =[41]Salidas!$D42 -> 8036 | J132: =[42]Salidas!$D42 -> 8395 | K132: =[43]Salidas!$D42 -> 8204 | L132: =[44]Salidas!$D42 -> 9215 | M132: =[45]Salidas!$D42 -> 9243 | N132: =[46]Salidas!$D42 -> 8599 | O132: =[47]Salidas!$D42 -> 4181 | P132: =[48]Salidas!$D42 -> 8197 | Q132: =[49]Salidas!$D42 -> 8414 | R132: =[50]Salidas!$D42 -> 7978 | S132: =[51]Salidas!$D42 -> 8148 | T132: =[52]Salidas!$D42 -> 8907 | U132: =[53]Salidas!$D42 -> 8948 | V132: =[54]Salidas!$D42 -> 2742 | W132: =[55]Salidas!$D42 -> 8909 | X132: =[56]Salidas!$D42 -> 10252 | Y132: =[57]Salidas!$D42 -> 8230 | Z132: =[58]Salidas!$D42 -> 8913 | AA132: =[59]Salidas!$D42 -> 8619 | AB132: =[60]Salidas!$D42 -> 6900 | AC132: =[61]Salidas!$D42 -> 6206 | AD132: =[62]Salidas!$D42 -> 8183 | AE132: =[63]Salidas!$D42 -> 9601 | AF132: =[64]Salidas!$D42 -> 8476 | AG132: =[65]Salidas!$D42 -> 8589 | AH132: =[66]Salidas!$D42 -> 9369 | AI132: =[67]Salidas!$D42 -> 8510 | AJ132: =[68]Salidas!$D42 -> 4556
... B155: PORTAL SUR | C155: =[35]Salidas!$D65 -> 44690 | D155: =[36]Salidas!$D65 -> 43952 | E155: =[37]Salidas!$D65 -> 43333 | F155: =[38]Salidas!$D65 -> 44734 | G155: =[39]Salidas!$D65 -> 34765 | H155: =[40]Salidas!$D65 -> 17363 | I155: =[41]Salidas!$D65 -> 44126 | J155: =[42]Salidas!$D65 -> 44641 | K155: =[43]Salidas!$D65 -> 43751 | L155: =[44]Salidas!$D65 -> 44536 | M155: =[45]Salidas!$D65 -> 45229 | N155: =[46]Salidas!$D65 -> 34754 | O155: =[47]Salidas!$D65 -> 16646 | P155: =[48]Salidas!$D65 -> 48920 | Q155: =[49]Salidas!$D65 -> 49828 | R155: =[50]Salidas!$D65 -> 49639 | S155: =[51]Salidas!$D65 -> 47960 | T155: =[52]Salidas!$D65 -> 46266 | U155: =[53]Salidas!$D65 -> 36295 | V155: =[54]Salidas!$D65 -> 16938 | W155: =[55]Salidas!$D65 -> 45874 | X155: =[56]Salidas!$D65 -> 46466 | Y155: =[57]Salidas!$D65 -> 45531 | Z155: =[58]Salidas!$D65 -> 46155 | AA155: =[59]Salidas!$D65 -> 46334 | AB155: =[60]Salidas!$D65 -> 35907 | AC155: =[61]Salidas!$D65 -> 17216 | AD155: =[62]Salidas!$D65 -> 46134 | AE155: =[63]Salidas!$D65 -> 47117 | AF155: =[64]Salidas!$D65 -> 46858 | AG155: =[65]Salidas!$D65 -> 47305 | AH155: =[66]Salidas!$D65 -> 45914 | AI155: =[67]Salidas!$D65 -> 37212 | AJ155: =[68]Salidas!$D65 -> 17637
B156: PORTAL SUBA | C156: =[35]Salidas!$D$73 -> 60793 | D156: =[36]Salidas!$D$73 -> 60592 | E156: =[37]Salidas!$D$73 -> 58392 | F156: =[38]Salidas!$D$73 -> 59710 | G156: =[39]Salidas!$D$73 -> 43539 | H156: =[40]Salidas!$D$73 -> 23222 | I156: =[41]Salidas!$D$73 -> 63184 | J156: =[42]Salidas!$D$73 -> 63446 | K156: =[43]Salidas!$D$73 -> 63586 | L156: =[44]Salidas!$D$73 -> 62611 | M156: =[45]Salidas!$D$73 -> 61774 | N156: =[46]Salidas!$D$73 -> 43991 | O156: =[47]Salidas!$D$73 -> 22111 | P156: =[48]Salidas!$D$73 -> 64422 | Q156: =[49]Salidas!$D$73 -> 66803 | R156: =[50]Salidas!$D$73 -> 64415 | S156: =[51]Salidas!$D$73 -> 63505 | T156: =[52]Salidas!$D$73 -> 63039 | U156: =[53]Salidas!$D$73 -> 44727 | V156: =[54]Salidas!$D$73 -> 22955 | W156: =[55]Salidas!$D$73 -> 64552 | X156: =[56]Salidas!$D$73 -> 67717 | Y156: =[57]Salidas!$D$73 -> 64331 | Z156: =[58]Salidas!$D$73 -> 65255 | AA156: =[59]Salidas!$D$73 -> 62515 | AB156: =[60]Salidas!$D$73 -> 45497 | AC156: =[61]Salidas!$D$73 -> 23012 | AD156: =[62]Salidas!$D$73 -> 64092 | AE156: =[63]Salidas!$D$73 -> 66555 | AF156: =[64]Salidas!$D$73 -> 66659 | AG156: =[65]Salidas!$D$73 -> 65096 | AH156: =[66]Salidas!$D$73 -> 63793 | AI156: =[67]Salidas!$D$73 -> 47162 | AJ156: =[68]Salidas!$D$73 -> 24025
B157: LA CAMPIÑA | C157: =[35]Salidas!$D81 -> 6313 | D157: =[36]Salidas!$D81 -> 6211 | E157: =[37]Salidas!$D81 -> 6136 | F157: =[38]Salidas!$D81 -> 6210 | G157: =[39]Salidas!$D81 -> 4140 | H157: =[40]Salidas!$D81 -> 1705 | I157: =[41]Salidas!$D81 -> 6278 | J157: =[42]Salidas!$D81 -> 6625 | K157: =[43]Salidas!$D81 -> 6333 | L157: =[44]Salidas!$D81 -> 6452 | M157: =[45]Salidas!$D81 -> 6175 | N157: =[46]Salidas!$D81 -> 4166 | O157: =[47]Salidas!$D81 -> 1688 | P157: =[48]Salidas!$D81 -> 6347 | Q157: =[49]Salidas!$D81 -> 6434 | R157: =[50]Salidas!$D81 -> 6406 | S157: =[51]Salidas!$D81 -> 6481 | T157: =[52]Salidas!$D81 -> 6390 | U157: =[53]Salidas!$D81 -> 4239 | V157: =[54]Salidas!$D81 -> 1750 | W157: =[55]Salidas!$D81 -> 6424 | X157: =[56]Salidas!$D81 -> 6613 | Y157: =[57]Salidas!$D81 -> 6639 | Z157: =[58]Salidas!$D81 -> 6429 | AA157: =[59]Salidas!$D81 -> 6197 | AB157: =[60]Salidas!$D81 -> 4193 | AC157: =[61]Salidas!$D81 -> 1790 | AD157: =[62]Salidas!$D81 -> 6475 | AE157: =[63]Salidas!$D81 -> 6518 | AF157: =[64]Salidas!$D81 -> 6602 | AG157: =[65]Salidas!$D81 -> 6507 | AH157: =[66]Salidas!$D81 -> 6336 | AI157: =[67]Salidas!$D81 -> 4675 | AJ157: =[68]Salidas!$D81 -> 1755
B158: SUBA - TV- 91 | C158: =[35]Salidas!$D82 -> 9029 | D158: =[36]Salidas!$D82 -> 8962 | E158: =[37]Salidas!$D82 -> 8602 | F158: =[38]Salidas!$D82 -> 8540 | G158: =[39]Salidas!$D82 -> 6431 | H158: =[40]Salidas!$D82 -> 3476 | I158: =[41]Salidas!$D82 -> 8851 | J158: =[42]Salidas!$D82 -> 8771 | K158: =[43]Salidas!$D82 -> 8626 | L158: =[44]Salidas!$D82 -> 8622 | M158: =[45]Salidas!$D82 -> 8507 | N158: =[46]Salidas!$D82 -> 6317 | O158: =[47]Salidas!$D82 -> 3301 | P158: =[48]Salidas!$D82 -> 8869 | Q158: =[49]Salidas!$D82 -> 8785 | R158: =[50]Salidas!$D82 -> 8603 | S158: =[51]Salidas!$D82 -> 9004 | T158: =[52]Salidas!$D82 -> 8917 | U158: =[53]Salidas!$D82 -> 6657 | V158: =[54]Salidas!$D82 -> 3290 | W158: =[55]Salidas!$D82 -> 8696 | X158: =[56]Salidas!$D82 -> 8632 | Y158: =[57]Salidas!$D82 -> 8505 | Z158: =[58]Salidas!$D82 -> 8490 | AA158: =[59]Salidas!$D82 -> 8716 | AB158: =[60]Salidas!$D82 -> 6353 | AC158: =[61]Salidas!$D82 -> 3243 | AD158: =[62]Salidas!$D82 -> 9113 | AE158: =[63]Salidas!$D82 -> 9200 | AF158: =[64]Salidas!$D82 -> 9205 | AG158: =[65]Salidas!$D82 -> 9225 | AH158: =[66]Salidas!$D82 -> 9124 | AI158: =[67]Salidas!$D82 -> 6866 | AJ158: =[68]Salidas!$D82 -> 3324
B159: 21 ANGELES | C159: =[35]Salidas!$D83 -> 1170 | D159: =[36]Salidas!$D83 -> 1277 | E159: =[37]Salidas!$D83 -> 1248 | F159: =[38]Salidas!$D83 -> 1142 | G159: =[39]Salidas!$D83 -> 832 | H159: =[40]Salidas!$D83 -> 470 | I159: =[41]Salidas!$D83 -> 1175 | J159: =[42]Salidas!$D83 -> 1207 | K159: =[43]Salidas!$D83 -> 1156 | L159: =[44]Salidas!$D83 -> 1304 | M159: =[45]Salidas!$D83 -> 1186 | N159: =[46]Salidas!$D83 -> 892 | O159: =[47]Salidas!$D83 -> 436 | P159: =[48]Salidas!$D83 -> 1257 | Q159: =[49]Salidas!$D83 -> 1267 | R159: =[50]Salidas!$D83 -> 1218 | S159: =[51]Salidas!$D83 -> 1204 | T159: =[52]Salidas!$D83 -> 1232 | U159: =[53]Salidas!$D83 -> 921 | V159: =[54]Salidas!$D83 -> 419 | W159: =[55]Salidas!$D83 -> 1240 | X159: =[56]Salidas!$D83 -> 1284 | Y159: =[57]Salidas!$D83 -> 1332 | Z159: =[58]Salidas!$D83 -> 1166 | AA159: =[59]Salidas!$D83 -> 1298 | AB159: =[60]Salidas!$D83 -> 959 | AC159: =[61]Salidas!$D83 -> 465 | AD159: =[62]Salidas!$D83 -> 1373 | AE159: =[63]Salidas!$D83 -> 1267 | AF159: =[64]Salidas!$D83 -> 1173 | AG159: =[65]Salidas!$D83 -> 1211 | AH159: =[66]Salidas!$D83 -> 1181 | AI159: =[67]Salidas!$D83 -> 882 | AJ159: =[68]Salidas!$D83 -> 380
B160: GRATAMIRA | C160: =[35]Salidas!$D84 -> 1181 | D160: =[36]Salidas!$D84 -> 1244 | E160: =[37]Salidas!$D84 -> 1474 | F160: =[38]Salidas!$D84 -> 1240 | G160: =[39]Salidas!$D84 -> 1012 | H160: =[40]Salidas!$D84 -> 424 | I160: =[41]Salidas!$D84 -> 1122 | J160: =[42]Salidas!$D84 -> 1261 | K160: =[43]Salidas!$D84 -> 1171 | L160: =[44]Salidas!$D84 -> 1420 | M160: =[45]Salidas!$D84 -> 1233 | N160: =[46]Salidas!$D84 -> 1057 | O160: =[47]Salidas!$D84 -> 588 | P160: =[48]Salidas!$D84 -> 1103 | Q160: =[49]Salidas!$D84 -> 1218 | R160: =[50]Salidas!$D84 -> 1234 | S160: =[51]Salidas!$D84 -> 1577 | T160: =[52]Salidas!$D84 -> 1269 | U160: =[53]Salidas!$D84 -> 1085 | V160: =[54]Salidas!$D84 -> 577 | W160: =[55]Salidas!$D84 -> 1157 | X160: =[56]Salidas!$D84 -> 1207 | Y160: =[57]Salidas!$D84 -> 1210 | Z160: =[58]Salidas!$D84 -> 1362 | AA160: =[59]Salidas!$D84 -> 1132 | AB160: =[60]Salidas!$D84 -> 1154 | AC160: =[61]Salidas!$D84 -> 581 | AD160: =[62]Salidas!$D84 -> 1158 | AE160: =[63]Salidas!$D84 -> 1228 | AF160: =[64]Salidas!$D84 -> 1266 | AG160: =[65]Salidas!$D84 -> 1405 | AH160: =[66]Salidas!$D84 -> 1227 | AI160: =[67]Salidas!$D84 -> 1078 | AJ160: =[68]Salidas!$D84 -> 467
B161: SUBA - AV. BOYACA NORTE | C161: =[35]Salidas!$D85 -> 1367 | D161: =[36]Salidas!$D85 -> 1310 | E161: =[37]Salidas!$D85 -> 1431 | F161: =[38]Salidas!$D85 -> 1270 | G161: =[39]Salidas!$D85 -> 941 | H161: =[40]Salidas!$D85 -> 393 | I161: =[41]Salidas!$D85 -> 1324 | J161: =[42]Salidas!$D85 -> 1312 | K161: =[43]Salidas!$D85 -> 1272 | L161: =[44]Salidas!$D85 -> 1372 | M161: =[45]Salidas!$D85 -> 1308 | N161: =[46]Salidas!$D85 -> 954 | O161: =[47]Salidas!$D85 -> 472 | P161: =[48]Salidas!$D85 -> 1319 | Q161: =[49]Salidas!$D85 -> 1451 | R161: =[50]Salidas!$D85 -> 1379 | S161: =[51]Salidas!$D85 -> 1388 | T161: =[52]Salidas!$D85 -> 1391 | U161: =[53]Salidas!$D85 -> 1057 | V161: =[54]Salidas!$D85 -> 410 | W161: =[55]Salidas!$D85 -> 1426 | X161: =[56]Salidas!$D85 -> 1385 | Y161: =[57]Salidas!$D85 -> 1403 | Z161: =[58]Salidas!$D85 -> 1357 | AA161: =[59]Salidas!$D85 -> 1340 | AB161: =[60]Salidas!$D85 -> 960 | AC161: =[61]Salidas!$D85 -> 412 | AD161: =[62]Salidas!$D85 -> 1385 | AE161: =[63]Salidas!$D85 -> 1360 | AF161: =[64]Salidas!$D85 -> 1383 | AG161: =[65]Salidas!$D85 -> 1397 | AH161: =[66]Salidas!$D85 -> 1419 | AI161: =[67]Salidas!$D85 -> 1015 | AJ161: =[68]Salidas!$D85 -> 406
B162: SUBA - AV. BOYACA SUR | C162: =[35]Salidas!$D86 -> 2905 | D162: =[36]Salidas!$D86 -> 3008 | E162: =[37]Salidas!$D86 -> 2884 | F162: =[38]Salidas!$D86 -> 2902 | G162: =[39]Salidas!$D86 -> 2068 | H162: =[40]Salidas!$D86 -> 938 | I162: =[41]Salidas!$D86 -> 3054 | J162: =[42]Salidas!$D86 -> 3137 | K162: =[43]Salidas!$D86 -> 3033 | L162: =[44]Salidas!$D86 -> 3051 | M162: =[45]Salidas!$D86 -> 2859 | N162: =[46]Salidas!$D86 -> 2004 | O162: =[47]Salidas!$D86 -> 903 | P162: =[48]Salidas!$D86 -> 3058 | Q162: =[49]Salidas!$D86 -> 3105 | R162: =[50]Salidas!$D86 -> 3104 | S162: =[51]Salidas!$D86 -> 2991 | T162: =[52]Salidas!$D86 -> 3009 | U162: =[53]Salidas!$D86 -> 2108 | V162: =[54]Salidas!$D86 -> 912 | W162: =[55]Salidas!$D86 -> 3106 | X162: =[56]Salidas!$D86 -> 3089 | Y162: =[57]Salidas!$D86 -> 3047 | Z162: =[58]Salidas!$D86 -> 3055 | AA162: =[59]Salidas!$D86 -> 3004 | AB162: =[60]Salidas!$D86 -> 2103 | AC162: =[61]Salidas!$D86 -> 878 | AD162: =[62]Salidas!$D86 -> 3085 | AE162: =[63]Salidas!$D86 -> 3158 | AF162: =[64]Salidas!$D86 -> 3206 | AG162: =[65]Salidas!$D86 -> 3196 | AH162: =[66]Salidas!$D86 -> 3127 | AI162: =[67]Salidas!$D86 -> 2307 | AJ162: =[68]Salidas!$D86 -> 916
B163: NIZA - CALLE 127 NORTE | C163: =[35]Salidas!$D87 -> 3760 | D163: =[36]Salidas!$D87 -> 3856 | E163: =[37]Salidas!$D87 -> 3726 | F163: =[38]Salidas!$D87 -> 3867 | G163: =[39]Salidas!$D87 -> 2655 | H163: =[40]Salidas!$D87 -> 717 | I163: =[41]Salidas!$D87 -> 3737 | J163: =[42]Salidas!$D87 -> 3879 | K163: =[43]Salidas!$D87 -> 3889 | L163: =[44]Salidas!$D87 -> 3940 | M163: =[45]Salidas!$D87 -> 3827 | N163: =[46]Salidas!$D87 -> 2631 | O163: =[47]Salidas!$D87 -> 733 | P163: =[48]Salidas!$D87 -> 3890 | Q163: =[49]Salidas!$D87 -> 3821 | R163: =[50]Salidas!$D87 -> 3747 | S163: =[51]Salidas!$D87 -> 3792 | T163: =[52]Salidas!$D87 -> 4048 | U163: =[53]Salidas!$D87 -> 2702 | V163: =[54]Salidas!$D87 -> 758 | W163: =[55]Salidas!$D87 -> 3906 | X163: =[56]Salidas!$D87 -> 3866 | Y163: =[57]Salidas!$D87 -> 3732 | Z163: =[58]Salidas!$D87 -> 3702 | AA163: =[59]Salidas!$D87 -> 3987 | AB163: =[60]Salidas!$D87 -> 2707 | AC163: =[61]Salidas!$D87 -> 751 | AD163: =[62]Salidas!$D87 -> 3945 | AE163: =[63]Salidas!$D87 -> 4038 | AF163: =[64]Salidas!$D87 -> 4072 | AG163: =[65]Salidas!$D87 -> 3915 | AH163: =[66]Salidas!$D87 -> 4089 | AI163: =[67]Salidas!$D87 -> 2698 | AJ163: =[68]Salidas!$D87 -> 765
B164: NIZA - CALLE 127 SUR | C164: =[35]Salidas!$D88 -> 4113 | D164: =[36]Salidas!$D88 -> 4172 | E164: =[37]Salidas!$D88 -> 4177 | F164: =[38]Salidas!$D88 -> 4295 | G164: =[39]Salidas!$D88 -> 2939 | H164: =[40]Salidas!$D88 -> 1124 | I164: =[41]Salidas!$D88 -> 3992 | J164: =[42]Salidas!$D88 -> 3941 | K164: =[43]Salidas!$D88 -> 4225 | L164: =[44]Salidas!$D88 -> 4123 | M164: =[45]Salidas!$D88 -> 4206 | N164: =[46]Salidas!$D88 -> 2921 | O164: =[47]Salidas!$D88 -> 1084 | P164: =[48]Salidas!$D88 -> 4090 | Q164: =[49]Salidas!$D88 -> 4140 | R164: =[50]Salidas!$D88 -> 4123 | S164: =[51]Salidas!$D88 -> 4154 | T164: =[52]Salidas!$D88 -> 4383 | U164: =[53]Salidas!$D88 -> 2963 | V164: =[54]Salidas!$D88 -> 1114 | W164: =[55]Salidas!$D88 -> 4049 | X164: =[56]Salidas!$D88 -> 4055 | Y164: =[57]Salidas!$D88 -> 4067 | Z164: =[58]Salidas!$D88 -> 3964 | AA164: =[59]Salidas!$D88 -> 4443 | AB164: =[60]Salidas!$D88 -> 2700 | AC164: =[61]Salidas!$D88 -> 1098 | AD164: =[62]Salidas!$D88 -> 4227 | AE164: =[63]Salidas!$D88 -> 4422 | AF164: =[64]Salidas!$D88 -> 4477 | AG164: =[65]Salidas!$D88 -> 4340 | AH164: =[66]Salidas!$D88 -> 4690 | AI164: =[67]Salidas!$D88 -> 3066 | AJ164: =[68]Salidas!$D88 -> 1104
B165: HUMEDAL CORDOBA | C165: =[35]Salidas!$D89 -> 2473 | D165: =[36]Salidas!$D89 -> 2695 | E165: =[37]Salidas!$D89 -> 2675 | F165: =[38]Salidas!$D89 -> 2470 | G165: =[39]Salidas!$D89 -> 1530 | H165: =[40]Salidas!$D89 -> 482 | I165: =[41]Salidas!$D89 -> 2485 | J165: =[42]Salidas!$D89 -> 2621 | K165: =[43]Salidas!$D89 -> 2552 | L165: =[44]Salidas!$D89 -> 2430 | M165: =[45]Salidas!$D89 -> 2453 | N165: =[46]Salidas!$D89 -> 1532 | O165: =[47]Salidas!$D89 -> 453 | P165: =[48]Salidas!$D89 -> 2492 | Q165: =[49]Salidas!$D89 -> 2473 | R165: =[50]Salidas!$D89 -> 2529 | S165: =[51]Salidas!$D89 -> 2421 | T165: =[52]Salidas!$D89 -> 2552 | U165: =[53]Salidas!$D89 -> 1534 | V165: =[54]Salidas!$D89 -> 502 | W165: =[55]Salidas!$D89 -> 2561 | X165: =[56]Salidas!$D89 -> 2702 | Y165: =[57]Salidas!$D89 -> 2635 | Z165: =[58]Salidas!$D89 -> 2489 | AA165: =[59]Salidas!$D89 -> 2472 | AB165: =[60]Salidas!$D89 -> 1601 | AC165: =[61]Salidas!$D89 -> 445 | AD165: =[62]Salidas!$D89 -> 2527 | AE165: =[63]Salidas!$D89 -> 2673 | AF165: =[64]Salidas!$D89 -> 2640 | AG165: =[65]Salidas!$D89 -> 2584 | AH165: =[66]Salidas!$D89 -> 2629 | AI165: =[67]Salidas!$D89 -> 1591 | AJ165: =[68]Salidas!$D89 -> 489
B166: SHAIO | C166: =[35]Salidas!$D90 -> 9027 | D166: =[36]Salidas!$D90 -> 8797 | E166: =[37]Salidas!$D90 -> 8789 | F166: =[38]Salidas!$D90 -> 8616 | G166: =[39]Salidas!$D90 -> 4354 | H166: =[40]Salidas!$D90 -> 1756 | I166: =[41]Salidas!$D90 -> 8645 | J166: =[42]Salidas!$D90 -> 8852 | K166: =[43]Salidas!$D90 -> 8816 | L166: =[44]Salidas!$D90 -> 8748 | M166: =[45]Salidas!$D90 -> 8470 | N166: =[46]Salidas!$D90 -> 4408 | O166: =[47]Salidas!$D90 -> 1579 | P166: =[48]Salidas!$D90 -> 8740 | Q166: =[49]Salidas!$D90 -> 8660 | R166: =[50]Salidas!$D90 -> 8722 | S166: =[51]Salidas!$D90 -> 8624 | T166: =[52]Salidas!$D90 -> 8708 | U166: =[53]Salidas!$D90 -> 4496 | V166: =[54]Salidas!$D90 -> 1583 | W166: =[55]Salidas!$D90 -> 9078 | X166: =[56]Salidas!$D90 -> 9103 | Y166: =[57]Salidas!$D90 -> 8970 | Z166: =[58]Salidas!$D90 -> 8733 | AA166: =[59]Salidas!$D90 -> 8530 | AB166: =[60]Salidas!$D90 -> 4783 | AC166: =[61]Salidas!$D90 -> 1675 | AD166: =[62]Salidas!$D90 -> 8841 | AE166: =[63]Salidas!$D90 -> 8772 | AF166: =[64]Salidas!$D90 -> 9078 | AG166: =[65]Salidas!$D90 -> 8999 | AH166: =[66]Salidas!$D90 -> 9090 | AI166: =[67]Salidas!$D90 -> 4755 | AJ166: =[68]Salidas!$D90 -> 1558
B167: PUENTE LARGO | C167: =[35]Salidas!$D91 -> 6998 | D167: =[36]Salidas!$D91 -> 6745 | E167: =[37]Salidas!$D91 -> 7028 | F167: =[38]Salidas!$D91 -> 7054 | G167: =[39]Salidas!$D91 -> 3778 | H167: =[40]Salidas!$D91 -> 1116 | I167: =[41]Salidas!$D91 -> 6701 | J167: =[42]Salidas!$D91 -> 6925 | K167: =[43]Salidas!$D91 -> 6947 | L167: =[44]Salidas!$D91 -> 7150 | M167: =[45]Salidas!$D91 -> 7015 | N167: =[46]Salidas!$D91 -> 3753 | O167: =[47]Salidas!$D91 -> 1185 | P167: =[48]Salidas!$D91 -> 6799 | Q167: =[49]Salidas!$D91 -> 6840 | R167: =[50]Salidas!$D91 -> 6878 | S167: =[51]Salidas!$D91 -> 7097 | T167: =[52]Salidas!$D91 -> 7246 | U167: =[53]Salidas!$D91 -> 3984 | V167: =[54]Salidas!$D91 -> 1193 | W167: =[55]Salidas!$D91 -> 7033 | X167: =[56]Salidas!$D91 -> 7125 | Y167: =[57]Salidas!$D91 -> 7130 | Z167: =[58]Salidas!$D91 -> 7105 | AA167: =[59]Salidas!$D91 -> 7031 | AB167: =[60]Salidas!$D91 -> 3974 | AC167: =[61]Salidas!$D91 -> 1204 | AD167: =[62]Salidas!$D91 -> 7089 | AE167: =[63]Salidas!$D91 -> 7320 | AF167: =[64]Salidas!$D91 -> 7266 | AG167: =[65]Salidas!$D91 -> 7369 | AH167: =[66]Salidas!$D91 -> 7384 | AI167: =[67]Salidas!$D91 -> 4147 | AJ167: =[68]Salidas!$D91 -> 1135
B168: SUBA - CALLE 100 | C168: =[35]Salidas!$D92 -> 4625 | D168: =[36]Salidas!$D92 -> 4618 | E168: =[37]Salidas!$D92 -> 4754 | F168: =[38]Salidas!$D92 -> 4575 | G168: =[39]Salidas!$D92 -> 2851 | H168: =[40]Salidas!$D92 -> 1011 | I168: =[41]Salidas!$D92 -> 4766 | J168: =[42]Salidas!$D92 -> 4542 | K168: =[43]Salidas!$D92 -> 4735 | L168: =[44]Salidas!$D92 -> 4860 | M168: =[45]Salidas!$D92 -> 4812 | N168: =[46]Salidas!$D92 -> 2831 | O168: =[47]Salidas!$D92 -> 1047 | P168: =[48]Salidas!$D92 -> 4501 | Q168: =[49]Salidas!$D92 -> 4734 | R168: =[50]Salidas!$D92 -> 4739 | S168: =[51]Salidas!$D92 -> 4783 | T168: =[52]Salidas!$D92 -> 4931 | U168: =[53]Salidas!$D92 -> 2939 | V168: =[54]Salidas!$D92 -> 1065 | W168: =[55]Salidas!$D92 -> 4811 | X168: =[56]Salidas!$D92 -> 4712 | Y168: =[57]Salidas!$D92 -> 4845 | Z168: =[58]Salidas!$D92 -> 4600 | AA168: =[59]Salidas!$D92 -> 4968 | AB168: =[60]Salidas!$D92 -> 2829 | AC168: =[61]Salidas!$D92 -> 947 | AD168: =[62]Salidas!$D92 -> 4765 | AE168: =[63]Salidas!$D92 -> 5017 | AF168: =[64]Salidas!$D92 -> 5256 | AG168: =[65]Salidas!$D92 -> 5074 | AH168: =[66]Salidas!$D92 -> 5134 | AI168: =[67]Salidas!$D92 -> 3121 | AJ168: =[68]Salidas!$D92 -> 957
... B171: SAN MARTIN | C171: =[35]Salidas!$D95 -> 1326 | D171: =[36]Salidas!$D95 -> 1311 | E171: =[37]Salidas!$D95 -> 1232 | F171: =[38]Salidas!$D95 -> 1294 | G171: =[39]Salidas!$D95 -> 880 | H171: =[40]Salidas!$D95 -> 313 | I171: =[41]Salidas!$D95 -> 1229 | J171: =[42]Salidas!$D95 -> 1325 | K171: =[43]Salidas!$D95 -> 1305 | L171: =[44]Salidas!$D95 -> 1225 | M171: =[45]Salidas!$D95 -> 1341 | N171: =[46]Salidas!$D95 -> 861 | O171: =[47]Salidas!$D95 -> 278 | P171: =[48]Salidas!$D95 -> 1269 | Q171: =[49]Salidas!$D95 -> 1297 | R171: =[50]Salidas!$D95 -> 1255 | S171: =[51]Salidas!$D95 -> 1346 | T171: =[52]Salidas!$D95 -> 1315 | U171: =[53]Salidas!$D95 -> 871 | V171: =[54]Salidas!$D95 -> 275 | W171: =[55]Salidas!$D95 -> 1306 | X171: =[56]Salidas!$D95 -> 1312 | Y171: =[57]Salidas!$D95 -> 1348 | Z171: =[58]Salidas!$D95 -> 1328 | AA171: =[59]Salidas!$D95 -> 1319 | AB171: =[60]Salidas!$D95 -> 846 | AC171: =[61]Salidas!$D95 -> 287 | AD171: =[62]Salidas!$D95 -> 1338 | AE171: =[63]Salidas!$D95 -> 1367 | AF171: =[64]Salidas!$D95 -> 1343 | AG171: =[65]Salidas!$D95 -> 1434 | AH171: =[66]Salidas!$D95 -> 1407 | AI171: =[67]Salidas!$D95 -> 942 | AJ171: =[68]Salidas!$D95 -> 295
B172: TOTAL F1 Salidas | C172: =+SUM(C3:C112)-C7-C10-C11-C106-C99 -> 1185116 | D172: =+SUM(D3:D112)-D7-D10-D11-D106-D99 -> 1206191 | E172: =+SUM(E3:E112)-E7-E10-E11-E106-E99 -> 1193826 | F172: =+SUM(F3:F112)-F7-F10-F11-F106-F99 -> 1218371 | G172: =+SUM(G3:G112)-G7-G10-G11-G106-G99 -> 806019 | H172: =+SUM(H3:H112)-H7-H10-H11-H106-H99 -> 346249 | I172: =+SUM(I3:I112)-I7-I10-I11-I106-I99 -> 1205269 | J172: =+SUM(J3:J112)-J7-J10-J11-J106-J99 -> 1226654 | ... AJ172: =+SUM(AJ3:AJ112)-AJ7-AJ10-AJ11-AJ106-AJ99 -> 338274 | AK172: =SUM(C172:AD172) -> 29092232
B173: TOTAL F2 Salidas | C173: =SUM(C113:C171) -> 466563 | D173: =SUM(D113:D171) -> 466904 | E173: =SUM(E113:E171) -> 465281 | F173: =SUM(F113:F171) -> 462887 | G173: =SUM(G113:G171) -> 323873 | H173: =SUM(H113:H171) -> 147906 | I173: =SUM(I113:I171) -> 465738 | J173: =SUM(J113:J171) -> 474321 | ... AJ173: =SUM(AJ113:AJ171) -> 147522 | AK173: =SUM(C173:AD173) -> 11267789
B174: TOTAL SALIDAS | C174: =+C173+C172 -> 1651679 | D174: =+D173+D172 -> 1673095 | E174: =+E173+E172 -> 1659107 | F174: =+F173+F172 -> 1681258 | G174: =+G173+G172 -> 1129892 | H174: =+H173+H172 -> 494155 | I174: =+I173+I172 -> 1671007 | J174: =+J173+J172 -> 1700975 | ... AJ174: =+AJ173+AJ172 -> 485796
C175: =+C172-Entradas!C173 -> 59188 | D175: =+D172-Entradas!D173 -> 62963 | E175: =+E172-Entradas!E173 -> 58761 | F175: =+F172-Entradas!F173 -> 72689 | G175: =+G172-Entradas!G173 -> 69956 | H175: =+H172-Entradas!H173 -> 45604 | I175: =+I172-Entradas!I173 -> 50490 | J175: =+J172-Entradas!J173 -> 53714 | ... AJ175: =+AJ172-Entradas!AJ173 -> 39986
C176: =+C173-Entradas!C174 -> -9422 | D176: =+D173-Entradas!D174 -> -7771 | E176: =+E173-Entradas!E174 -> 806 | F176: =+F173-Entradas!F174 -> -13709 | G176: =+G173-Entradas!G174 -> 55 | H176: =+H173-Entradas!H174 -> 13919 | I176: =+I173-Entradas!I174 -> -12852 | J176: =+J173-Entradas!J174 -> -13875 | ... AJ176: =+AJ173-Entradas!AJ174 -> 14381
A177: salidas alimentación fase I | C177: =+C$7+C$10+C$11+C$99+C$106+C$185+C$190+C$194+C$199 -> 250905 | D177: =+D$7+D$10+D$11+D$99+D$106+D$185+D$190+D$194+D$199 -> 252374 | E177: =+E$7+E$10+E$11+E$99+E$106+E$185+E$190+E$194+E$199 -> 248852 | F177: =+F$7+F$10+F$11+F$99+F$106+F$185+F$190+F$194+F$199 -> 250373 | G177: =+G$7+G$10+G$11+G$99+G$106+G$185+G$190+G$194+G$199 -> 187057 | H177: =+H$7+H$10+H$11+H$99+H$106+H$185+H$190+H$194+H$199 -> 105064 | I177: =+I$7+I$10+I$11+I$99+I$106+I$185+I$190+I$194+I$199 -> 256764 | J177: =+J$7+J$10+J$11+J$99+J$106+J$185+J$190+J$194+J$199 -> 258739 | ... AJ177: =+AJ$7+AJ$10+AJ$11+AJ$99+AJ$106+AJ$185+AJ$190+AJ$194+AJ$199 -> 103722
A178: % | C178: =+C177/C172 -> 0.21171345 | D178: =+D177/D172 -> 0.2092322 | E178: =+E177/E172 -> 0.20844914 | F178: =+F177/F172 -> 0.20549816 | G178: =+G177/G172 -> 0.23207517 | H178: =+H177/H172 -> 0.30343481 | I178: =+I177/I172 -> 0.2130346 | J178: =+J177/J172 -> 0.21093071 | ... AJ178: =+AJ177/AJ172 -> 0.30662126
A179: salidas alimentación Fase II | C179: =C$120+C$205+C$210+C$215+C148+C149+C204 -> 163856 | D179: =D$120+D$205+D$210+D$215+D148+D149+D204 -> 162556 | E179: =E$120+E$205+E$210+E$215+E148+E149+E204 -> 163393 | F179: =F$120+F$205+F$210+F$215+F148+F149+F204 -> 160644 | G179: =G$120+G$205+G$210+G$215+G148+G149+G204 -> 113135 | H179: =H$120+H$205+H$210+H$215+H148+H149+H204 -> 55525 | I179: =I$120+I$205+I$210+I$215+I148+I149+I204 -> 163662 | J179: =J$120+J$205+J$210+J$215+J148+J149+J204 -> 166032 | ... AJ179: =AJ$120+AJ$205+AJ$210+AJ$215+AJ148+AJ149+AJ204 -> 56222
A180: % | C180: =+C179/C173 -> 0.35119802 | D180: =+D179/D173 -> 0.34815722 | E180: =+E179/E173 -> 0.35117058 | F180: =+F179/F173 -> 0.34704798 | G180: =+G179/G173 -> 0.34931902 | H180: =+H179/H173 -> 0.37540735 | I180: =+I179/I173 -> 0.35140358 | J180: =+J179/J173 -> 0.35004143 | ... AJ180: =+AJ179/AJ173 -> 0.38110926
A181: TOTAL SALIDAS ALIMENTACION | C181: =+C179+C177 -> 414761 | D181: =+D179+D177 -> 414930 | E181: =+E179+E177 -> 412245 | F181: =+F179+F177 -> 411017 | G181: =+G179+G177 -> 300192 | H181: =+H179+H177 -> 160589 | I181: =+I179+I177 -> 420426 | J181: =+J179+J177 -> 424771 | ... AJ181: =+AJ179+AJ177 -> 159944
A182: %DESALIMENTACION | C182: =+C181/C174 -> 0.25111477 | D182: =+D181/D174 -> 0.24800146 | E182: =+E181/E174 -> 0.24847403 | F182: =+F181/F174 -> 0.24446991 | G182: =+G181/G174 -> 0.26568203 | H182: =+H181/H174 -> 0.32497698 | I182: =+I181/I174 -> 0.25160038 | J182: =+J181/J174 -> 0.24972207 | ... AJ182: =+AJ181/AJ174 -> 0.32924108
A183: Portal 80
A184: Peatonal | C184: =+[1]Salidas!$G$107 -> 17713 | D184: =+[2]Salidas!$G$107 -> 17274 | E184: =+[3]Salidas!$G$107 -> 16421 | F184: =+[4]Salidas!$G$107 -> 17960 | G184: =+[5]Salidas!$G$107 -> 15359 | H184: =+[6]Salidas!$G$107 -> 8080 | I184: =+[7]Salidas!$G$107 -> 16258 | J184: =+[8]Salidas!$G$107 -> 17350 | K184: =+[9]Salidas!$G$107 -> 15812 | L184: =+[10]Salidas!$G$107 -> 15850 | M184: =+[11]Salidas!$G$107 -> 16355 | N184: =+[12]Salidas!$G$107 -> 14887 | O184: =+[13]Salidas!$G$107 -> 7673 | P184: =+[14]Salidas!$G$107 -> 17275 | Q184: =+[15]Salidas!$G$107 -> 16774 | R184: =+[16]Salidas!$G$107 -> 16517 | S184: =+[17]Salidas!$G$107 -> 16858 | T184: =+[18]Salidas!$G$107 -> 18300 | U184: =+[19]Salidas!$G$107 -> 15574 | V184: =+[20]Salidas!$G$107 -> 8606 | W184: =+[21]Salidas!$G$107 -> 16289 | X184: =+[22]Salidas!$G$107 -> 17136 | Y184: =+[23]Salidas!$G$107 -> 16133 | Z184: =+[24]Salidas!$G$107 -> 16888 | AA184: =+[25]Salidas!$G$107 -> 17872 | AB184: =+[26]Salidas!$G$107 -> 15720 | AC184: =+[27]Salidas!$G$107 -> 8169 | AD184: =+[28]Salidas!$G$107 -> 17548 | AE184: =+[29]Salidas!$G$107 -> 17739 | AF184: =+[30]Salidas!$G$107 -> 17452 | AG184: =+[31]Salidas!$G$107 -> 16280 | AH184: =+[32]Salidas!$G$107 -> 17400 | AI184: =+[33]Salidas!$G$107 -> 15707 | AJ184: =+[34]Salidas!$G$107 -> 7752
