Workbook

Sheet 00_DATOS_1
A1: Item | B1: Descripción | C1: Indices | D1: Costo unitario
A2: 1 | B2: Valor del suelo Base GDB 2025 Catastro ($/m2) | D2: 2600000
A3: 2 | B3: IVIUR 2024 Bogotá | C3: 0.0581
A4: 3 | B4: IVIUR 2025 Bogotá | C4: 0.0682
A5: 4 | B5: IIVIUR 2024-2025 Bogotá | C5: =SUM(C3:C4) -> 0.1263
D6: Industrial | E6: Comercial | F6: Residencial No Vis | G6: Vis / Vip
A7: 5 | B7: ICOCED | D7: 1394257 | E7: 1974962 | F7: 1124998 | G7: 670000
B8: 2019 | C8: 0.028 | D8: =D7*(1+C8) -> 1433296.2 | E8: =E7*(1+C8) -> 2030260.9 | F8: =F7*(1+C8) -> 1156497.9 | G8: =G7*(1+C8) -> 688760
B9: 2020 | C9: 0.0426 | D9: =D8*(1+C9) -> 1494354.6 | E9: =E8*(1+C9) -> 2116750.1 | F9: =F8*(1+C9) -> 1205764.8 | G9: =G8*(1+C9) -> 718101.18
B10: 2021 | C10: 0.071 | D10: =D9*(1+C10) -> 1600453.8 | E10: =E9*(1+C10) -> 2267039.3 | F10: =F9*(1+C10) -> 1291374.1 | G10: =G9*(1+C10) -> 769086.36
B11: 2022 | C11: 0.1078 | D11: =D10*(1+C11) -> 1772982.7 | E11: =E10*(1+C11) -> 2511426.1 | F11: =F10*(1+C11) -> 1430584.2 | G11: =G10*(1+C11) -> 851993.87
B12: 2023 | C12: 0.0751 | D12: =D11*(1+C12) -> 1906133.7 | E12: =E11*(1+C12) -> 2700034.2 | F12: =F11*(1+C12) -> 1538021 | G12: =G11*(1+C12) -> 915978.61
B13: 2024 | C13: 0.0438 | D13: =D12*(1+C13) -> 1989622.4 | E13: =E12*(1+C13) -> 2818295.7 | F13: =F12*(1+C13) -> 1605386.4 | G13: =G12*(1+C13) -> 956098.47
B14: 2025 | C14: 0.0353 | D14: =D13*(1+C14) -> 2059856 | E14: =E13*(1+C14) -> 2917781.6 | F14: =F13*(1+C14) -> 1662056.5 | G14: =G13*(1+C14) -> 989848.75
A17: Item | B17: Descripción | C17: Indice | D17: Costo directo
A18: 6 | B18: Obligación VIP / VIS sobre Ice
A19: 7 | B19: VIP | C19: 0.1
A20: 8 | B20: VIS | C20: 0.15
A22: 9 | B22: Compensacion ESB | C22: 70890.97
A23: 10 | B23: Compensacion CORFERIAS | C23: 4363
A25: 11 | B25: Valor Directo Construcción (Chat GPT 2025) | D25: $/m2 cnt directo
A26: 12 | B26: 1-Comercio puntual | D26: 2200000
A27: 13 | B27: 2-Comercio en centros comerciales | D27: 2800000
A28: 14 | B28: 3-Espacio Público | D28: 0
A29: 15 | B29: 4-Industrial | D29: 1900000
A30: 16 | B30: 5-Logístico | D30: 1100000
A31: 17 | B31: 6-Oficinas | D31: 2800000
A32: 18 | B32: 7-Residencial | D32: 2500000
A33: 19 | B33: 8-Servicios (Clinicas,etc) | D33: 3200000
A34: 20 | B34: 9-Urbanizado_no_edificado | D34: 0
B36: OBLIGACIONES URBANISTICAS
A37: 21 | B37: Adecuacion de Espacio Público | D37: 719000 | E37: Renobo AE Calle 72
A38: 22 | B38: Costo urbanismo interno Bogotá | D38: 200000 | E38: PP Everfit 2018
A39: 23 | B39: Adeciación de vías | D39: 2170000 | E39: Renobo AE Calle 72
A41: 24 | B41: Calificación suelo VIS/VIP
A42: 25 | B42: Valor Catastra Suelo (2023) | D42: 2881206.2 | E42: $/m2
A43: 26 | B43: Valor Comercial Suelo (2023) | D43: 3472790.8 | E43: $/m2
A44: 27 | B44: Iviur 2024 | D44: 0.0581
A45: 28 | B45: Iviur 2025 | D45: 0.0682
A46: 29 | B46: Iviut Total | D46: =SUM(D44:D45) -> 0.1263
...

Sheet 00_DATOS_NORMA
A1: DATOS NORMA
A2: Item | B2: Descripción | D2: Indices
D3: valor | E3: unidad
B5: Dimensión antejardín | D5: 0 | E5: ml
B7: OBLIGACIONES URBANíSTICAS
B8: Carácter local
A9: a | B9: Cesión de suelo + Construcción de Espacio público | C9: Si | D9: 0.65 | E9: a.b.
A10: b | B10: Cesión de suelo + Construcción de Malla Vial intermedia y local | C10: Si | D10: -
A11: c | B11: El suelo de las zonas de cesión para equipamiento comunal público | C11: Si | D11: 0.03 | E11: a.b.
B12: ¿Construcción de equipamientos? | C12: x | D12: -
A13: d | B13: El suelo y la construcción de redes secundarias y locales de los servicios públicos domiciliarios y sus infraestructuras relacionadas. | C13: x
A14: e | B14: Destinación de un porcentaje obligatorio de suelo o su equivalente en área construida para VIS y VIP, | C14: Si | D14: 0.2 | E14: a.u.
A15: f | B15: Costos de estudios y ejecución de obras de mitigación de los suelos que deban sanear pasivos ameintales, contaminados o degradados | C15: x
A16: g | B16: Costos política de proytección a moradores y actividades productivas y participación ciudadana | C16: Si
A17: h | B17: Costos de formulación | C17: Si
B19: Indice de Construcción Efectivo | D19: 7
B21: Califiación suelo VIP / VIS IC > 7 Planes Parciales
B22: Vip | D22: 0.1
B23: VIS | D23: 0.15
B25: Condición artículo 305 Dec 555-2021 | D25: 0.08
B27: Elevación máxima aeropuerto | D27: 109 | E27: ml
B29: Norma de Parqueaderos
B31: Usos permitidos | F31: A.C.
B32: Residencial | C32: Si
B33: No Vis | D33: 80 | E33: m2/viv | F33: 0.25
B34: Vis | D34: 42 | E34: m2/viv | F34: 0.2
B35: Vip | D35: 42 | E35: m2 / viv | F35: 0.15
B36: Viv con servicios | F36: 0.15
B37: Medicalizadas | F37: 0.15
B41: Dotacional
B42: Equipamiento Tipo 1 | C42: Si
B43: Equipamiento Tipo 2 | C43: Si
B44: Equipamiento Tipo 3
B45: Comercial y de servicios
B46: Clasificación por área
B47: Comercial y de servicios 1 | C47: Si
B48: Comercial y de servicios 2 | C48: Si
B49: Comercial y de servicios 3 | C49: Si
B50: Clasificación por uso
B51: Comercios y servicios creativos | C51: Si
...

Sheet 00_DATOS_Usos_Norma
A1: Descripción | B1: indice | C1: Observaciones
A2: Usos permitidos
A3: Residencial (ver
A4: Vip (Obligacion en suelo) | B4: 0.1
A5: Vip (Obligacion en suelo) | B5: 0.15
A6: Vip (Obligacion en m2 cnt) | B6: 0.06
A7: Vip (Obligacion en m2 cnt) | B7: 0.08
A8: Dotacional
A9: Equipamiento Tipo 1 | C9: Con área construida < = 4000 m²
A10: Equipamiento Tipo 2 | C10: Con área construida >4000 m² <=15,000 m2.
A11: Equipamiento Tipo 3 | C11: Con área construida > 15.000 m2.
A12: Comercial y de servicios
A13: Clasificación por área
A14: Comercial y de servicios 1 | C14: Uso aglomerado o individual con área construida <= 500 m2.
A15: Comercial y de servicios 2 | C15: Uso aglomerado o individual con área construida > 500 m2. <= 4000 m2.
A16: Comercial y de servicios 3 | C16: Uso aglomerado o individual con área construida > 4000 m2.
A17: Clasificación por uso
A18: Comercios y servicios básicos
A19: Servicios de hospedaje
A20: Servicios de Oficinas:
A21: Servicios al automóvil
A22: Servicios Especiales.
A23: Servicios logísticos
A25: Usos industriales
A26: Industrial tipo 1 | C26: Uso aglomerado o individual con área construida <= 500 m2.
A27: Industrial tipo 2 | C27: Uso aglomerado o individual con área construida > 500 m2. <= 4000 m2.
A28: Industrial tipo 3 | C28: Uso aglomerado o individual con área construida > 4000 m2.

Sheet 00_Datos_Mercado
A1: Item | B1: Descripción | C1: Indice | E1: Cantidad | G1: Valor unitario | I1: Valor Total | L1: Area promedio unidad x uso | Q1: Precio m2 / uso
C2: valor | D2: unidad | E2: valor | F2: unidad | G2: valor | H2: unidad | I2: valor | J2: unidad | L2: Valor | M2: unidad
A3: 1 | B3: a_CS - Creativos | E3: 100 | L3: 70 | M3: m2 | Q3: 6500000
A4: 2 | B4: b_CS - General (Comercio + Oficinas + Hospedaje) | E4: 100 | L4: 70 | M4: m2 | Q4: 7500000
A5: 3 | B5: c_CS - Grandes Superficies | E5: 100 | Q5: 3000000
A6: 4 | B6: d_CS - Torre Empresarial (Oficinas + Hospedaje) | E6: 100 | L6: 150 | M6: m2 | Q6: 12000000
A7: 5 | B7: e_CS - Innovation (H, CS, Gamers) | E7: 100 | L7: 50 | M7: m2 | N7: vip | Q7: 9000000
A8: 6 | B8: f_RES - VIS Ru | L8: =E13 -> 48 | M8: m2 | N8: =E14 -> 42 | O8: m2
A9: 7 | B9: h_RES - VIP Ru | L9: 42 | M9: m2
A10: 8 | B10: i_RES - No VIS | E10: 80 | L10: 90 | M10: m2
B12: No Vis | Q12: 7500000
A13: 9 | B13: Vis RU | C13: 175 | D13: SMMLV | E13: 48 | F13: m2 | G13: =I13/E13 -> 6383507.8 | H13: $/m2 | I13: =C13*I15 -> 306408375 | J13: $ | Q13: =I13/E13 -> 6383507.8
A14: 10 | B14: Vip RU | C14: 90 | D14: SMMLV | E14: 42 | F14: m2 | G14: =I14/E14 -> 3751939.3 | H14: $/m2 | I14: =C14*I15 -> 157581450 | J14: $ | Q14: =I14/E14 -> 3751939.3
A15: 11 | B15: SMMLV | I15: =1750905 -> 1750905 | J15: $
B18: Locales Comerciales | E18: =SUM(E19:E22) -> 905.63 | F18: m2 | G18: =I18/E18 -> 5284777.6 | H18: $/m2 | I18: =SUM(I19:I22) -> 4786053175
A19: 12 | B19: Torre Estación Central | E19: 20.63 | F19: m2 | G19: =I19/E19 -> 7365971.9 | H19: $/m2 | I19: 151960000 | J19: $
A20: 13 | B20: Local venta Chapinero (Usado) | E20: 450 | F20: m2 | G20: =I20/E20 -> 5111111.1 | H20: $/m2 | I20: 2300000000 | J20: $
A21: 14 | B21: Local venta Santa Fé (usado) | E21: 135 | F21: m2 | G21: =I21/E21 -> 6548838.3 | H21: $/m2 | I21: 884093175 | J21: $
A22: 15 | B22: Local Venta Quinta Camacho (Usado) | E22: 300 | F22: m2 | G22: =I22/E22 -> 4833333.3 | H22: $/m2 | I22: 1450000000 | J22: $
A23: 16 | B23: Florens Origen Consultorios | E23: 89 | F23: m2 | G23: =I23/E23 -> 4885618 | H23: $/m2 | I23: 434820000 | J23: $
B24: Oficinas
A25: 17 | B25: Torre 126 Oficina en Venta | E25: 70.02 | F25: m2 | G25: =I25/E25 -> 11983390 | H25: $/m2 | I25: 839077000 | J25: $
A26: 18 | B26: Meridiano IKONIK | E26: 37.37 | F26: m2 | G26: =I26/E26 -> 8000000 | H26: $/m2 | I26: 298960000 | J26: $
A27: 19 | B27: Life 72 | E27: 48 | F27: m2 | G27: =I27/E27 -> 9333333.3 | H27: $/m2 | I27: 448000000 | J27: $
B28: NO VIS | E28: =SUM(E29:E33) -> 273.46 | G28: =I28/E28 -> 8168652.3 | H28: $/m2 | I28: =SUM(I29:I33) -> 2233799668 | J28: $
A29: 20 | B29: Arborea | E29: 69.75 | F29: m2 | G29: =I29/E29 -> 4074618.9 | H29: $/m2 | I29: 284204668 | J29: $
A30: 21 | B30: Celeste | E30: 44 | F30: m2 | G30: =I30/E30 -> 7413636.4 | H30: $/m2 | I30: 326200000 | J30: $
A31: 22 | B31: Centriko | E31: 60.35 | F31: m2 | G31: =I31/E31 -> 8483761.4 | H31: $/m2 | I31: 511995000 | J31: $
A32: 23 | B32: Bosscatta | E32: 36 | F32: m2 | G32: =I32/E32 -> 10277778 | H32: $/m2 | I32: 370000000 | J32: $
A33: 24 | B33: Element 142 | E33: 63.36 | F33: m2 | G33: =I33/E33 -> 11701389 | H33: $/m2 | I33: 741400000 | J33: $
B34: Fuente: https://www.metrocuadrado.com/local/venta/bogota/?search=form
B36: Parqueaderos | E36: =SUM(E37:E39) -> 58 | G36: =I36/E36 -> 2741379.3 | H36: $/m2 | I36: =SUM(I37:I39) -> 159000000
A37: 25 | B37: Chapinero la Cabrera (usado) | E37: 10 | F37: m2 | G37: =I37/E37 -> 4000000 | H37: $/m2 | I37: 40000000 | J37: $
A38: 26 | B38: Usaquén Parques de Lorena (Usado) | E38: 24 | F38: m2 | G38: =I38/E38 -> 1958333.3 | H38: $/m2 | I38: 47000000 | J38: $
A39: 27 | B39: Usaquén Escuela de Infantería (Usado) | E39: 24 | F39: m2 | G39: =I39/E39 -> 3000000 | H39: $/m2 | I39: 72000000 | J39: $
B40: Fuente: https://www.ciencuadras.com/venta/bogota/parqueadero

Sheet 00_DATOS_PMoradores
A1: Lucro cesante | B1: 2024 | C1: 2025 | D1: 2026 | E1: 2027 | F1: 2028 | G1: 2029 | H1: 2030
A2: % indexación IPC | B2: 0.0514
A3: Viviendas ($/m2) | B3: 55000 | C3: =B3+(B3*$B$2) -> 57827 | D3: =C3+(C3*$B$2) -> 60799.308 | E3: =D3+(D3*$B$2) -> 63924.392 | F3: =E3+(E3*$B$2) -> 67210.106 | G3: =F3+(F3*$B$2) -> 70664.705 | H3: =G3+(G3*$B$2) -> 74296.871
A4: Locales ($/m2) | B4: 95000 | C4: =B4+(B4*$B$2) -> 99883 | D4: =C4+(C4*$B$2) -> 105016.99 | E4: =D4+(D4*$B$2) -> 110414.86 | F4: =E4+(E4*$B$2) -> 116090.18 | G4: =F4+(F4*$B$2) -> 122057.22 | H4: =G4+(G4*$B$2) -> 128330.96
A5: Mudanza por trayecto | B5: 600000 | C5: =B5+(B5*$B$2) -> 630840 | D5: =C5+(C5*$B$2) -> 663265.18 | E5: =D5+(D5*$B$2) -> 697357.01 | F5: =E5+(E5*$B$2) -> 733201.16 | G5: =F5+(F5*$B$2) -> 770887.7 | H5: =G5+(G5*$B$2) -> 810511.32
A6: $ mensual arriendo transitorio residencial | B6: 2100000 | C6: =B6+(B6*$B$2) -> 2207940 | D6: =C6+(C6*$B$2) -> 2321428.1 | E6: =D6+(D6*$B$2) -> 2440749.5 | F6: =E6+(E6*$B$2) -> 2566204 | G6: =F6+(F6*$B$2) -> 2698106.9 | H6: =G6+(G6*$B$2) -> 2836789.6
A7: $ mensual arriendo transitorio comercial | B7: 7000000 | C7: =B7+(B7*$B$2) -> 7359800 | D7: =C7+(C7*$B$2) -> 7738093.7 | E7: =D7+(D7*$B$2) -> 8135831.7 | F7: =E7+(E7*$B$2) -> 8554013.5 | G7: =F7+(F7*$B$2) -> 8993689.8 | H7: =G7+(G7*$B$2) -> 9455965.4
A8: Obligaciones transitorias
A9: Lucro cesante para todos | B9: 3 | C9: meses
A10: Arriendo transitorio | B10: 18 | C10: meses
A11: Mudanza | B11: 2 | C11: trayectos

Sheet 00_Datos_General
A1: GENERAL
A2: DESCRIPCION | B2: % Circulaciones | C2: Costo Construcción | E2: Valor Ventas (2026) | F2: Utilidad | G2: Área Unidad
D3: %
A4: a_CS - Creativos | B4: 0.3 | C4: =E4*D4 -> 2275000 | D4: 0.35 | E4: ='00_Datos_Mercado'!Q3 -> 6500000 | F4: 0.113 | G4: 50
A5: b_CS - General (Comercio + Oficinas + Hospedaje) | B5: 0.35 | C5: =E5*D5 -> 2625000 | D5: 0.35 | E5: ='00_Datos_Mercado'!Q4 -> 7500000 | F5: 0.113 | G5: 70
A6: c_CS - Grandes Superficies | B6: 0.5 | C6: =E6*D6 -> 1500000 | D6: 0.5 | E6: ='00_Datos_Mercado'!Q5 -> 3000000 | F6: 0.113 | G6: n.a.
A7: d_CS - Torre Empresarial (Oficinas + Hospedaje) | B7: 0.35 | C7: =E7*D7 -> 4200000 | D7: 0.35 | E7: ='00_Datos_Mercado'!Q6 -> 12000000 | F7: 0.113 | G7: 150
A8: e_CS - Innovation (H, CS, Gamers) | B8: 0.35 | C8: =E8*D8 -> 3150000 | D8: 0.35 | E8: ='00_Datos_Mercado'!Q7 -> 9000000 | F8: 0.113 | G8: 50
A9: No Vis | B9: 0.2 | C9: =E9*D9 -> 3375000 | D9: 0.45 | E9: ='00_Datos_Mercado'!Q12 -> 7500000 | F9: 0.113 | G9: 70
A10: VIS_RU (175 smmlv) | B10: 0.2 | C10: =E10*D10 -> 2872578.5 | D10: 0.45 | E10: ='00_Datos_Mercado'!Q13 -> 6383507.8 | F10: 0.05 | G10: 48
A11: VIP RU (90 smmlv) | B11: 0.2 | C11: =E11*D11 -> 1688372.7 | D11: 0.45 | E11: ='00_Datos_Mercado'!Q14 -> 3751939.3 | F11: 0.05 | G11: 42
A12: Estacionamientos | F12: 0.05
A13: Fuente: Metrocuadrado
A15: Urbanismo Interno | C15: 200000 | D15: $/m2
A16: Adecuación Espacio Público Blando Z.V. | C16: 450000 | D16: $/m2
A17: Adecuación vial | C17: 3500000 | D17: $/m2
A18: Construcción equipamiento Cuidado | C18: 7800000 | D18: $/m2
A19: Fuente: Renobo A.E. ZiBo
A20: Construcción Equipamiento Comunal Privado (ECP) | C20: =C9 -> 3375000 | D20: $/m2
A21: Costo Construcción Parqueaderos | C21: 1600000 | D21: $/m2
A23: Valor suelo | C23: 3535000 | D23: $/m2
A24: Fuente: Datos Abiertos Bogotá (valorref2026.zip)
A26: Valor Venta parqueadero | C26: 50000000 | D26: unidad
A27: Costo construcción parqueadero | C27: 1500000 | D27: $/m2
A28: Area unidad parqueadero | C28: 25 | D28: m2
A30: Costos RenoBo
A31: Item | B31: Descripción | C31: Valor | D31: unidad
A32: 1 | B32: Costo annual | C32: 450000000 | D32: $/año
A33: 2 | B33: Vigencia PP | C33: 20 | D33: años
A34: 3 | B34: Costo Total | C34: =C32*C33 -> 9000000000 | D34: $
B36: Fuente: Renobo

Sheet 00_Lote_CNT_Existente
A1: AVALUO SUELO + CONSTRUCCION EXISTENTES (SIN DEMOLICION)
A2: UAU | D2: VALOR DEL SUELO | G2: VALOR DE LA CONSTRUCCION | M2: Valor total Suelo + Construccion | N2: Valor unitario de suelo con (suelo + construcción) | P2: Costo demolicicón | Q2: Costo CNT - Dem | R2: Valor total Suelo + Construccion
A3: No. | B3: Lot Codigo | C3: Código_Predio | D3: Area | E3: Valor Base GDB 2026 Catastro | F3: Total | G3: Area Construida | H3: Destinación Económica | I3: Costo Directo | K3: Costo Indirecto | L3: Total
K4: 0.07 | P4: 70000
P5: $/m2
D6: =SUM(D7:D37) -> 164776.71 | F6: =SUM(F7:F37) -> 5.8248567e+11 | G6: =SUM(G7:G37) -> 308974.13 | J6: =SUM(J7:J37) -> 620450126000 | K6: =SUM(K7:K37) -> 4.3431509e+10 | L6: =SUM(L7:L37) -> 663881634820 | M6: =SUM(M7:M37) -> 1.2463673e+12 | N6: =M6/D6 -> 7563977.3 | P6: =SUM(P7:P37) -> 21628189100 | Q6: =SUM(Q7:Q37) -> 642253445720 | R6: =SUM(R7:R37) -> 1.2247391e+12
A7: ='04a_PROPUESTA_MO'!R9 -> 1 | B7: 004301001021 | C7: ='04a_PROPUESTA_MO'!S9 -> 21 | D7: ='04a_PROPUESTA_MO'!P9 -> 16461.2 | E7: ='00_Datos_General'!C$23 -> 3535000 | F7: =D7*E7 -> 5.8190343e+10 | G7: ='04a_PROPUESTA_MO'!I9 -> 43867.5 | H7: 4-Industrial | I7: =VLOOKUP(H7,'00_DATOS_1'!$B$26:$D$34,3) -> 1900000 | J7: =G7*I7 -> 83348250000 | K7: =J7*$K$4 -> 5.8343775e+09 | L7: =J7+K7 -> 89182627500 | M7: =F7+L7 -> 147372970914 | N7: =M7/D7 -> 8952747.5 | P7: =G7*$P$4 -> 3070725000 | Q7: =L7-P7 -> 86111902500 | R7: =F7+Q7 -> 144302245914
A8: ='04a_PROPUESTA_MO'!R10 -> 1 | B8: 004301001020 | C8: ='04a_PROPUESTA_MO'!S10 -> 20 | D8: ='04a_PROPUESTA_MO'!P10 -> 807.04813 | E8: ='00_Datos_General'!C$23 -> 3535000 | F8: =D8*E8 -> 2.8529152e+09 | G8: ='04a_PROPUESTA_MO'!I10 -> 811 | H8: 1-Comercio puntual | I8: =VLOOKUP(H8,'00_DATOS_1'!$B$26:$D$34,3) -> 2200000 | J8: =G8*I8 -> 1784200000 | K8: =J8*$K$4 -> 1.24894e+08 | L8: =J8+K8 -> 1909094000 | M8: =F8+L8 -> 4.7620092e+09 | N8: =M8/D8 -> 5900526.8 | P8: =G8*$P$4 -> 56770000 | Q8: =L8-P8 -> 1852324000 | R8: =F8+Q8 -> 4.7052392e+09
A9: ='04a_PROPUESTA_MO'!R11 -> 2 | B9: 004301001018 | C9: ='04a_PROPUESTA_MO'!S11 -> 18 | D9: ='04a_PROPUESTA_MO'!P11 -> 811.64101 | E9: ='00_Datos_General'!C$23 -> 3535000 | F9: =D9*E9 -> 2.869151e+09 | G9: ='04a_PROPUESTA_MO'!I11 -> 811.9 | H9: 4-Industrial | I9: =VLOOKUP(H9,'00_DATOS_1'!$B$26:$D$34,3) -> 1900000 | J9: =G9*I9 -> 1542610000 | K9: =J9*$K$4 -> 1.079827e+08 | L9: =J9+K9 -> 1650592700 | M9: =F9+L9 -> 4.5197437e+09 | N9: =M9/D9 -> 5568648.7 | P9: =G9*$P$4 -> 56833000 | Q9: =L9-P9 -> 1593759700 | R9: =F9+Q9 -> 4.4629107e+09
A10: ='04a_PROPUESTA_MO'!R12 -> 2 | B10: 004301001021 | C10: ='04a_PROPUESTA_MO'!S12 -> 21 | D10: ='04a_PROPUESTA_MO'!P12 -> 12352.429 | E10: ='00_Datos_General'!C$23 -> 3535000 | F10: =D10*E10 -> 4.3665837e+10 | G10: ='04a_PROPUESTA_MO'!I12 -> 43867.5 | H10: 4-Industrial | I10: =VLOOKUP(H10,'00_DATOS_1'!$B$26:$D$34,3) -> 1900000 | J10: =G10*I10 -> 83348250000 | K10: =J10*$K$4 -> 5.8343775e+09 | L10: =J10+K10 -> 89182627500 | M10: =F10+L10 -> 1.3284846e+11 | N10: =M10/D10 -> 10754845 | P10: =G10*$P$4 -> 3070725000 | Q10: =L10-P10 -> 86111902500 | R10: =F10+Q10 -> 1.2977774e+11
A11: ='04a_PROPUESTA_MO'!R13 -> 2 | B11: 004301001019 | C11: ='04a_PROPUESTA_MO'!S13 -> 19 | D11: ='04a_PROPUESTA_MO'!P13 -> 812.16271 | E11: ='00_Datos_General'!C$23 -> 3535000 | F11: =D11*E11 -> 2.8709952e+09 | G11: ='04a_PROPUESTA_MO'!I13 -> 812.2 | H11: 1-Comercio puntual | I11: =VLOOKUP(H11,'00_DATOS_1'!$B$26:$D$34,3) -> 2200000 | J11: =G11*I11 -> 1786840000 | K11: =J11*$K$4 -> 1.250788e+08 | L11: =J11+K11 -> 1911918800 | M11: =F11+L11 -> 4.782914e+09 | N11: =M11/D11 -> 5889108.1 | P11: =G11*$P$4 -> 56854000 | Q11: =L11-P11 -> 1855064800 | R11: =F11+Q11 -> 4.72606e+09
A12: ='04a_PROPUESTA_MO'!R14 -> 2 | B12: 004301001016 | C12: ='04a_PROPUESTA_MO'!S14 -> 16 | D12: ='04a_PROPUESTA_MO'!P14 -> 813.94625 | E12: ='00_Datos_General'!C$23 -> 3535000 | F12: =D12*E12 -> 2.8773e+09 | G12: ='04a_PROPUESTA_MO'!I14 -> 575 | H12: 4-Industrial | I12: =VLOOKUP(H12,'00_DATOS_1'!$B$26:$D$34,3) -> 1900000 | J12: =G12*I12 -> 1092500000 | K12: =J12*$K$4 -> 76475000 | L12: =J12+K12 -> 1168975000 | M12: =F12+L12 -> 4.046275e+09 | N12: =M12/D12 -> 4971182.1 | P12: =G12*$P$4 -> 40250000 | Q12: =L12-P12 -> 1128725000 | R12: =F12+Q12 -> 4.006025e+09
A13: ='04a_PROPUESTA_MO'!R15 -> 2 | B13: 004301001017 | C13: ='04a_PROPUESTA_MO'!S15 -> 17 | D13: ='04a_PROPUESTA_MO'!P15 -> 812.35244 | E13: ='00_Datos_General'!C$23 -> 3535000 | F13: =D13*E13 -> 2.8716659e+09 | G13: ='04a_PROPUESTA_MO'!I15 -> 1024.7 | H13: 1-Comercio puntual | I13: =VLOOKUP(H13,'00_DATOS_1'!$B$26:$D$34,3) -> 2200000 | J13: =G13*I13 -> 2254340000 | K13: =J13*$K$4 -> 1.578038e+08 | L13: =J13+K13 -> 2412143800 | M13: =F13+L13 -> 5.2838097e+09 | N13: =M13/D13 -> 6504331.6 | P13: =G13*$P$4 -> 71729000 | Q13: =L13-P13 -> 2340414800 | R13: =F13+Q13 -> 5.2120807e+09
A14: ='04a_PROPUESTA_MO'!R16 -> 3 | B14: 004301001013 | C14: ='04a_PROPUESTA_MO'!S16 -> 13 | D14: ='04a_PROPUESTA_MO'!P16 -> 817.51623 | E14: ='00_Datos_General'!C$23 -> 3535000 | F14: =D14*E14 -> 2.8899199e+09 | G14: ='04a_PROPUESTA_MO'!I16 -> 820 | H14: 1-Comercio puntual | I14: =VLOOKUP(H14,'00_DATOS_1'!$B$26:$D$34,3) -> 2200000 | J14: =G14*I14 -> 1804000000 | K14: =J14*$K$4 -> 1.2628e+08 | L14: =J14+K14 -> 1930280000 | M14: =F14+L14 -> 4.8201999e+09 | N14: =M14/D14 -> 5896151.9 | P14: =G14*$P$4 -> 57400000 | Q14: =L14-P14 -> 1872880000 | R14: =F14+Q14 -> 4.7627999e+09
A15: ='04a_PROPUESTA_MO'!R17 -> 3 | B15: 004301001015 | C15: ='04a_PROPUESTA_MO'!S17 -> 15 | D15: ='04a_PROPUESTA_MO'!P17 -> 814.02717 | E15: ='00_Datos_General'!C$23 -> 3535000 | F15: =D15*E15 -> 2.8775861e+09 | G15: ='04a_PROPUESTA_MO'!I17 -> 554 | H15: 4-Industrial | I15: =VLOOKUP(H15,'00_DATOS_1'!$B$26:$D$34,3) -> 1900000 | J15: =G15*I15 -> 1052600000 | K15: =J15*$K$4 -> 73682000 | L15: =J15+K15 -> 1126282000 | M15: =F15+L15 -> 4.0038681e+09 | N15: =M15/D15 -> 4918592.6 | P15: =G15*$P$4 -> 38780000 | Q15: =L15-P15 -> 1087502000 | R15: =F15+Q15 -> 3.9650881e+09
A16: ='04a_PROPUESTA_MO'!R18 -> 3 | B16: 004301001014 | C16: ='04a_PROPUESTA_MO'!S18 -> 14 | D16: ='04a_PROPUESTA_MO'!P18 -> 1634.631 | E16: ='00_Datos_General'!C$23 -> 3535000 | F16: =D16*E16 -> 5.7784205e+09 | G16: ='04a_PROPUESTA_MO'!I18 -> 1640 | H16: 1-Comercio puntual | I16: =VLOOKUP(H16,'00_DATOS_1'!$B$26:$D$34,3) -> 2200000 | J16: =G16*I16 -> 3608000000 | K16: =J16*$K$4 -> 2.5256e+08 | L16: =J16+K16 -> 3860560000 | M16: =F16+L16 -> 9.6389805e+09 | N16: =M16/D16 -> 5896731.8 | P16: =G16*$P$4 -> 114800000 | Q16: =L16-P16 -> 3745760000 | R16: =F16+Q16 -> 9.5241805e+09
A17: ='04a_PROPUESTA_MO'!R19 -> 3 | B17: 004301001021 | C17: ='04a_PROPUESTA_MO'!S19 -> 21 | D17: ='04a_PROPUESTA_MO'!P19 -> 14682.019 | E17: ='00_Datos_General'!C$23 -> 3535000 | F17: =D17*E17 -> 5.1900938e+10 | G17: ='04a_PROPUESTA_MO'!I19 -> 43867.5 | H17: 4-Industrial | I17: =VLOOKUP(H17,'00_DATOS_1'!$B$26:$D$34,3) -> 1900000 | J17: =G17*I17 -> 83348250000 | K17: =J17*$K$4 -> 5.8343775e+09 | L17: =J17+K17 -> 89182627500 | M17: =F17+L17 -> 1.4108357e+11 | N17: =M17/D17 -> 9609275.3 | P17: =G17*$P$4 -> 3070725000 | Q17: =L17-P17 -> 86111902500 | R17: =F17+Q17 -> 1.3801284e+11
A18: ='04a_PROPUESTA_MO'!R20 -> 3 | B18: 004301001012 | C18: ='04a_PROPUESTA_MO'!S20 -> 12 | D18: ='04a_PROPUESTA_MO'!P20 -> 820.37307 | E18: ='00_Datos_General'!C$23 -> 3535000 | F18: =D18*E18 -> 2.9000188e+09 | G18: ='04a_PROPUESTA_MO'!I20 -> 910.4 | H18: 1-Comercio puntual | I18: =VLOOKUP(H18,'00_DATOS_1'!$B$26:$D$34,3) -> 2200000 | J18: =G18*I18 -> 2002880000 | K18: =J18*$K$4 -> 140201600 | L18: =J18+K18 -> 2143081600 | M18: =F18+L18 -> 5.0431004e+09 | N18: =M18/D18 -> 6147325.6 | P18: =G18*$P$4 -> 63728000 | Q18: =L18-P18 -> 2079353600 | R18: =F18+Q18 -> 4.9793724e+09
... A37: ='04a_PROPUESTA_MO'!R39 -> 8 | B37: 004301001031 | C37: ='04a_PROPUESTA_MO'!S39 -> 31 | D37: ='04a_PROPUESTA_MO'!P39 -> 14752.699 | E37: ='00_Datos_General'!C$23 -> 3535000 | F37: =D37*E37 -> 5.2150791e+10 | G37: ='04a_PROPUESTA_MO'!I39 -> 27734.6 | H37: 2-Comercio en centros comerciales | I37: =VLOOKUP(H37,'00_DATOS_1'!$B$26:$D$34,3) -> 2800000 | J37: =G37*I37 -> 77656880000 | K37: =J37*$K$4 -> 5.4359816e+09 | L37: =J37+K37 -> 83092861600 | M37: =F37+L37 -> 1.3524365e+11 | N37: =M37/D37 -> 9167383.7 | P37: =G37*$P$4 -> 1941422000 | Q37: =L37-P37 -> 81151439600 | R37: =F37+Q37 -> 1.3330223e+11

Sheet 01_JURIDICO
A1: BASE CATASTRAL | K1: BASE JURIDICA | X1: BASE CATASTRAL | AE1: BASE JURIDICA
A2: LotCodigo | B2: LotCodMzn | C2: NoLote | D2: Codigo_Predio | E2: Codigo_CHIP | F2: Cedula_Cat | G2: Numero_Prredial_Nacional | H2: Tipo_Predio | I2: Direccion_ | J2: Area_CNT | K2: Area_Certificado m2 | L2: Area_Certificado Varas 2 | M2: Area_Cert. m2 Convertidos | N2: Area_Cert. m2 Consolidado | O2: ZHF | P2: Dest_Econ | Q2: Puntaje | R2: Matricula | S2: Estado | T2: Propietario | U2: Tipo_Propietario | V2: OBSERVACIONES | W2: ESTADO_JURIDICO | X2: Area ambito PL CAT | Z2: AMD | AA2: AB-AMD | AC2: % dif. | AD2: % dif. Absoluto | AE2: Area Formulación | AF2: m2 dif. | AG2: % dif. | AH2: % dif. Absoluto | AI2: Propietario | AJ2: AMDs | AL2: AF - AMDs
M3: =SUM(M5:M32) -> 167212.57 | N3: =SUM(N5:N32) -> 173647.73 | W3: =SUM(W5:W32) -> 0 | X3: =SUM(X5:X32) -> 170944.23 | Z3: =SUM(Z5:Z32) -> 6167.5174 | AA3: =SUM(AA5:AA32) -> 164776.71 | AE3: =SUM(AE5:AE32) -> 170940.44 | AK3: =SUM(AK5:AK32) -> 6167.5174 | AL3: =SUM(AL5:AL32) -> 164772.93
A5: 004301001006 | B5: 004301001 | C5: 6 | D5: 6 | E5: AAA0037OZCN | F5: 9 53 16 | G5: 1.1001e+29 | H5: Particular | I5: KR 53F 5C 08 | J5: 820 | K5: 834 | L5: 0 | M5: =IF(K5>0,K5,L5*0.6987) -> 834 | N5: =IF(M5>0,M5,X5) -> 834 | O5: 6853010000000 | P5: Industrial | Q5: 66 | R5: 50C-67685 | S5: ACTIVO | T5: INTERANDINA DE CONDUCTORES LIMITADA | U5: URBANO | V5: LOTE O BODEGA INDUSTRIAL. AREA CONSTRUIDA DE 834 M2 | W5: TRANSFERENCIA A TITULO DE LEASING HABITACIONALDE VIVIEND NO FAMILIAR | X5: 819.95528 | Z5: =IF(Y5="x",X5,0) -> 0 | AA5: =X5-Z5 -> 819.95528 | AB5: =X5-N5 -> -14.044717 | AC5: =AB5/N5 -> -0.016840189 | AD5: =ABS(AC5) -> 0.016840189 | AE5: =IF(AD5>10%,X5,N5) -> 834 | AF5: =X5-AE5 -> -14.044717 | AG5: =AF5/AE5 -> -0.016840189 | AH5: {=ABS(AG5:AG32)} -> 0.016840189 | AK5: =IF(AJ5="x",AE5,0) -> 0 | AL5: =IF(AK5=0,AE5,0) -> 834
A6: 004301001028 | B6: 004301001 | C6: 28 | D6: 28 | E6: AAA0037PACN | F6: 9 50 9 | G6: 1.1001e+29 | H6: Particular | I6: AK 50 5C 71 | J6: 0 | K6: 1524.7 | L6: 0 | M6: =IF(K6>0,K6,L6*0.6987) -> 1524.7 | N6: =IF(M6>0,M6,X6) -> 1524.7 | O6: 6853010000000 | P6: Urbanizado no edificado | Q6: -1 | R6: 50C-1298780 | S6: ACTIVO | T6: CHAID NEME HERMANOS S.A. | U6: SIN INFORMACION | V6: LOTE DE TERRENO CON EXTENSION SUPERFICIARA DE 1.524,70 M2, MATRICULA MATRIZ 50C-1183501 | W6: CONSTITUCION DE REGLAMENTO DE PROPIEDAD HORIZONTAL. REVISAR | X6: 1559.459 | Z6: =IF(Y6="x",X6,0) -> 0 | AA6: =X6-Z6 -> 1559.459 | AB6: =X6-N6 -> 34.759039 | AC6: =AB6/N6 -> 0.022797297 | AD6: =ABS(AC6) -> 0.022797297 | AE6: =IF(AD6>10%,X6,N6) -> 1524.7 | AF6: =X6-AE6 -> 34.759039 | AG6: =AF6/AE6 -> 0.022797297 | AH6: 0.022797297 | AK6: =IF(AJ6="x",AE6,0) -> 0 | AL6: =IF(AK6=0,AE6,0) -> 1524.7
A7: 004301001013 | B7: 004301001 | C7: 13 | D7: 13 | E7: AAA0037OZLF | F7: 9 53 1 | G7: 1.1001e+29 | H7: Particular | I7: KR 53F 5C 44 | J7: 820 | K7: 0 | L7: 1286.45 | M7: =IF(K7>0,K7,L7*0.6987) -> 898.84262 | N7: =IF(M7>0,M7,X7) -> 898.84262 | O7: 6853010000000 | P7: Comercio puntual | Q7: 85 | R7: 50C-104264 | S7: ACTIVO | T7: GASEOSAS LUX S.A | U7: URBANO | V7: LOTE Y BODEGA CON UNA CABIDA DE 1.286,45 V2 | W7: GASEOSAS LUX S.A | X7: 817.51623 | Z7: =IF(Y7="x",X7,0) -> 0 | AA7: =X7-Z7 -> 817.51623 | AB7: =X7-N7 -> -81.326384 | AC7: =AB7/N7 -> -0.090479003 | AD7: =ABS(AC7) -> 0.090479003 | AE7: =IF(AD7>10%,X7,N7) -> 898.84262 | AF7: =X7-AE7 -> -81.326384 | AG7: =AF7/AE7 -> -0.090479003 | AH7: 0.090479003 | AK7: =IF(AJ7="x",AE7,0) -> 0 | AL7: =IF(AK7=0,AE7,0) -> 898.84262
A8: 004301001030 | B8: 004301001 | C8: 30 | D8: 30 | E8: AAA0037PAEP | F8: 9 50 3 | G8: 1.1001014e+29 | H8: Particular | I8: AK 50 5C 29 | J8: 3609.13 | K8: 3821.45 | L8: 0 | M8: =IF(K8>0,K8,L8*0.6987) -> 3821.45 | N8: =IF(M8>0,M8,X8) -> 3821.45 | O8: 6853013353130 | P8: Comercio puntual | Q8: 68 | R8: 50C-1183500 | S8: ACTIVO | T8: GASEOSAS LUX S.A | U8: SIN INFORMACION | V8: LOTE 3.821,45 M2 QUE HACE PARTE DE UNOO DEM AYOR EXTENSION. MATRICULA MATRIZ 50C-109122. DERIVADA 50C-1845369 | W8: GASEOSAS LUX S.A | X8: 3942.0852 | Z8: =IF(Y8="x",X8,0) -> 0 | AA8: =X8-Z8 -> 3942.0852 | AB8: =X8-N8 -> 120.63521 | AC8: =AB8/N8 -> 0.031567914 | AD8: =ABS(AC8) -> 0.031567914 | AE8: =IF(AD8>10%,X8,N8) -> 3821.45 | AF8: =X8-AE8 -> 120.63521 | AG8: =AF8/AE8 -> 0.031567914 | AH8: 0.031567914 | AK8: =IF(AJ8="x",AE8,0) -> 0 | AL8: =IF(AK8=0,AE8,0) -> 3821.45
A9: 004301001003 | B9: 004301001 | C9: 3 | D9: 3 | E9: AAA0037OYZM | F9: 9 50 2 | G9: 1.1001014e+29 | H9: Particular | I9: CL 5C 53 10 | J9: 1412.7 | K9: 4711.012 | L9: 0 | M9: =IF(K9>0,K9,L9*0.6987) -> 4711.012 | N9: =IF(M9>0,M9,X9) -> 4711.012 | O9: 6853011252330 | P9: Industrial | Q9: 42 | R9: 50C-1183502 | S9: ACTIVO | T9: GASEOSAS LUX S.A | U9: SIN INFORMACION | V9: MATRICULA MATRIZ 50C-109122, LOTE NO. 1 CON CABIDA APROXIMADA DE 4711.02 M2. LOTE DE TERRENO EL CUAL HACE PARTE DE UNO DE MAYOR EXTENSION | W9: CANCELACION HIPOTECA. PARECE IMCOMPLETO. GASEOSAS POSTOBON | X9: 4690.4131 | Z9: =IF(Y9="x",X9,0) -> 0 | AA9: =X9-Z9 -> 4690.4131 | AB9: =X9-N9 -> -20.59889 | AC9: =AB9/N9 -> -0.004372498 | AD9: =ABS(AC9) -> 0.004372498 | AE9: =IF(AD9>10%,X9,N9) -> 4711.012 | AF9: =X9-AE9 -> -20.59889 | AG9: =AF9/AE9 -> -0.004372498 | AH9: 0.004372498 | AK9: =IF(AJ9="x",AE9,0) -> 0 | AL9: =IF(AK9=0,AE9,0) -> 4711.012
A10: 004301001018 | B10: 004301001 | C10: 18 | D10: 18 | E10: AAA0037OZRJ | F10: 9 53 5 | G10: 1.1001e+29 | H10: Particular | I10: KR 53F 5C 78 | J10: 811.9 | K10: 0 | L10: 1271.58 | M10: =IF(K10>0,K10,L10*0.6987) -> 888.45295 | N10: =IF(M10>0,M10,X10) -> 888.45295 | O10: 6853010000000 | P10: Industrial | Q10: 79 | R10: 50C-172314 | S10: ACTIVO | T10: GASEOSAS LUX S.A | U10: URBANO | V10: LOTE DE LA URBANIZACION SAN RAFAEL AREA DE 1.271,58 V2 | W10: GASEOSAS LUX S.A | X10: 811.64101 | Z10: =IF(Y10="x",X10,0) -> 0 | AA10: =X10-Z10 -> 811.64101 | AB10: =X10-N10 -> -76.811931 | AC10: =AB10/N10 -> -0.086455824 | AD10: =ABS(AC10) -> 0.086455824 | AE10: =IF(AD10>10%,X10,N10) -> 888.45295 | AF10: =X10-AE10 -> -76.811931 | AG10: =AF10/AE10 -> -0.086455824 | AH10: 0.086455824 | AK10: =IF(AJ10="x",AE10,0) -> 0 | AL10: =IF(AK10=0,AE10,0) -> 888.45295
A11: 004301001015 | B11: 004301001 | C11: 15 | D11: 15 | E11: AAA0037OZNX | F11: 9 53 13 | G11: 1.1001e+29 | H11: Particular | I11: KR 53F 5C 58 | J11: 554 | K11: 818.57 | L11: 0 | M11: =IF(K11>0,K11,L11*0.6987) -> 818.57 | N11: =IF(M11>0,M11,X11) -> 818.57 | O11: 6853010000000 | P11: Industrial | Q11: 78 | R11: 50C-864965 | S11: ACTIVO | T11: GASEOSAS LUX S.A | U11: URBANO | V11: MATRICULA MATRIZ 50C-772308. LOTE DE LA URBANIZACION INDUSTRIAL SAN RAFAEL CON UNA EXTENSION SUPERFICIARA DE 818.57 MS | W11: GASEOSAS LUX S.A | X11: 814.02717 | Z11: =IF(Y11="x",X11,0) -> 0 | AA11: =X11-Z11 -> 814.02717 | AB11: =X11-N11 -> -4.5428262 | AC11: =AB11/N11 -> -0.0055497101 | AD11: =ABS(AC11) -> 0.0055497101 | AE11: =IF(AD11>10%,X11,N11) -> 818.57 | AF11: =X11-AE11 -> -4.5428262 | AG11: =AF11/AE11 -> -0.0055497101 | AH11: 0.0055497101 | AK11: =IF(AJ11="x",AE11,0) -> 0 | AL11: =IF(AK11=0,AE11,0) -> 818.57
A12: 004301001014 | B12: 004301001 | C12: 14 | D12: 14 | E12: AAA0037OZMR | F12: 9 53 14 | G12: 1.1001e+29 | H12: Particular | I12: KR 53F 5C 50 | J12: 1640 | K12: 0 | L12: 0 | M12: =IF(K12>0,K12,L12*0.6987) -> 0 | N12: =IF(M12>0,M12,X12) -> 1634.631 | O12: 6853010000000 | P12: Comercio puntual | Q12: 85 | R12: 50C-82321 | S12: ACTIVO | T12: GASEOSAS LUX S.A | U12: URBANO | V12: INMUEBLE EN LA URBANIZACION INDUSTRIAL SAN RAFAEL NO CONSTA EXTENSION | W12: GASEOSAS LUX S.A | X12: 1634.631 | Z12: =IF(Y12="x",X12,0) -> 0 | AA12: =X12-Z12 -> 1634.631 | AB12: =X12-N12 -> 0 | AC12: =AB12/N12 -> 0 | AD12: =ABS(AC12) -> 0 | AE12: =IF(AD12>10%,X12,N12) -> 1634.631 | AF12: =X12-AE12 -> 0 | AG12: =AF12/AE12 -> 0 | AH12: 0 | AK12: =IF(AJ12="x",AE12,0) -> 0 | AL12: =IF(AK12=0,AE12,0) -> 1634.631
A13: 004301001021 | B13: 004301001 | C13: 21 | D13: 21 | E13: AAA0037OZUH | F13: 9 51 2 | G13: 1.1001e+29 | H13: Particular | I13: AC 9 50 85 | J13: 43867.5 | K13: 55087.11 | L13: 0 | M13: =IF(K13>0,K13,L13*0.6987) -> 55087.11 | N13: =IF(M13>0,M13,X13) -> 55087.11 | O13: 6853010000000 | P13: Industrial | Q13: 45 | R13: 50C-1407090 | S13: ACTIVO | T13: GASEOSAS LUX S.A | U13: URBANO | V13: MATRICULA MATRIZ 50C-70591 Y 1332610. GLOBO DE TERRENO CON UN AREA TOTAL DE 55.087,11M2 | W13: GASEOSAS LUX S.A | X13: 55539.154 | Z13: =IF(Y13="x",X13,0) -> 0 | AA13: =X13-Z13 -> 55539.154 | AB13: =X13-N13 -> 452.04433 | AC13: =AB13/N13 -> 0.008205991 | AD13: =ABS(AC13) -> 0.008205991 | AE13: =IF(AD13>10%,X13,N13) -> 55087.11 | AF13: =X13-AE13 -> 452.04433 | AG13: =AF13/AE13 -> 0.008205991 | AH13: 0.008205991 | AK13: =IF(AJ13="x",AE13,0) -> 0 | AL13: =IF(AK13=0,AE13,0) -> 55087.11
A14: 004301001010 | B14: 004301001 | C14: 10 | D14: 10 | E14: AAA0037OZHK | F14: 9 53 8 | G14: 1.1001e+29 | H14: Particular | I14: KR 53F 5C 28 | J14: 925.5 | K14: 0 | L14: 2590.25 | M14: =IF(K14>0,K14,L14*0.6987) -> 1809.8077 | N14: =IF(M14>0,M14,X14) -> 1809.8077 | O14: 6853010000000 | P14: Comercio puntual | Q14: 42 | R14: 50C-821684 | S14: ACTIVO | T14: SKOTIABANK COLPATRIA | U14: URBANO | V14: LOTE DE TERRENO QUE FORMA PARTE DE LA URBANIZACION SAN RAFAEL. AREA DE TERRENO 2.590,25 | W14: SKOTIABANK COLPATRIA | X14: 821.12635 | Z14: =IF(Y14="x",X14,0) -> 0 | AA14: =X14-Z14 -> 821.12635 | AB14: =X14-N14 -> -988.68132 | AC14: =AB14/N14 -> -0.54629082 | AD14: =ABS(AC14) -> 0.54629082 | AE14: =IF(AD14>10%,X14,N14) -> 821.12635 | AF14: =X14-AE14 -> 0 | AG14: =AF14/AE14 -> 0 | AH14: 0 | AK14: =IF(AJ14="x",AE14,0) -> 0 | AL14: =IF(AK14=0,AE14,0) -> 821.12635
A15: 004301001005 | B15: 004301001 | C15: 5 | D15: 5 | E15: AAA0037OZBS | F15: 9 53 15 | G15: 1.1001e+29 | H15: Particular | I15: KR 53F 5C 04 | J15: 1254.9 | K15: 1391.26 | L15: 1915.68 | M15: =IF(K15>0,K15,L15*0.6987) -> 1391.26 | N15: =IF(M15>0,M15,X15) -> 1391.26 | O15: 6853010000000 | P15: Comercio puntual | Q15: 58 | R15: 50C-740846 | S15: ACTIVO | T15: GASEOSAS LUX S.A | U15: URBANO | V15: BODEGA O LOCAL INDUSRRIAL. AREA APROXIMADA DE 1.915,86 V2 OSEA 1.391,26 M2 | W15: PROPIETARIO GASEOSA LUX | X15: 1206.9701 | Z15: =IF(Y15="x",X15,0) -> 0 | AA15: =X15-Z15 -> 1206.9701 | AB15: =X15-N15 -> -184.28994 | AC15: =AB15/N15 -> -0.13246262 | AD15: =ABS(AC15) -> 0.13246262 | AE15: =IF(AD15>10%,X15,N15) -> 1206.9701 | AF15: =X15-AE15 -> 0 | AG15: =AF15/AE15 -> 0 | AH15: 0 | AK15: =IF(AJ15="x",AE15,0) -> 0 | AL15: =IF(AK15=0,AE15,0) -> 1206.9701
A16: 004301001029 | B16: 004301001 | C16: 29 | D16: 29 | E16: AAA0037PADE | F16: 9 50 4 | G16: 1.1001014e+29 | H16: Particular | I16: AK 50 5C 55 | J16: 8004 | K16: 7962.62 | L16: 0 | M16: =IF(K16>0,K16,L16*0.6987) -> 7962.62 | N16: =IF(M16>0,M16,X16) -> 7962.62 | O16: 6853013353130 | P16: Comercio puntual | Q16: 50 | R16: 50C-1183501 | S16: ACTIVO | T16: GASEOSAS LUX S.A | U16: SIN INFORMACION | V16: LOTE 7.962,62 M2. EL CUAL HACE PARTE DE UNO DE MAYOR EXTENSION. MATRICULA MATRIZ 50C-109122. DERIVADA 50C-1298780 | W16: GASEOSAS LUX S.A | X16: 6020.3175 | Z16: =IF(Y16="x",X16,0) -> 0 | AA16: =X16-Z16 -> 6020.3175 | AB16: =X16-N16 -> -1942.3025 | AC16: =AB16/N16 -> -0.24392757 | AD16: =ABS(AC16) -> 0.24392757 | AE16: =IF(AD16>10%,X16,N16) -> 6020.3175 | AF16: =X16-AE16 -> 0 | AG16: =AF16/AE16 -> 0 | AH16: 0 | AK16: =IF(AJ16="x",AE16,0) -> 0 | AL16: =IF(AK16=0,AE16,0) -> 6020.3175
A17: 004301001009 | B17: 004301001 | C17: 9 | D17: 9 | E17: AAA0037OZFZ | F17: 9 53 17 | G17: 1.1001e+29 | H17: Particular | I17: KR 53F 5C 24 | J17: 924.9 | K17: 900 | L17: 1300 | M17: =IF(K17>0,K17,L17*0.6987) -> 900 | N17: =IF(M17>0,M17,X17) -> 900 | O17: 6853010000000 | P17: Industrial | Q17: 42 | R17: 50C-861722 | S17: ACTIVO | T17: BANCO DAVIVIENDA SA | U17: URBANO | V17: BODEGA LOCAL INDUSTRIAL. AREA APROXIMADA DE 1300 VARAS CUADRADAS. Y 900 M2 TIENE UNA ANOTACION DE ACREEDOR HIPOTECARIO | W17: BANCO DAVIVIENDA | X17: 819.92434 | Z17: =IF(Y17="x",X17,0) -> 0 | AA17: =X17-Z17 -> 819.92434 | AB17: =X17-N17 -> -80.075662 | AC17: =AB17/N17 -> -0.088972958 | AD17: =ABS(AC17) -> 0.088972958 | AE17: =IF(AD17>10%,X17,N17) -> 900 | AF17: =X17-AE17 -> -80.075662 | AG17: =AF17/AE17 -> -0.088972958 | AH17: 0.088972958 | AK17: =IF(AJ17="x",AE17,0) -> 0 | AL17: =IF(AK17=0,AE17,0) -> 900
... A25: 004301001020 | B25: 004301001 | C25: 20 | D25: 20 | E25: AAA0037OZTD | F25: 9 53 11 | G25: 1.1001e+29 | H25: Particular | I25: KR 53F 5C 88 | J25: 811 | K25: 0 | L25: 0 | M25: =IF(K25>0,K25,L25*0.6987) -> 0 | N25: =IF(M25>0,M25,X25) -> 807.04813 | O25: 6853010000000 | P25: Comercio puntual | Q25: 68 | R25: 50C-224322 | S25: ACTIVO | T25: GASEOSAS LUX S.A | U25: URBANO | V25: LOT DE TERRENO Y EDIFICACION | W25: GASEOSAS LUX S.A | X25: 807.04813 | Z25: =IF(Y25="x",X25,0) -> 0 | AA25: =X25-Z25 -> 807.04813 | AB25: =X25-N25 -> 0 | AC25: =AB25/N25 -> 0 | AD25: =ABS(AC25) -> 0 | AE25: =IF(AD25>10%,X25,N25) -> 807.04813 | AF25: =X25-AE25 -> 0 | AG25: =AF25/AE25 -> 0 | AH25: 0 | AK25: =IF(AJ25="x",AE25,0) -> 0 | AL25: =IF(AK25=0,AE25,0) -> 807.04813
A26: 004301001008 | B26: 004301001 | C26: 8 | D26: 8 | E26: AAA0037OZEP | F26: 9 53 7 | G26: 1.1001e+29 | H26: Particular | I26: KR 53F 5C 20 | J26: 926.3 | K26: 831.27 | L26: 1298.86 | M26: =IF(K26>0,K26,L26*0.6987) -> 831.27 | N26: =IF(M26>0,M26,X26) -> 831.27 | O26: 6853010000000 | P26: Industrial | Q26: 64 | R26: 50C-277201 | S26: ACTIVO | T26: TRES PROPIETARIOS, NATURALES | U26: URBANO | V26: CABIDA APROXIMADA DE 1298,86. LOTE DE TERREN JUNTO CON UNA EDIFICACION INDUSTRIAL | X26: 821.42511 | Z26: =IF(Y26="x",X26,0) -> 0 | AA26: =X26-Z26 -> 821.42511 | AB26: =X26-N26 -> -9.8448865 | AC26: =AB26/N26 -> -0.011843188 | AD26: =ABS(AC26) -> 0.011843188 | AE26: =IF(AD26>10%,X26,N26) -> 831.27 | AF26: =X26-AE26 -> -9.8448865 | AG26: =AF26/AE26 -> -0.011843188 | AH26: 0.011843188 | AK26: =IF(AJ26="x",AE26,0) -> 0 | AL26: =IF(AK26=0,AE26,0) -> 831.27
A27: 004301001002 | B27: 004301001 | C27: 23 | D27: 2 | E27: AAA0037OYYX | F27: 9 50 6 | G27: 1.1001014e+29 | H27: Particular | I27: AK 50 5C 09 | J27: 0 | K27: 0 | L27: 0 | M27: =IF(K27>0,K27,L27*0.6987) -> 0 | N27: =IF(M27>0,M27,X27) -> 3264.0751 | O27: 6853015153250 | P27: Espacio público | Q27: -1 | R27: 50C- 1191501 | S27: ACTIVO | U27: SIN INFORMACION | V27: Hace parte de un englobe. MATRICULA MATRIZ 50C-109122. MATRICULAS DERIVADAS 50C-1302429,1367756, 1367759. | W27: CESION A TITULO GRATUITO A DISTRITO CAPITAL | X27: 3264.0751 | Y27: x | Z27: =IF(Y27="x",X27,0) -> 3264.0751 | AA27: =X27-Z27 -> 0 | AB27: =X27-N27 -> 0 | AC27: =AB27/N27 -> 0 | AD27: =ABS(AC27) -> 0 | AE27: =IF(AD27>10%,X27,N27) -> 3264.0751 | AF27: =X27-AE27 -> 0 | AG27: =AF27/AE27 -> 0 | AH27: 0 | AI27: E.p. | AJ27: x | AK27: =IF(AJ27="x",AE27,0) -> 3264.0751 | AL27: =IF(AK27=0,AE27,0) -> 0
A28: 004301001022 | B28: 004301001 | C28: 22 | D28: 22 | E28: AAA0037OZWW | F28: 50 S 27769 | G28: 1.1001e+29 | H28: Particular | I28: AC 9 50 51 | J28: 30513 | K28: 35132.5 | L28: 0 | M28: =IF(K28>0,K28,L28*0.6987) -> 35132.5 | N28: =IF(M28>0,M28,X28) -> 35132.5 | O28: 6853010000000 | P28: Industrial | Q28: 85 | R28: 50C-1333948 | S28: ACTIVO | T28: BANCOLOMBIA | U28: URBANO | V28: FOLIO MATRIZ 50C-5445. LOTE DE TERRENO 35.132,50 M2. | W28: BANCOLOMBIA | X28: 34925.945 | Z28: =IF(Y28="x",X28,0) -> 0 | AA28: =X28-Z28 -> 34925.945 | AB28: =X28-N28 -> -206.55459 | AC28: =AB28/N28 -> -0.0058793025 | AD28: =ABS(AC28) -> 0.0058793025 | AE28: =IF(AD28>10%,X28,N28) -> 35132.5 | AF28: =X28-AE28 -> -206.55459 | AG28: =AF28/AE28 -> -0.0058793025 | AH28: 0.0058793025 | AK28: =IF(AJ28="x",AE28,0) -> 0 | AL28: =IF(AK28=0,AE28,0) -> 35132.5
A29: 004301001025 | B29: 004301001 | C29: 25 | D29: 25 | E29: AAA0037OZZE | F29: 9 50 5 | G29: 1.1001014e+29 | H29: Particular | I29: AK 50 5F 99 | J29: 0 | K29: 0 | L29: 0 | M29: =IF(K29>0,K29,L29*0.6987) -> 0 | N29: =IF(M29>0,M29,X29) -> 729.4074 | O29: 6853015153350 | P29: Espacio público | Q29: -1 | T29: ANDEN | U29: URBANO | X29: 729.4074 | Y29: x | Z29: =IF(Y29="x",X29,0) -> 729.4074 | AA29: =X29-Z29 -> 0 | AB29: =X29-N29 -> 0 | AC29: =AB29/N29 -> 0 | AD29: =ABS(AC29) -> 0 | AE29: =IF(AD29>10%,X29,N29) -> 729.4074 | AF29: =X29-AE29 -> 0 | AG29: =AF29/AE29 -> 0 | AH29: 0 | AI29: E.p. | AJ29: x | AK29: =IF(AJ29="x",AE29,0) -> 729.4074 | AL29: =IF(AK29=0,AE29,0) -> 0
A30: 004301001027 | B30: 004301001 | C30: 27 | D30: 27 | E30: AAA0037PABS | F30: 9 50 1 | G30: 1.1001e+29 | H30: Particular | I30: AK 50 5C 81 | J30: 5521.3 | K30: 8780 | L30: 0 | M30: =IF(K30>0,K30,L30*0.6987) -> 8780 | N30: =IF(M30>0,M30,X30) -> 8780 | O30: 6853010000000 | P30: Comercio puntual | Q30: 49 | R30: 50C-1141725 | S30: ACTIVO | T30: BANCOLOMBIA | U30: URBANO | V30: DESENGLOBE DE UN PORCION DEL INMUEBLE POR 8.780.00 M2. FOLIO MATRIZ 50C-109122 | W30: BANCOLOMBIA | X30: 8572.1149 | Z30: =IF(Y30="x",X30,0) -> 0 | AA30: =X30-Z30 -> 8572.1149 | AB30: =X30-N30 -> -207.88511 | AC30: =AB30/N30 -> -0.02367712 | AD30: =ABS(AC30) -> 0.02367712 | AE30: =IF(AD30>10%,X30,N30) -> 8780 | AF30: =X30-AE30 -> -207.88511 | AG30: =AF30/AE30 -> -0.02367712 | AH30: 0.02367712 | AK30: =IF(AJ30="x",AE30,0) -> 0 | AL30: =IF(AK30=0,AE30,0) -> 8780
A31: 004301001001 | B31: 004301001 | C31: 28 | D31: 1 | E31: AAA0037OYXR | F31: 9 50 11 | G31: 1.1001014e+29 | H31: Distrital | I31: AK 50 5C 13 | J31: 0 | K31: 1766.05 | L31: 0 | M31: =IF(K31>0,K31,L31*0.6987) -> 1766.05 | N31: =IF(M31>0,M31,X31) -> 1766.05 | O31: 6853015153250 | P31: Espacio público | Q31: -1 | R31: 50C-1302429 | S31: CERRADO | U31: SIN INFORMACION | V31: Zona de cesion al distrito por afectacion vial avenida Batallon Caldas. Area 1766,05 m2. MATRICULA MATIZ 50C-1191601 | W31: CESION DE ZONA A DISTRITO CAPITAL | X31: 2174.0348 | Y31: x | Z31: =IF(Y31="x",X31,0) -> 2174.0348 | AA31: =X31-Z31 -> 0 | AB31: =X31-N31 -> 407.98481 | AC31: =AB31/N31 -> 0.23101544 | AD31: =ABS(AC31) -> 0.23101544 | AE31: =IF(AD31>10%,X31,N31) -> 2174.0348 | AF31: =X31-AE31 -> 0 | AG31: =AF31/AE31 -> 0 | AH31: 0 | AI31: E.p. | AJ31: x | AK31: =IF(AJ31="x",AE31,0) -> 2174.0348 | AL31: =IF(AK31=0,AE31,0) -> 0
A32: 004301001031 | B32: 004301001 | C32: 31 | D32: 31 | E32: AAA0183RZYX | F32: 4301010000000000 | G32: 1.1001e+29 | H32: Particular | I32: AC 9 50 15 | J32: 27734.6 | K32: 14401.49 | L32: 0 | M32: =IF(K32>0,K32,L32*0.6987) -> 14401.49 | N32: =IF(M32>0,M32,X32) -> 14401.49 | O32: 6853010000000 | P32: Comercio en centros comerciales | Q32: 79 | R32: 50C1619415 | S32: ACTIVO | T32: BEEPER WEX S.A / CORPORTAXIS S.A | U32: URBANO | V32: GLOBO DE TERRENO FORMADO POR VARIOS LOTES CON UN AREA DE 14.401,49 M2. MATRICULA MATRIZ 50C-130247 Y 130248 | W32: ENGLOBE | X32: 14752.699 | Z32: =IF(Y32="x",X32,0) -> 0 | AA32: =X32-Z32 -> 14752.699 | AB32: =X32-N32 -> 351.20902 | AC32: =AB32/N32 -> 0.024386992 | AD32: =ABS(AC32) -> 0.024386992 | AE32: =IF(AD32>10%,X32,N32) -> 14401.49 | AF32: =X32-AE32 -> 351.20902 | AG32: =AF32/AE32 -> 0.024386992 | AH32: 0.024386992 | AI32: CC. Carrera | AK32: =IF(AJ32="x",AE32,0) -> 0 | AL32: =IF(AK32=0,AE32,0) -> 14401.49
AL34: 164772.93

Sheet 02_MO_Sketchup
A1: UAU | B1: A.T.C. por piso
B2: Piso 1 | C2: Pisos 2 a 4 | D2: Pisos 5 > | F2: 1 | G2: 2 | H2: 3 | I2: 4 | J2: 5 | K2: 6 | L2: 7 | M2: 8 | N2: 9 | O2: 10 | P2: 11 | Q2: 12 | R2: 13 | S2: 14 | T2: 15 | U2: 16 | V2: 17 | W2: 18 | X2: 19 | Y2: 20 | Z2: 21 | AA2: 22 | AB2: 23 | AC2: 24 | AD2: 25 | AE2: 26 | AF2: 27 | AG2: 28 | AH2: 29 | AI2: 30 | AJ2: 31 | AK2: 32 | AL2: 33 | AM2: 34 | AN2: 35 | AO2: 36 | AP2: 37 | AQ2: 38 | AR2: 39 | AS2: 40 | AT2: 41 | AU2: 42 | AV2: 43 | AW2: 44 | AX2: 45
E4: =SUM(E5:E12) -> 1876201.4 | F4: =SUM(F5:F12) -> 43948.044 | G4: =SUM(G5:G12) -> 47605.813 | H4: =SUM(H5:H12) -> 47605.813 | I4: =SUM(I5:I12) -> 47605.813 | J4: =SUM(J5:J12) -> 41725.812 | K4: =SUM(K5:K12) -> 41725.812 | L4: =SUM(L5:L12) -> 41725.812 | ... AX4: =SUM(AX5:AX12) -> 41725.812
A5: 1 | B5: ='07b_ATC_Ajuste'!C5 -> 2921.1365 | C5: ='07b_ATC_Ajuste'!G5 -> 3295.2541 | D5: ='07b_ATC_Ajuste'!I5 -> 3016.8704 | E5: =SUM(F5:AX5) -> 133481.72 | F5: =B5 -> 2921.1365 | G5: =$C5 -> 3295.2541 | H5: =$C5 -> 3295.2541 | I5: =$C5 -> 3295.2541 | J5: =$D5 -> 3016.8704 | K5: =$D5 -> 3016.8704 | L5: =$D5 -> 3016.8704 | M5: =$D5 -> 3016.8704 | N5: =$D5 -> 3016.8704 | O5: =$D5 -> 3016.8704 | P5: =$D5 -> 3016.8704 | Q5: =$D5 -> 3016.8704 | ... AO5: =$D5 -> 3016.8704 | AP5: 0 | AQ5: =$D5 -> 3016.8704 | AR5: =$D5 -> 3016.8704 | AS5: =$D5 -> 3016.8704 | AT5: =$D5 -> 3016.8704 | AU5: =$D5 -> 3016.8704 | AV5: =$D5 -> 3016.8704 | AW5: =$D5 -> 3016.8704 | AX5: =$D5 -> 3016.8704
A6: 2 | B6: ='07b_ATC_Ajuste'!C6 -> 5092.7724 | C6: ='07b_ATC_Ajuste'!G6 -> 5560.4784 | D6: ='07b_ATC_Ajuste'!I6 -> 5154.2969 | E6: =SUM(F6:AX6) -> 227946.08 | F6: =B6 -> 5092.7724 | G6: =$C6 -> 5560.4784 | H6: =$C6 -> 5560.4784 | I6: =$C6 -> 5560.4784 | J6: =$D6 -> 5154.2969 | K6: =$D6 -> 5154.2969 | L6: =$D6 -> 5154.2969 | M6: =$D6 -> 5154.2969 | N6: =$D6 -> 5154.2969 | O6: =$D6 -> 5154.2969 | P6: =$D6 -> 5154.2969 | Q6: =$D6 -> 5154.2969 | ... AO6: =$D6 -> 5154.2969 | AP6: 0 | AQ6: =$D6 -> 5154.2969 | AR6: =$D6 -> 5154.2969 | AS6: =$D6 -> 5154.2969 | AT6: =$D6 -> 5154.2969 | AU6: =$D6 -> 5154.2969 | AV6: =$D6 -> 5154.2969 | AW6: =$D6 -> 5154.2969 | AX6: =$D6 -> 5154.2969
A7: 3 | B7: ='07b_ATC_Ajuste'!C7 -> 5431.8028 | C7: ='07b_ATC_Ajuste'!G7 -> 5898.3035 | D7: ='07b_ATC_Ajuste'!I7 -> 5416.3266 | E7: =SUM(F7:AX7) -> 239779.78 | F7: =B7 -> 5431.8028 | G7: =$C7 -> 5898.3035 | H7: =$C7 -> 5898.3035 | I7: =$C7 -> 5898.3035 | J7: =$D7 -> 5416.3266 | K7: =$D7 -> 5416.3266 | L7: =$D7 -> 5416.3266 | M7: =$D7 -> 5416.3266 | N7: =$D7 -> 5416.3266 | O7: =$D7 -> 5416.3266 | P7: =$D7 -> 5416.3266 | Q7: =$D7 -> 5416.3266 | ... AO7: =$D7 -> 5416.3266 | AP7: 0 | AQ7: =$D7 -> 5416.3266 | AR7: =$D7 -> 5416.3266 | AS7: =$D7 -> 5416.3266 | AT7: =$D7 -> 5416.3266 | AU7: =$D7 -> 5416.3266 | AV7: =$D7 -> 5416.3266 | AW7: =$D7 -> 5416.3266 | AX7: =$D7 -> 5416.3266
A8: 4 | B8: ='07b_ATC_Ajuste'!C8 -> 8133.4699 | C8: ='07b_ATC_Ajuste'!G8 -> 8698.278 | D8: ='07b_ATC_Ajuste'!I8 -> 7734.9061 | E8: =SUM(F8:AX8) -> 343624.55 | F8: =B8 -> 8133.4699 | G8: =$C8 -> 8698.278 | H8: =$C8 -> 8698.278 | I8: =$C8 -> 8698.278 | J8: =$D8 -> 7734.9061 | K8: =$D8 -> 7734.9061 | L8: =$D8 -> 7734.9061 | M8: =$D8 -> 7734.9061 | N8: =$D8 -> 7734.9061 | O8: =$D8 -> 7734.9061 | P8: =$D8 -> 7734.9061 | Q8: =$D8 -> 7734.9061 | ... AO8: =$D8 -> 7734.9061 | AP8: 0 | AQ8: =$D8 -> 7734.9061 | AR8: =$D8 -> 7734.9061 | AS8: =$D8 -> 7734.9061 | AT8: =$D8 -> 7734.9061 | AU8: =$D8 -> 7734.9061 | AV8: =$D8 -> 7734.9061 | AW8: =$D8 -> 7734.9061 | AX8: =$D8 -> 7734.9061
A9: 5 | B9: ='07b_ATC_Ajuste'!C9 -> 5998.1154 | C9: ='07b_ATC_Ajuste'!G9 -> 6513.626 | D9: ='07b_ATC_Ajuste'!I9 -> 6054.9978 | E9: =SUM(F9:AX9) -> 273793.9 | F9: =B9 -> 5998.1154 | G9: =$C9 -> 6513.626 | H9: =$C9 -> 6513.626 | I9: =$C9 -> 6513.626 | J9: =$D9 -> 6054.9978 | K9: =$D9 -> 6054.9978 | L9: =$D9 -> 6054.9978 | M9: =$D9 -> 6054.9978 | N9: =$D9 -> 6054.9978 | O9: =$D9 -> 6054.9978 | P9: =$D9 -> 6054.9978 | Q9: =$D9 -> 6054.9978 | ... AX9: =$D9 -> 6054.9978
A10: 6 | B10: ='07b_ATC_Ajuste'!C10 -> 6680.3983 | C10: ='07b_ATC_Ajuste'!G10 -> 7211.88 | D10: ='07b_ATC_Ajuste'!I10 -> 6369.544 | E10: =SUM(F10:AX10) -> 289467.34 | F10: =B10 -> 6680.3983 | G10: =$C10 -> 7211.88 | H10: =$C10 -> 7211.88 | I10: =$C10 -> 7211.88 | J10: =$D10 -> 6369.544 | K10: =$D10 -> 6369.544 | L10: =$D10 -> 6369.544 | M10: =$D10 -> 6369.544 | N10: =$D10 -> 6369.544 | O10: =$D10 -> 6369.544 | P10: =$D10 -> 6369.544 | Q10: =$D10 -> 6369.544 | ... AX10: =$D10 -> 6369.544
A11: 7 | B11: ='07b_ATC_Ajuste'!C11 -> 6265.201 | C11: ='07b_ATC_Ajuste'!G11 -> 6617.9691 | D11: ='07b_ATC_Ajuste'!I11 -> 4534.8337 | E11: =SUM(F11:AX11) -> 212047.29 | F11: =B11 -> 6265.201 | G11: =$C11 -> 6617.9691 | H11: =$C11 -> 6617.9691 | I11: =$C11 -> 6617.9691 | J11: =$D11 -> 4534.8337 | K11: =$D11 -> 4534.8337 | L11: =$D11 -> 4534.8337 | M11: =$D11 -> 4534.8337 | N11: =$D11 -> 4534.8337 | O11: =$D11 -> 4534.8337 | P11: =$D11 -> 4534.8337 | Q11: =$D11 -> 4534.8337 | ... AX11: =$D11 -> 4534.8337
A12: 8 | B12: ='07b_ATC_Ajuste'!C12 -> 3425.148 | C12: ='07b_ATC_Ajuste'!G12 -> 3810.0235 | D12: ='07b_ATC_Ajuste'!I12 -> 3444.0363 | E12: =SUM(F12:AX12) -> 156060.71 | F12: =B12 -> 3425.148 | G12: =$C12 -> 3810.0235 | H12: =$C12 -> 3810.0235 | I12: =$C12 -> 3810.0235 | J12: =$D12 -> 3444.0363 | K12: =$D12 -> 3444.0363 | L12: =$D12 -> 3444.0363 | M12: =$D12 -> 3444.0363 | N12: =$D12 -> 3444.0363 | O12: =$D12 -> 3444.0363 | P12: =$D12 -> 3444.0363 | Q12: =$D12 -> 3444.0363 | ... AX12: =$D12 -> 3444.0363

Sheet 03_GENERAL
A1: Item | B1: Descripción | C1: Indice | E1: Cantidad | G1: UAU
C2: valor | D2: unidad | E2: valor | G2: 1 | H2: 2 | I2: 3 | J2: 4 | K2: 5 | L2: 6 | M2: 7 | N2: 8
E3: m2 | G3: m2 | H3: m2 | I3: m2 | J3: m2 | K3: m2 | L3: m2 | M3: m2 | N3: m2
A4: 1 | B4: AMBITO DE FORMULACION DEL PLAN PARCIAL | E4: ='01_JURIDICO'!X3 -> 170944.23
A5: 2 | B5: MALLA VIAL EXISTENTE - (MVE) | E5: =SUM(E6:E7) -> 2903.4422
B6: AMD 1 - Andén Carrera 50 | E6: 729.4074
B7: AMD 2 - Andén Carrera 50 | E7: 2174.0348
A8: 3 | B8: ESPACIO PUBLICO EXISTENTE | E8: =SUM(E9) -> 3264.0738
B9: AMD 3 - Parque Carrera 50 x Calle 5c | E9: 3264.0738
A10: 5 | B10: AREA VERIFICACION | E10: =E4-SUM(E5,E8) -> 164776.71 | G10: ='04c_Resumen_MO'!$B6 -> 17268.249 | H10: ='04c_Resumen_MO'!$B7 -> 15602.532 | I10: ='04c_Resumen_MO'!$B8 -> 19436.475 | J10: ='04c_Resumen_MO'!$B9 -> 25621.214 | K10: ='04c_Resumen_MO'!$B10 -> 27038.025 | L10: ='04c_Resumen_MO'!$B11 -> 21089.899 | M10: ='04c_Resumen_MO'!$B12 -> 23967.62 | N10: ='04c_Resumen_MO'!$B13 -> 14752.699
A11: 6 | B11: OBLIGACIONES URBANíSTICAS
B12: AREA TOTAL A CEDER NORMA | C12: 0.65 | D12: % | E12: =E10*C12 -> 107104.86
B13: AREA TOTAL A CEDER M.O. | C13: =E13/E10 -> 0.64999999 | D13: % | E13: =SUM(G13:N13) -> 107104.86 | G13: ='04c_Resumen_MO'!$F6 -> 12991.359 | H13: ='04c_Resumen_MO'!$F7 -> 8702.1876 | I13: ='04c_Resumen_MO'!$F8 -> 12077.366 | J13: ='04c_Resumen_MO'!$F9 -> 15182.673 | K13: ='04c_Resumen_MO'!$F10 -> 18955.862 | L13: ='04c_Resumen_MO'!$F11 -> 12504.373 | M13: ='04c_Resumen_MO'!$F12 -> 16718.757 | N13: ='04c_Resumen_MO'!$F13 -> 9972.2834
A14: 7 | B14: MALLA VIAL PROYECTADA (Distrito) | E14: =SUM(E15,E21) -> 0
B15: Locales | E15: =SUM(G15:N15) -> 0 | G15: 0 | H15: 0 | I15: 0 | J15: 0 | K15: 0 | L15: 0 | M15: 0 | N15: 0
B16: Vía vehicular 1 - Calle 5c - ampliación | E16: =SUM(G16:N16) -> 0
B17: Vía vehicular 2 - Nueva | E17: =SUM(G17:N17) -> 0
B18: Vía vehicular 3 Nueva | E18: =SUM(G18:N18) -> 0
B19: Vía vehicular 4 - Carrera 53 f - ampliación | E19: =SUM(G19:N19) -> 0
B20: Vías peatonales | E20: =SUM(G20:N20) -> 0
B21: General | E21: =SUM(E22) -> 0
B22: Reservas viales | E22: =SUM(G22:M22) -> 0 | G22: 0 | H22: 0 | I22: 0 | J22: 0 | K22: 0 | L22: 0 | M22: 0 | N22: 0
A23: 8 | B23: AREA DE TERRENO | E23: =E10-E14 -> 164776.71 | G23: =G10-G14 -> 17268.249 | H23: =H10-H14 -> 15602.532 | I23: =I10-I14 -> 19436.475 | J23: =J10-J14 -> 25621.214 | K23: =K10-K14 -> 27038.025 | L23: =L10-L14 -> 21089.899 | M23: =M10-M14 -> 23967.62 | N23: =N10-N14 -> 14752.699
A24: 10 | B24: CONTROLES AMBIENTALES | E24: =SUM(G24:M24) -> 0 | G24: 0 | H24: 0 | I24: 0 | J24: 0 | K24: 0 | L24: 0 | M24: 0 | N24: 0
A25: 11 | B25: AREA TERRENO SIN CONTROLES AMBIENTALES | E25: =E23-E24 -> 164776.71 | G25: =G23-G24 -> 17268.249 | H25: =H23-H24 -> 15602.532 | I25: =I23-I24 -> 19436.475 | J25: =J23-J24 -> 25621.214 | K25: =K23-K24 -> 27038.025 | L25: =L23-L24 -> 21089.899 | M25: =M23-M24 -> 23967.62 | N25: =N23-N24 -> 14752.699
A26: 12 | B26: CESION DE ESPACIO PUBLICO | E26: =SUM(E27:E29) -> 107104.86 | G26: =SUM(G27:G29) -> 12991.359 | H26: =SUM(H27:H29) -> 8702.1876 | I26: =SUM(I27:I29) -> 12077.366 | J26: =SUM(J27:J29) -> 15182.673 | K26: =SUM(K27:K29) -> 18955.862 | L26: =SUM(L27:L29) -> 12504.373 | M26: =SUM(M27:M29) -> 16718.757 | N26: =SUM(N27:N29) -> 9972.2834
B27: Cesión Espacio Público (Vías vehiculares + peatonales) | E27: =SUM(G27:N27) -> 29501.324 | G27: ='04c_Resumen_MO'!$C6 -> 4744.8667 | H27: ='04c_Resumen_MO'!$C7 -> 1166.9775 | I27: ='04c_Resumen_MO'!$C8 -> 2936.0801 | J27: ='04c_Resumen_MO'!$C9 -> 6313.2385 | K27: ='04c_Resumen_MO'!$C10 -> 2870.3177 | L27: ='04c_Resumen_MO'!$C11 -> 5562.2636 | M27: ='04c_Resumen_MO'!$C12 -> 3251.2337 | N27: ='04c_Resumen_MO'!$C13 -> 2656.3462
B28: Cesión Espacio Público (Zona Verde, plazas, plazoletas) | E28: =SUM(G28:N28) -> 72340.479 | G28: ='04c_Resumen_MO'!D6 -> 8246.4926 | H28: ='04c_Resumen_MO'!D7 -> 7535.2101 | I28: ='04c_Resumen_MO'!D8 -> 9141.2862 | J28: ='04c_Resumen_MO'!D9 -> 8869.4348 | K28: ='04c_Resumen_MO'!D10 -> 13279.249 | L28: ='04c_Resumen_MO'!D11 -> 6942.1096 | M28: ='04c_Resumen_MO'!D12 -> 11010.76 | N28: ='04c_Resumen_MO'!D13 -> 7315.9372
B29: Cesión Espacio Público (Equipamientos) | C29: =E29/E10 -> 0.031940552 | E29: =SUM(G29:N29) -> 5263.0592 | G29: ='04c_Resumen_MO'!$E6 -> 0 | H29: ='04c_Resumen_MO'!$E7 -> 0 | I29: ='04c_Resumen_MO'!$E8 -> 0 | J29: ='04c_Resumen_MO'!$E9 -> 0 | K29: ='04c_Resumen_MO'!$E10 -> 2806.2957 | L29: ='04c_Resumen_MO'!$E11 -> 0 | M29: ='04c_Resumen_MO'!$E12 -> 2456.7635 | N29: ='04c_Resumen_MO'!$E13 -> 0
A31: 13 | B31: AREA UTIL (Desarrollable) | E31: =SUM(G31:N31) -> 57671.849 | G31: =G23-G26 -> 4276.8892 | H31: =H23-H26 -> 6900.3439 | I31: =I23-I26 -> 7359.1082 | J31: =J23-J26 -> 10438.541 | K31: =K23-K26 -> 8082.1628 | L31: =L23-L26 -> 8585.5262 | M31: =M23-M26 -> 7248.8624 | N31: =N23-N26 -> 4780.4157
A33: 14 | B33: RETIROS ANTEJARDIN (E.P. privado de uso público) | E33: =SUM(G33:N33) -> 13723.805 | G33: ='04c_Resumen_MO'!$H6 -> 1355.7527 | H33: ='04c_Resumen_MO'!$H7 -> 1807.5715 | I33: ='04c_Resumen_MO'!$H8 -> 1927.3054 | J33: ='04c_Resumen_MO'!$H9 -> 2305.0707 | K33: ='04c_Resumen_MO'!$H10 -> 2084.0474 | L33: ='04c_Resumen_MO'!$H11 -> 1905.1279 | M33: ='04c_Resumen_MO'!$H12 -> 983.6614 | N33: ='04c_Resumen_MO'!$H13 -> 1355.2677
A34: 15 | B34: AREA UTIL (Localización edificación) | E34: =SUM(G34:N34) -> 43948.044 | G34: =G31-G33 -> 2921.1365 | H34: =H31-H33 -> 5092.7724 | I34: =I31-I33 -> 5431.8028 | J34: =J31-J33 -> 8133.4699 | K34: =K31-K33 -> 5998.1154 | L34: =L31-L33 -> 6680.3983 | M34: =M31-M33 -> 6265.201 | N34: =N31-N33 -> 3425.148

Sheet 04a_PROPUESTA_MO
A1: CATASTRAL | J1: JURIDICO | M1: CATASTRAL | N1: AMD | P1: AREA TERRENO AB-AMD | R1: PROPUESTA DEL MODELO DE OCUPACION
R2: UAU | Z2: Modelo de ocupación original (autocad) | AH2: Modelo de ocupación ajustado (por lote) | AP2: Modelo de ocupación por UAU ajustado (por UAU)
Z3: Cesiones Públicas | AD3: Areas Privadas | AH3: Cesiones Públicas | AL3: Areas Privadas | AP3: UAU | AS3: Cesiones Públicas | AW3: Areas Privadas
A4: LotCodigo | B4: LotCodMzn | C4: NoLote | D4: Codigo_Predio | E4: Codigo_CHIP | F4: Cedula_Cat | G4: Tipo_Predio | H4: Direccion_ | I4: Area_CNT | J4: Dest_Econ | K4: Matricula | L4: Propietario | M4: Area ambito PL CAT | R4: No. | S4: Código_Predio | T4: Area x lote | U4: % UAU | V4: Area x UAU | W4: Area Construida | X4: Propietario | Z4: VIAL | AA4: EP | AB4: S-EQ | AC4: Total | AD4: Desarrollable | AE4: Antejardín | AF4: Area Util AD - Antejardín | AG4: % au / ad | AH4: VIAL | AI4: EP | AJ4: S-EQ | AK4: Total | AL4: Desarrollable | AM4: Antejardín | AN4: Area Util AD - Antejardín | AP4: No. | AQ4: Area Bruta | AR4: Construida | AS4: VIAL | AT4: EP | AU4: S-EQ | AV4: Total | AW4: Desarrollable | AX4: Antejardín | AY4: Area Util
AC5: =AC7/T7 -> 0.67496827 | AH5: ='04b_MO_Ajuste'!E7 -> 0.96300822 | AI5: ='04b_MO_Ajuste'!F7 -> 0.96300822 | AJ5: ='04b_MO_Ajuste'!G7 -> 0.96300822 | AK5: =AK7/P7 -> 0.65
A6: # | C6: # | M6: m2 | N6: t | O6: m2 | P6: m2 | R6: # | T6: m2 | W6: m2 | Z6: m2 | AA6: m2 | AB6: m2 | AC6: m2 | AD6: m2
M7: =SUM(M9:M42) -> 170944.23 | O7: =SUM(O9:O42) -> 6167.5174 | P7: =SUM(P9:P42) -> 164776.71 | T7: =SUM(T9:T42) -> 164776.71 | V7: =SUM(V9:V42) -> 164776.71 | W7: =SUM(W9:W42) -> 308974.13 | Z7: =SUM(Z9:Z42) -> 30634.55 | AA7: =SUM(AA9:AA42) -> 75119.274 | AB7: =SUM(AB9:AB42) -> 5465.2277 | AC7: =SUM(AC9:AC42) -> 111219.05 | AD7: =SUM(AD9:AD42) -> 53557.659 | AE7: =SUM(AE9:AE42) -> 12179.88 | AF7: =SUM(AF9:AF42) -> 41377.779 | AH7: =SUM(AH9:AH42) -> 29501.324 | AI7: =SUM(AI9:AI42) -> 72340.479 | AJ7: =SUM(AJ9:AJ42) -> 5263.0592 | AK7: =SUM(AK9:AK42) -> 107104.86 | AL7: =SUM(AL9:AL42) -> 57671.849 | AM7: =SUM(AM9:AM42) -> 13723.805 | AN7: =SUM(AN9:AN42) -> 43948.044 | AQ7: =SUM(AQ9:AQ42) -> 164776.71 | AR7: =SUM(AR9:AR42) -> 308974.13 | AS7: =SUM(AS9:AS42) -> 29501.324 | AT7: =SUM(AT9:AT42) -> 72340.479 | AU7: =SUM(AU9:AU42) -> 5263.0592 | AV7: =SUM(AV9:AV42) -> 107104.86 | AW7: =SUM(AW9:AW42) -> 57671.849 | AX7: =SUM(AX9:AX42) -> 13723.805 | AY7: =SUM(AY9:AY42) -> 43948.044
AV8: - | AX8: -
A9: 004301001021 | B9: 004301001 | C9: 21 | D9: 21 | E9: AAA0037OZUH | F9: 9 51 2 | G9: Particular | H9: AC 9 50 85 | I9: 43867.5 | J9: Industrial | K9: 50C-1407090 | L9: GASEOSAS LUX S.A | M9: 16461.2 | O9: =IF(N9="x",M9,0) -> 0 | P9: =M9-O9 -> 16461.2 | R9: 1 | S9: =D9 -> 21 | T9: =P9 -> 16461.2 | U9: =T9/$V$9 -> 0.95326404 | V9: =SUMIF(R9:R42,R9,T9:T42) -> 17268.249 | W9: =I9 -> 43867.5 | X9: =L9 -> GASEOSAS LUX S.A | Z9: 4120.0819 | AA9: 8563.2629 | AB9: 0 | AC9: =SUM(Z9:AB9) -> 12683.345 | AD9: =T9-AC9 -> 3777.8556 | AE9: =IFERROR(AD9-AF9,"-") -> 1179.4236 | AF9: 2598.432 | AG9: =IFERROR(AF9/AD9,0) -> 0.68780607 | AH9: =Z9*$AH$5 -> 3967.6728 | AI9: =AA9*$AI$5 -> 8246.4926 | AJ9: =AB9*$AJ$5 -> 0 | AK9: =SUM(AH9:AJ9) -> 12214.165 | AL9: =T9-AK9 -> 4247.035 | AM9: =AL9-AN9 -> 1325.8986 | AN9: =AL9*AG9 -> 2921.1365 | AP9: =R9 -> 1 | AQ9: =SUMIF($R$9:$R$42,R9,$T$9:$T$42) -> 17268.249 | AR9: =SUMIF($R$9:$R$42,R9,$W$9:$W$42) -> 44678.5 | AS9: =SUMIF($R$9:$R$42,R9,$AH$9:$AH$42) -> 4744.8667 | AT9: =SUMIF($R$9:$R$42,R9,$AI$9:$AI$42) -> 8246.4926 | AU9: =SUMIF($R$9:$R$42,R9,$AJ$9:$AJ$42) -> 0 | AV9: =SUM(AS9:AU9) -> 12991.359 | AW9: =SUMIF($R$9:$R$42,R9,$AL$9:$AL$42) -> 4276.8892 | AX9: =SUMIF($R$9:$R$42,R9,$AM$9:$AM$42) -> 1355.7527 | AY9: =SUMIF($R$9:$R$42,R9,$AN$9:$AN$42) -> 2921.1365
A10: 004301001020 | B10: 004301001 | C10: 20 | D10: 20 | E10: AAA0037OZTD | F10: 9 53 11 | G10: Particular | H10: KR 53F 5C 88 | I10: 811 | J10: Comercio puntual | K10: 50C-224322 | L10: GASEOSAS LUX S.A | M10: 807.04813 | O10: =IF(N10="x",M10,0) -> 0 | P10: =M10-O10 -> 807.04813 | R10: 1 | S10: =D10 -> 20 | T10: =P10 -> 807.04813 | U10: =T10/$V$9 -> 0.046735958 | W10: =I10 -> 811 | X10: =L10 -> GASEOSAS LUX S.A | Z10: 807.04813 | AA10: 0 | AB10: 0 | AC10: =SUM(Z10:AB10) -> 807.04813 | AD10: =T10-AC10 -> 0 | AE10: =IFERROR(AD10-AF10,"-") -> 0 | AF10: 0 | AG10: =IFERROR(AF10/AD10,0) -> 0 | AH10: =Z10*$AH$5 -> 777.19399 | AI10: =AA10*$AI$5 -> 0 | AJ10: =AB10*$AJ$5 -> 0 | AK10: =SUM(AH10:AJ10) -> 777.19399 | AL10: =T10-AK10 -> 29.854143 | AM10: =AL10-AN10 -> 29.854143 | AN10: =AL10*AG10 -> 0 | AP10: - | AQ10: - | AS10: - | AT10: - | AU10: - | AV10: - | AW10: - | AX10: - | AY10: -
A11: 004301001018 | B11: 004301001 | C11: 18 | D11: 18 | E11: AAA0037OZRJ | F11: 9 53 5 | G11: Particular | H11: KR 53F 5C 78 | I11: 811.9 | J11: Industrial | K11: 50C-172314 | L11: GASEOSAS LUX S.A | M11: 811.64101 | O11: =IF(N11="x",M11,0) -> 0 | P11: =M11-O11 -> 811.64101 | R11: 2 | S11: =D11 -> 18 | T11: =P11 -> 811.64101 | U11: =T11/$V$11 -> 0.052019829 | V11: =SUMIF(R11:R44,R11,T11:T44) -> 15602.532 | W11: =I11 -> 811.9 | X11: =L11 -> GASEOSAS LUX S.A | Z11: 163.3901 | AA11: 163.3901 | AB11: 0 | AC11: =SUM(Z11:AB11) -> 326.7802 | AD11: =T11-AC11 -> 484.86081 | AE11: =IFERROR(AD11-AF11,"-") -> 269.02091 | AF11: 215.8399 | AG11: =IFERROR(AF11/AD11,0) -> 0.44515847 | AH11: =Z11*$AH$5 -> 157.34601 | AI11: =AA11*$AI$5 -> 157.34601 | AJ11: =AB11*$AJ$5 -> 0 | AK11: =SUM(AH11:AJ11) -> 314.69202 | AL11: =T11-AK11 -> 496.94899 | AM11: =AL11-AN11 -> 275.72794 | AN11: =AL11*AG11 -> 221.22106 | AP11: =R11 -> 2 | AQ11: =SUMIF($R$9:$R$42,R11,$T$9:$T$42) -> 15602.532 | AR11: =SUMIF($R$9:$R$42,R11,$W$9:$W$42) -> 47091.3 | AS11: =SUMIF($R$9:$R$42,R11,$AH$9:$AH$42) -> 1166.9775 | AT11: =SUMIF($R$9:$R$42,R11,$AI$9:$AI$42) -> 7535.2101 | AU11: =SUMIF($R$9:$R$42,R11,$AJ$9:$AJ$42) -> 0 | AV11: =SUM(AS11:AU11) -> 8702.1876 | AW11: =SUMIF($R$9:$R$42,R11,$AL$9:$AL$42) -> 6900.3439 | AX11: =SUMIF($R$9:$R$42,R11,$AM$9:$AM$42) -> 1807.5715 | AY11: =SUMIF($R$9:$R$42,R11,$AN$9:$AN$42) -> 5092.7724
A12: 004301001021 | B12: 004301001 | C12: 21 | D12: 21 | E12: AAA0037OZUH | F12: 9 51 2 | G12: Particular | H12: AC 9 50 85 | I12: 43867.5 | J12: Industrial | K12: 50C-1407090 | L12: GASEOSAS LUX S.A | M12: 12352.429 | O12: =IF(N12="x",M12,0) -> 0 | P12: =M12-O12 -> 12352.429 | R12: 2 | S12: =D12 -> 21 | T12: =P12 -> 12352.429 | U12: =T12/$V$11 -> 0.7916939 | W12: =I12 -> 43867.5 | X12: =L12 -> GASEOSAS LUX S.A | Z12: 546.7745 | AA12: 6671.1592 | AB12: 0 | AC12: =SUM(Z12:AB12) -> 7217.9337 | AD12: =T12-AC12 -> 5134.4954 | AE12: =IFERROR(AD12-AF12,"-") -> 1047.3729 | AF12: 4087.1225 | AG12: =IFERROR(AF12/AD12,0) -> 0.7960125 | AH12: =Z12*$AH$5 -> 526.54834 | AI12: =AA12*$AI$5 -> 6424.3812 | AJ12: =AB12*$AJ$5 -> 0 | AK12: =SUM(AH12:AJ12) -> 6950.9295 | AL12: =T12-AK12 -> 5401.4996 | AM12: =AL12-AN12 -> 1101.8384 | AN12: =AL12*AG12 -> 4299.6612 | AP12: - | AQ12: - | AR12: - | AS12: - | AT12: - | AU12: - | AV12: - | AW12: - | AX12: - | AY12: -
