Workbook

Sheet DATOS GENERALES
A1: DATOS GENERALES VIVIENDA CON GOLF
A3: VENTA DE VIVIENDA
A5: COSTO M2 URBANISMO VIVIENDA | B5: =400000+B7 -> 704577.07
A6: COSTO M2 URBANISMO HOTEL | B6: 245000
A7: COSTO M2 URBANISMO GOLF | B7: =+(B120+E124+C129+B138+(60*B58))/D17 -> 304577.07
A8: COSTO M2 CONSTRUCCIÓN | B8: 1400000
A9: TOTAL COSTO CONSTRUCCIÓN | B9: =+B5+B8 -> 2104577.1
A10: COSTO M2 CONSTRUIDO | B10: =+'ESTRUCTURA FINANCIERA'!D64 -> 2613590.4
A11: PRECIO M2 CONSTRUIDO | B11: 3500000
B13: ÁREA DE LA CASA | C13: # CASAS | D13: OCUPACIÓN TERRENO CONSTRUIDO | E13: TAMAÑO TERRENO | F13: OCUPACIÓN TERRENO Ha | G13: PORCENTAJE PREDIO | H13: COSTO CASA | I13: PRECIO CASA
A14: CASA TIPO I | B14: 500 | C14: 50 | D14: =+B14*C14 -> 25000 | E14: 3000 | F14: =+(C14*E14)/10000 -> 15 | G14: =+F14/$F$17 -> 0.3 | H14: =+B14*$B$9 -> 1.0522885e+09 | I14: =+B14*$B$11 -> 1750000000
A15: CASA TIPO II | B15: 360 | C15: 100 | D15: =+B15*C15 -> 36000 | E15: 1500 | F15: =+(C15*E15)/10000 -> 15 | G15: =+F15/$F$17 -> 0.3 | H15: =+B15*$B$9 -> 7.5764775e+08 | I15: =+B15*$B$11 -> 1260000000
A16: CASA TIPO III | B16: 180 | C16: 200 | D16: =+B16*C16 -> 36000 | E16: 1000 | F16: =+(C16*E16)/10000 -> 20 | G16: =+F16/$F$17 -> 0.4 | H16: =+B16*$B$9 -> 3.7882387e+08 | I16: =+B16*$B$11 -> 630000000
B17: No. CASAS | C17: =+SUM(C14:C16) -> 350 | D17: =+SUM(D14:D16) -> 97000 | E17: TOTAL Ha | F17: =+SUM(F14:F16) -> 50 | G17: =+SUM(G14:G16) -> 1
B19: ÁREA DE LA CASA | C19: TAMAÑO TERRENO | D19: COSTO CASA | E19: PRECIO CASA
A20: CASA TIPO I | B20: 500 | C20: 3000 | D20: =+B20*$B$8 -> 700000000 | E20: =+B20*$B$11 -> 1750000000
A21: CASA TIPO II | B21: 360 | C21: 1500 | D21: =+B21*$B$8 -> 504000000 | E21: =+B21*$B$11 -> 1260000000
A22: CASA TIPO III | B22: 180 | C22: 1000 | D22: =+B22*$B$8 -> 252000000 | E22: =+B22*$B$11 -> 630000000
A24: OTROS DATOS | C24: MARGEN BRUTO | E24: ÍNDICE DE OCUPACIÓN | F24: =+C17/F17 -> 7
A25: ADMINISTRACIÓN CASA POR AÑO | B25: =200000*12 -> 2400000
A26: COSTO TERRENO POR CASA TIPO I | B26: =+($B$57*G14)/C14 -> 161280000 | C26: =+I14/(H14+B26) -> 1.4420282
A27: COSTO TERRENO POR CASA TIPO II | B27: =+($B$57*G15)/C15 -> 80640000 | C27: =+I15/(H15+B27) -> 1.5030638
A28: COSTO TERRENO POR CASA TIPO III | B28: =+($B$57*G16)/C16 -> 53760000 | C28: =+I16/(H16+B28) -> 1.456365
A30: CONSTRUCCIÓN DE ETAPAS Y VENTA DE CASAS | M30: TOTAL CASAS
A31: AÑO | B31: 0 | C31: 1 | D31: 2 | E31: 3 | F31: 4 | G31: 5 | H31: 6 | I31: 7 | J31: 8 | K31: 9 | L31: 10
A32: CASAS CONSTRUIDAS TIPO I | B32: 0 | C32: 2 | D32: 4 | E32: 6 | F32: 8 | G32: 10 | H32: 8 | I32: 6 | J32: 4 | K32: 2 | L32: 0 | M32: =+SUM(B32:L32) -> 50
A33: CASAS CONSTRUIDAS TIPO II | B33: 0 | C33: 6 | D33: 8 | E33: 10 | F33: 12 | G33: 14 | H33: 14 | I33: 12 | J33: 10 | K33: 8 | L33: 6 | M33: =+SUM(B33:L33) -> 100
A34: CASAS CONSTRUIDAS TIPO III | B34: 0 | C34: 12 | D34: 16 | E34: 20 | F34: 24 | G34: 28 | H34: 28 | I34: 24 | J34: 20 | K34: 16 | L34: 12 | M34: =+SUM(B34:L34) -> 200
A35: TOTAL CASAS CONSTRUIDAS | B35: =+SUM(B32:B34) -> 0 | C35: =+SUM(C32:C34) -> 20 | D35: =+SUM(D32:D34) -> 28 | E35: =+SUM(E32:E34) -> 36 | F35: =+SUM(F32:F34) -> 44 | G35: =+SUM(G32:G34) -> 52 | H35: =+SUM(H32:H34) -> 50 | I35: =+SUM(I32:I34) -> 42 | ... L35: =+SUM(L32:L34) -> 18 | M35: =+SUM(B35:L35) -> 350
A36: CASAS VENDIDAS TIPO I | B36: 0 | C36: =+C32 -> 2 | D36: =+D32 -> 4 | E36: =+E32 -> 6 | F36: =+F32 -> 8 | G36: =+G32 -> 10 | H36: =+H32 -> 8 | I36: =+I32 -> 6 | J36: =+J32 -> 4 | ... L36: =+L32 -> 0 | M36: =+SUM(B36:L36) -> 50
A37: CASAS VENDIDAS TIPO II | B37: 0 | C37: =+C33 -> 6 | D37: =+D33 -> 8 | E37: =+E33 -> 10 | F37: =+F33 -> 12 | G37: =+G33 -> 14 | H37: =+H33 -> 14 | I37: =+I33 -> 12 | J37: =+J33 -> 10 | ... L37: =+L33 -> 6 | M37: =+SUM(B37:L37) -> 100
A38: CASAS VENDIDAS TIPO III | B38: 0 | C38: =+C34 -> 12 | D38: =+D34 -> 16 | E38: =+E34 -> 20 | F38: =+F34 -> 24 | G38: =+G34 -> 28 | H38: =+H34 -> 28 | I38: =+I34 -> 24 | J38: =+J34 -> 20 | ... L38: =+L34 -> 12 | M38: =+SUM(B38:L38) -> 200
A39: TOTAL CASAS VENDIDAS | B39: =+SUM(A36:A38) -> 0 | C39: =+SUM(C36:C38) -> 20 | D39: =+SUM(D36:D38) -> 28 | E39: =+SUM(E36:E38) -> 36 | F39: =+SUM(F36:F38) -> 44 | G39: =+SUM(G36:G38) -> 52 | H39: =+SUM(H36:H38) -> 50 | I39: =+SUM(I36:I38) -> 42 | J39: =+SUM(J36:J38) -> 34 | ... L39: =+SUM(L36:L38) -> 18 | M39: =+SUM(B39:L39) -> 350
A41: COSTO TOTAL TERRENO CASAS
A42: AÑO | B42: 0 | C42: 1 | D42: 2 | E42: 3 | F42: 4 | G42: 5 | H42: 6 | I42: 7 | J42: 8 | K42: 9 | L42: 10
A43: COSTO TOTAL TERRENO CASA TIPO I | B43: =+B36*$B$26 -> 0 | C43: =+C36*$B$26 -> 322560000 | D43: =+D36*$B$26 -> 645120000 | E43: =+E36*$B$26 -> 967680000 | F43: =+F36*$B$26 -> 1290240000 | G43: =+G36*$B$26 -> 1612800000 | H43: =+H36*$B$26 -> 1290240000 | I43: =+I36*$B$26 -> 967680000 | ... L43: =+L36*$B$26 -> 0
A44: COSTO TOTAL TERRENO CASA TIPO II | B44: =+B37*$B$27 -> 0 | C44: =+C37*$B$27 -> 483840000 | D44: =+D37*$B$27 -> 645120000 | E44: =+E37*$B$27 -> 806400000 | F44: =+F37*$B$27 -> 967680000 | G44: =+G37*$B$27 -> 1128960000 | H44: =+H37*$B$27 -> 1128960000 | I44: =+I37*$B$27 -> 967680000 | ... L44: =+L37*$B$27 -> 483840000
A45: COSTO TOTAL TERRENO CASA TIPO III | B45: =+B38*$B$28 -> 0 | C45: =+C38*$B$28 -> 645120000 | D45: =+D38*$B$28 -> 860160000 | E45: =+E38*$B$28 -> 1075200000 | F45: =+F38*$B$28 -> 1290240000 | G45: =+G38*$B$28 -> 1505280000 | H45: =+H38*$B$28 -> 1505280000 | I45: =+I38*$B$28 -> 1290240000 | ... L45: =+L38*$B$28 -> 645120000
A47: TERRENO | D47: COSTOS DE PUESTA EN MARCHA | G47: GASTOS OPERATIVOS Y ADMINISTRATIVOS
A48: VALOR M² | B48: 20000 | D48: LICENCIAS | E48: =+B57*3% -> 806400000 | G48: HONORARIOS ABOGADOS | I48: =3000000*12 -> 36000000
...

Sheet ESTRUCTURA FINANCIERA
A1: SECTOR O TIPO DE OFERTA | B1: METROS CUADRADOS | C1: PRECIO METRO CUADRADO | D1: VENTAS ESTIMADAS
A2: HOTEL Y CC | B2: 10000 | C2: 3200000 | D2: =+B2*C2 -> 32000000000
A3: TOTAL | B3: =+B2 -> 10000 | C3: =+C2 -> 3200000 | D3: =+D2 -> 32000000000
A5: SECTOR O TIPO DE OFERTA | B5: METROS CUADRADOS | C5: PRECIO METRO CUADRADO | D5: VENTAS ESTIMADAS | E5: PORCENTAJE SOBRE VENTAS TOTALES | F5: INCIDENCIA SOBRE METROS CUADRADOS
A6: VIVIENDA TIPO I + GOLF | B6: =+B13 -> 25000 | C6: =+C13 -> 3500000 | D6: =+B6*C6 -> 87500000000 | E6: =+D6/$D$9 -> 0.25773196 | F6: =+B6/$B$9 -> 0.25773196
A7: VIVIENDA TIPO II + GOLF | B7: =+B14 -> 36000 | C7: =+C14 -> 3500000 | D7: =+B7*C7 -> 126000000000 | E7: =+D7/$D$9 -> 0.37113402 | F7: =+B7/$B$9 -> 0.37113402
A8: VIVIENDA TIPO III + GOLF | B8: =+B15 -> 36000 | C8: =+C15 -> 3500000 | D8: =+B8*C8 -> 126000000000 | E8: =+D8/$D$9 -> 0.37113402 | F8: =+B8/$B$9 -> 0.37113402
A9: TOTAL | B9: =+SUM(B6:B8) -> 97000 | C9: =+SUM(C6:C8) -> 10500000 | D9: =+SUM(D6:D8) -> 339500000000 | E9: =+SUM(E6:E8) -> 1 | F9: =+SUM(F6:F8) -> 1
A11: SECTOR O TIPO DE OFERTA | B11: METROS CUADRADOS | C11: PRECIO METRO CUADRADO | D11: VENTAS ESTIMADAS | E11: PORCENTAJE SOBRE VENTAS TOTALES | F11: INCIDENCIA SOBRE METROS CUADRADOS
A12: HOTEL Y CC | B12: 10000 | C12: =+'DATOS GENERALES'!B97 -> 2900000 | D12: =+B12*C12 -> 29000000000 | E12: =+D12/$D$17 -> 0.078697422 | F12: =+B12/$B$17 -> 0.093457944
A13: VIVIENDA TIPO I + GOLF | B13: =+'DATOS GENERALES'!C14*'DATOS GENERALES'!B14 -> 25000 | C13: =+'DATOS GENERALES'!B11 -> 3500000 | D13: =+B13*C13 -> 87500000000 | E13: =+D13/$D$17 -> 0.23744912 | F13: =+B13/$B$17 -> 0.23364486
A14: VIVIENDA TIPO II + GOLF | B14: =+'DATOS GENERALES'!B15*'DATOS GENERALES'!C15 -> 36000 | C14: =+'DATOS GENERALES'!B11 -> 3500000 | D14: =+B14*C14 -> 126000000000 | E14: =+D14/$D$17 -> 0.34192673 | F14: =+B14/$B$17 -> 0.3364486
A15: VIVIENDA TIPO III + GOLF | B15: =+'DATOS GENERALES'!B16*'DATOS GENERALES'!C16 -> 36000 | C15: =+'DATOS GENERALES'!B11 -> 3500000 | D15: =+B15*C15 -> 126000000000 | E15: =+D15/$D$17 -> 0.34192673 | F15: =+B15/$B$17 -> 0.3364486
A16: SUBTOTAL VIVIENDA | B16: =+SUM(B13:B15) -> 97000 | D16: =+SUM(D13:D15) -> 339500000000 | E16: =+D16/$D$17 -> 0.92130258 | F16: =+B16/$B$17 -> 0.90654206
A17: TOTAL | B17: =+B12+B16 -> 107000 | D17: =+D12+D16 -> 368500000000 | E17: =+D17/$D$17 -> 1 | F17: =+B17/$B$17 -> 1
A19: PORCENTAJE SOBRE VENTAS TOTALES | B19: =+B21/D21 -> 0.078697422 | C19: =+C21/D21 -> 0.92130258 | D19: 1
A20: DESARROLLOS INMOBILIARIOS | B20: HOTEL Y CC | C20: VIVIENDA + GOLF | D20: TOTAL
A21: INGRESOS POR VENTAS | B21: =+D12 -> 29000000000 | C21: =+D16 -> 339500000000 | D21: =+D17 -> 368500000000
A22: COSTOS URBANISMO | B22: =+('DATOS GENERALES'!C90+'DATOS GENERALES'!B91)*'DATOS GENERALES'!B5 -> 7.0281563e+09 | C22: =+('DATOS GENERALES'!B5*'DATOS GENERALES'!$B$14*'DATOS GENERALES'!$C$14)+('DATOS GENERALES'!B5*'DATOS GENERALES'!$B$15*'DATOS GENERALES'!$C$15)+('DATOS GENERALES'!B5*'DATOS GENERALES'!$B$16*'DATOS GENERALES'!$C$16) -> 6.8343976e+10 | D22: =+B22+C22 -> 7.5372133e+10
A23: COSTOS DE CONSTRUCCIÓN | B23: =+'DATOS GENERALES'!B85*('DATOS GENERALES'!C90+'DATOS GENERALES'!B91) -> 13965000000 | C23: =+('DATOS GENERALES'!B8*'DATOS GENERALES'!$B$14*'DATOS GENERALES'!$C$14)+('DATOS GENERALES'!B8*'DATOS GENERALES'!$B$15*'DATOS GENERALES'!$C$15)+('DATOS GENERALES'!B8*'DATOS GENERALES'!$B$16*'DATOS GENERALES'!$C$16)+'DATOS GENERALES'!B120 -> 138600000000 | D23: =+B23+C23 -> 152565000000
A24: COSTOS DE ARQUITECTURA | B24: =+'DATOS GENERALES'!H114 -> 1.3056654e+09 | C24: =+'DATOS GENERALES'!K72+'DATOS GENERALES'!E124 -> 6.2149822e+08 | D24: =+B24+C24 -> 1.9271636e+09
A25: COSTOS INDIRECTOS | B25: 0 | C25: =+'FLUJO DE TESORERÍA '!B18+'FLUJO DE TESORERÍA '!B32+SUM('FLUJO DE TESORERÍA '!B33:L33)+'DATOS GENERALES'!C129 -> 5.3661274e+09 | D25: =+B25+C25 -> 5.3661274e+09
A26: GASTOS COMERCIALES | B26: =+B21*'DATOS GENERALES'!$B$82+(B19*SUM('FLUJO DE TESORERÍA '!A31:L31)) -> 5.5378173e+08 | C26: =+C21*'DATOS GENERALES'!$B$82+(C19*SUM('FLUJO DE TESORERÍA '!B31:L31)) -> 6.4830654e+09 | D26: =+B26+C26 -> 7.0368471e+09
A27: PUBLICIDAD Y MERCADEO | B27: =+'DATOS GENERALES'!B122 -> 0 | C27: =+SUM('FLUJO DE TESORERÍA '!B30:L30) -> 7.6715975e+09 | D27: =+B27+C27 -> 7.6715975e+09
A28: =A43 -> TOTAL DESARROLLOS INMOBILIARIOS | B28: =SUM(B22:B27) -> 2.2852603e+10 | C28: =SUM(C22:C27) -> 2.2708626e+11 | D28: =SUM(D22:D27) -> 2.4993887e+11
A29: COSTOS TERRENO | B29: =+'DATOS GENERALES'!B58*2 -> 448000000 | C29: =+'DATOS GENERALES'!B57-B29 -> 26432000000 | D29: =+B29+C29 -> 26880000000
A30: =A45 -> TOTAL COSTOS DESARROLLOS | B30: =B28+B29 -> 2.3300603e+10 | C30: =C28+C29 -> 2.5351826e+11 | D30: =D28+D29 -> 2.7681887e+11
A31: MARGEN BRUTO | B31: =B21-B30 -> 5.6993965e+09 | C31: =C21-C30 -> 8.5981735e+10 | D31: =D21-D30 -> 9.1681132e+10
B32: =+B31/B21 -> 0.19653092 | C32: =+C31/C21 -> 0.2532599 | D32: =+D31/D21 -> 0.24879547
A34: DESARROLLOS INMOBILIARIOS | B34: VIVIENDA + GOLF TIPO I
A35: INGRESOS POR VENTAS | B35: =D6 -> 87500000000
A36: COSTOS DESARROLLO INMOBILIARIO | B36: Incidencia Mtr² Const. | C36: Incidencia Mtr² Ventas | D36: =D45/B13 -> 2613590.4
A37: COSTOS URBANISMO | B37: =D37/$D$43 -> 0.30096041 | C37: =D37/$B$35 -> 0.20130774 | D37: =(C22/B16)*B13 -> 1.7614427e+10
A38: COSTOS DE CONSTRUCCIÓN | B38: =D38/$D$43 -> 0.61034074 | C38: =D38/$B$35 -> 0.40824742 | D38: =(C23/B16)*B13 -> 3.5721649e+10
A39: COSTOS DE ARQUITECTURA | B39: =D39/$D$43 -> 0.0027368376 | C39: =D39/$B$35 -> 0.0018306281 | D39: =(C24/B16)*B13 -> 1.6017995e+08
A40: COSTOS INDIRECTOS | B40: =D40/$D$43 -> 0.023630348 | C40: =D40/$B$35 -> 0.015805972 | D40: =(C25/B16)*B13 -> 1.3830225e+09
A41: COMISIÓN DE VENTAS | B41: =D41/$D$43 -> 0.02854891 | C41: =D41/$B$35 -> 0.019095922 | D41: =(C26/B16)*B13 -> 1.6708931e+09
A42: PUBLICIDAD Y MERCADEO | B42: =D42/$D$43 -> 0.033782746 | C42: =D42/$B$35 -> 0.022596753 | D42: =(C27/B16)*B13 -> 1.9772159e+09
A43: TOTAL DESARROLLOS INMOBILIARIOS | C43: =SUM(C37:C42) -> 0.66888443 | D43: =SUM(D37:D42) -> 5.8527388e+10
A44: COSTOS TERRENO | C44: =D44/B35 -> 0.07785567 | D44: =(C29/B16)*B13 -> 6.8123711e+09
...

Sheet FLUJO DE TESORERÍA 
A1: FLUJO DE TESORERIA
A2: PROYECTO VIVIENDA CON GOLF
A3: CONCEPTO | B3: AÑO 0 | C3: AÑO 1 | D3: AÑO 2 | E3: AÑO 3 | F3: AÑO 4 | G3: AÑO 5 | H3: AÑO 6 | I3: AÑO 7 | J3: AÑO 8 | K3: AÑO 9 | L3: AÑO 10
A6: CAJA INICIAL | C6: =B40 -> 7.5780178e+08 | D6: =C40 -> 4.6427174e+08 | E6: =D40 -> 40649642 | F6: =E40 -> 6.6380528e+08 | G6: =F40 -> 1.5089987e+10 | H6: =G40 -> 3.5152865e+10 | I6: =H40 -> 4.9707646e+10 | J6: =I40 -> 6.1909058e+10 | ... L6: =K40 -> 7.2010767e+10
A8: INGRESOS
A9: VENTA DE CASAS TIPO I | B9: =+'DATOS GENERALES'!$I$14*'DATOS GENERALES'!B36 -> 0 | C9: =+'DATOS GENERALES'!$I$14*'DATOS GENERALES'!C36 -> 3500000000 | D9: =+'DATOS GENERALES'!$I$14*'DATOS GENERALES'!D36 -> 7000000000 | E9: =+'DATOS GENERALES'!$I$14*'DATOS GENERALES'!E36 -> 10500000000 | F9: =+'DATOS GENERALES'!$I$14*'DATOS GENERALES'!F36 -> 14000000000 | G9: =+'DATOS GENERALES'!$I$14*'DATOS GENERALES'!G36 -> 17500000000 | H9: =+'DATOS GENERALES'!$I$14*'DATOS GENERALES'!H36 -> 14000000000 | I9: =+'DATOS GENERALES'!$I$14*'DATOS GENERALES'!I36 -> 10500000000 | ... L9: =+'DATOS GENERALES'!$I$14*'DATOS GENERALES'!L36 -> 0
A10: VENTA DE CASAS TIPO II | B10: =+'DATOS GENERALES'!$I$15*'DATOS GENERALES'!B37 -> 0 | C10: =+'DATOS GENERALES'!$I$15*'DATOS GENERALES'!C37 -> 7560000000 | D10: =+'DATOS GENERALES'!$I$15*'DATOS GENERALES'!D37 -> 10080000000 | E10: =+'DATOS GENERALES'!$I$15*'DATOS GENERALES'!E37 -> 12600000000 | F10: =+'DATOS GENERALES'!$I$15*'DATOS GENERALES'!F37 -> 15120000000 | G10: =+'DATOS GENERALES'!$I$15*'DATOS GENERALES'!G37 -> 17640000000 | H10: =+'DATOS GENERALES'!$I$15*'DATOS GENERALES'!H37 -> 17640000000 | I10: =+'DATOS GENERALES'!$I$15*'DATOS GENERALES'!I37 -> 15120000000 | ... L10: =+'DATOS GENERALES'!$I$15*'DATOS GENERALES'!L37 -> 7560000000
A11: VENTA DE CASAS TIPO III | B11: =+'DATOS GENERALES'!$I$16*'DATOS GENERALES'!B38 -> 0 | C11: =+'DATOS GENERALES'!$I$16*'DATOS GENERALES'!C38 -> 7560000000 | D11: =+'DATOS GENERALES'!$I$16*'DATOS GENERALES'!D38 -> 10080000000 | E11: =+'DATOS GENERALES'!$I$16*'DATOS GENERALES'!E38 -> 12600000000 | F11: =+'DATOS GENERALES'!$I$16*'DATOS GENERALES'!F38 -> 15120000000 | G11: =+'DATOS GENERALES'!$I$16*'DATOS GENERALES'!G38 -> 17640000000 | H11: =+'DATOS GENERALES'!$I$16*'DATOS GENERALES'!H38 -> 17640000000 | I11: =+'DATOS GENERALES'!$I$16*'DATOS GENERALES'!I38 -> 15120000000 | ... L11: =+'DATOS GENERALES'!$I$16*'DATOS GENERALES'!L38 -> 7560000000
A12: VENTA HOTEL | G12: ='ESTRUCTURA FINANCIERA'!$B$21/3 -> 9.6666667e+09 | H12: ='ESTRUCTURA FINANCIERA'!$B$21/3 -> 9.6666667e+09 | I12: ='ESTRUCTURA FINANCIERA'!$B$21/3 -> 9.6666667e+09
A13: PROVENIENTES DE INVERSIONISTAS | B13: 12500000000 | C13: 6000000000
A15: TOTAL INGRESOS | B15: =SUM(B9:B13)+B6 -> 12500000000 | C15: =SUM(C9:C13)+C6 -> 2.5377802e+10 | D15: =SUM(D9:D13)+D6 -> 2.7624272e+10 | E15: =SUM(E9:E13)+E6 -> 3.574065e+10 | F15: =SUM(F9:F13)+F6 -> 4.4903805e+10 | G15: =SUM(G9:G13)+G6 -> 7.7536653e+10 | H15: =SUM(H9:H13)+H6 -> 9.4099531e+10 | I15: =SUM(I9:I13)+I6 -> 1.0011431e+11 | ... L15: =SUM(L9:L13)+L6 -> 8.7130767e+10
A17: EGRESOS
A18: ESTUDIO DE FACTIBILIDAD | B18: =+'DATOS GENERALES'!C73 -> 500000000
A19: DISEÑO ARQUITECTÓNICO Y URBANISTICO | B19: ='DATOS GENERALES'!K72 -> 3.6669822e+08 | F19: ='DATOS GENERALES'!H114 -> 1.3056654e+09
A20: COMPRA DE TERRENO | B20: =+'DATOS GENERALES'!$B$57/4 -> 6720000000 | C20: =+'DATOS GENERALES'!$B$57/4 -> 6720000000 | D20: =+'DATOS GENERALES'!$B$57/4 -> 6720000000 | E20: =+'DATOS GENERALES'!$B$57/4 -> 6720000000
A21: CONSTRUCCIÓN CASAS TIPO I CON URBANISMO | B21: =+'DATOS GENERALES'!B32*'DATOS GENERALES'!$H$14 -> 0 | C21: =+'DATOS GENERALES'!C32*'DATOS GENERALES'!$H$14 -> 2.1045771e+09 | D21: =+'DATOS GENERALES'!D32*'DATOS GENERALES'!$H$14 -> 4.2091541e+09 | E21: =+'DATOS GENERALES'!E32*'DATOS GENERALES'!$H$14 -> 6.3137312e+09 | F21: =+'DATOS GENERALES'!F32*'DATOS GENERALES'!$H$14 -> 8.4183083e+09 | G21: =+'DATOS GENERALES'!G32*'DATOS GENERALES'!$H$14 -> 1.0522885e+10 | H21: =+'DATOS GENERALES'!H32*'DATOS GENERALES'!$H$14 -> 8.4183083e+09 | I21: =+'DATOS GENERALES'!I32*'DATOS GENERALES'!$H$14 -> 6.3137312e+09 | ... L21: =+'DATOS GENERALES'!L32*'DATOS GENERALES'!$H$14 -> 0
A22: CONSTRUCCIÓN CASAS TIPO II CON URBANISMO | B22: =+'DATOS GENERALES'!B33*'DATOS GENERALES'!$H$15 -> 0 | C22: =+'DATOS GENERALES'!C33*'DATOS GENERALES'!$H$15 -> 4.5458865e+09 | D22: =+'DATOS GENERALES'!D33*'DATOS GENERALES'!$H$15 -> 6.061182e+09 | E22: =+'DATOS GENERALES'!E33*'DATOS GENERALES'!$H$15 -> 7.5764775e+09 | F22: =+'DATOS GENERALES'!F33*'DATOS GENERALES'!$H$15 -> 9.091773e+09 | G22: =+'DATOS GENERALES'!G33*'DATOS GENERALES'!$H$15 -> 1.0607068e+10 | H22: =+'DATOS GENERALES'!H33*'DATOS GENERALES'!$H$15 -> 1.0607068e+10 | I22: =+'DATOS GENERALES'!I33*'DATOS GENERALES'!$H$15 -> 9.091773e+09 | ... L22: =+'DATOS GENERALES'!L33*'DATOS GENERALES'!$H$15 -> 4.5458865e+09
A23: CONSTRUCCIÓN CASAS TIPO III CON URBANISMO | B23: =+'DATOS GENERALES'!B34*'DATOS GENERALES'!$H$16 -> 0 | C23: =+'DATOS GENERALES'!C34*'DATOS GENERALES'!$H$16 -> 4.5458865e+09 | D23: =+'DATOS GENERALES'!D34*'DATOS GENERALES'!$H$16 -> 6.061182e+09 | E23: =+'DATOS GENERALES'!E34*'DATOS GENERALES'!$H$16 -> 7.5764775e+09 | F23: =+'DATOS GENERALES'!F34*'DATOS GENERALES'!$H$16 -> 9.091773e+09 | G23: =+'DATOS GENERALES'!G34*'DATOS GENERALES'!$H$16 -> 1.0607068e+10 | H23: =+'DATOS GENERALES'!H34*'DATOS GENERALES'!$H$16 -> 1.0607068e+10 | I23: =+'DATOS GENERALES'!I34*'DATOS GENERALES'!$H$16 -> 9.091773e+09 | ... L23: =+'DATOS GENERALES'!L34*'DATOS GENERALES'!$H$16 -> 4.5458865e+09
A24: CONSTRUCCIÓN HOTEL CON URBANISMO | H24: =SUM('ESTRUCTURA FINANCIERA'!D79:D80)/3 -> 6.9977188e+09 | I24: =H24 -> 6.9977188e+09 | J24: =I24 -> 6.9977188e+09
A25: DISEÑO DE LAS INSTALACIONES | C25: =+'DATOS GENERALES'!E124 -> 2.548e+08
A26: CONSTRUCCIÓN DE LAS INSTALACIONES | D26: =+'DATOS GENERALES'!B120 -> 2800000000
A27: DISEÑO DE CAMPO DE GOLF | B27: =+'DATOS GENERALES'!B137 -> 2000000000
A28: CONSTRUCCIÓN DEL CAMPO DE GOLF | C28: =+'DATOS GENERALES'!$B$136/2 -> 5100000000 | E28: =+'DATOS GENERALES'!$B$136/2 -> 5100000000
A29: MANTENIMIENTO CAMPO DE GOLF | D29: =+'DATOS GENERALES'!$B$129/2 -> 44400000 | E29: =+('DATOS GENERALES'!$B$129/2)*(1+'DATOS GENERALES'!$B$130) -> 46176000 | F29: =+(E29*2)*(1+'DATOS GENERALES'!B130) -> 96046080 | G29: =+F29*(1+'DATOS GENERALES'!$B$130) -> 99887923 | H29: =+G29*(1+'DATOS GENERALES'!$B$130) -> 1.0388344e+08 | I29: =+H29*(1+'DATOS GENERALES'!$B$130) -> 1.0803878e+08 | J29: =+I29*(1+'DATOS GENERALES'!$B$130) -> 1.1236033e+08 | K29: =+J29*(1+'DATOS GENERALES'!$B$130) -> 1.1685474e+08 | L29: =+K29*(1+'DATOS GENERALES'!$B$130) -> 1.2152893e+08
A30: MARKETING ESTRATEGICO | B30: =+'DATOS GENERALES'!B66 -> 1118000000 | C30: =+B30*(1-'DATOS GENERALES'!$B$67) -> 1006200000 | D30: =+C30*(1-'DATOS GENERALES'!$B$67) -> 905580000 | E30: =+D30*(1-'DATOS GENERALES'!$B$67) -> 815022000 | F30: =+E30*(1-'DATOS GENERALES'!$B$67) -> 733519800 | G30: =+F30*(1-'DATOS GENERALES'!$B$67) -> 660167820 | H30: =+G30*(1-'DATOS GENERALES'!$B$67) -> 594151038 | I30: =+H30*(1-'DATOS GENERALES'!$B$67) -> 5.3473593e+08 | J30: =+I30*(1-'DATOS GENERALES'!$B$67) -> 4.8126234e+08 | ... L30: =+K30*(1-'DATOS GENERALES'!$B$67) -> 3.898225e+08
A31: FUERZA DE VENTAS | C31: =+'DATOS GENERALES'!B80 -> 120000000 | D31: =+C31*(1+'DATOS GENERALES'!$B$81) -> 126000000 | E31: =+D31*(1+'DATOS GENERALES'!$B$81) -> 132300000 | F31: =+E31*(1+'DATOS GENERALES'!$B$81) -> 138915000 | G31: =+F31*(1+'DATOS GENERALES'!$B$81) -> 145860750 | H31: =+G31*(1+'DATOS GENERALES'!$B$81) -> 1.5315379e+08 | I31: =+H31*(1+'DATOS GENERALES'!$B$81) -> 1.6081148e+08 | J31: =+I31*(1+'DATOS GENERALES'!$B$81) -> 1.6885205e+08 | K31: =+J31*(1+'DATOS GENERALES'!$B$81) -> 1.7729465e+08 | L31: =+K31*(1+'DATOS GENERALES'!$B$81) -> 1.8615939e+08
A32: COSTOS DE PUESTA EN MARCHA | B32: ='DATOS GENERALES'!E51 -> 811900000
A33: GASTOS OPERATIVOS Y ADMINISTRATIVOS | B33: =+'DATOS GENERALES'!I53 -> 225600000 | C33: =+B33*(1+'DATOS GENERALES'!$I$54) -> 236880000 | D33: =+C33*(1+'DATOS GENERALES'!$I$54) -> 248724000 | E33: =+D33*(1+'DATOS GENERALES'!$I$54) -> 261160200 | F33: =+E33*(1+'DATOS GENERALES'!$I$54) -> 274218210 | G33: =+F33*(1+'DATOS GENERALES'!$I$54) -> 2.8792912e+08 | H33: =+G33*(1+'DATOS GENERALES'!$I$54) -> 3.0232558e+08 | I33: =+H33*(1+'DATOS GENERALES'!$I$54) -> 3.1744186e+08 | J33: =+I33*(1+'DATOS GENERALES'!$I$54) -> 3.3331395e+08 | ... L33: =+K33*(1+'DATOS GENERALES'!$I$54) -> 3.6747863e+08
A34: COMISIONES VIVIENDA | B34: =+('DATOS GENERALES'!$B$82*B9)+('DATOS GENERALES'!$B$82*B10)+('DATOS GENERALES'!$B$82*B11) -> 0 | C34: =+('DATOS GENERALES'!$B$82*C9)+('DATOS GENERALES'!$B$82*C10)+('DATOS GENERALES'!$B$82*C11) -> 279300000 | D34: =+('DATOS GENERALES'!$B$82*D9)+('DATOS GENERALES'!$B$82*D10)+('DATOS GENERALES'!$B$82*D11) -> 407400000 | E34: =+('DATOS GENERALES'!$B$82*E9)+('DATOS GENERALES'!$B$82*E10)+('DATOS GENERALES'!$B$82*E11) -> 535500000 | F34: =+('DATOS GENERALES'!$B$82*F9)+('DATOS GENERALES'!$B$82*F10)+('DATOS GENERALES'!$B$82*F11) -> 663600000 | G34: =+('DATOS GENERALES'!$B$82*G9)+('DATOS GENERALES'!$B$82*G10)+('DATOS GENERALES'!$B$82*G11) -> 791700000 | H34: =+('DATOS GENERALES'!$B$82*H9)+('DATOS GENERALES'!$B$82*H10)+('DATOS GENERALES'!$B$82*H11) -> 739200000 | I34: =+('DATOS GENERALES'!$B$82*I9)+('DATOS GENERALES'!$B$82*I10)+('DATOS GENERALES'!$B$82*I11) -> 611100000 | ... L34: =+('DATOS GENERALES'!$B$82*L9)+('DATOS GENERALES'!$B$82*L10)+('DATOS GENERALES'!$B$82*L11) -> 226800000
A35: COMISIONES HOTEL | G35: ='DATOS GENERALES'!$B$82*'FLUJO DE TESORERÍA '!G12 -> 145000000 | H35: ='DATOS GENERALES'!$B$82*'FLUJO DE TESORERÍA '!H12 -> 145000000 | I35: ='DATOS GENERALES'!$B$82*'FLUJO DE TESORERÍA '!I12 -> 145000000
A36: IMPUESTOS | B36: =+'ESTADO DE RESULTADOS'!B19 -> 0 | C36: =+'ESTADO DE RESULTADOS'!C19 -> 0 | D36: =+'ESTADO DE RESULTADOS'!D19 -> 0 | E36: =+'ESTADO DE RESULTADOS'!E19 -> 0 | F36: =+'ESTADO DE RESULTADOS'!F19 -> 0 | G36: =+'ESTADO DE RESULTADOS'!G19 -> 8.5162206e+09 | H36: =+'ESTADO DE RESULTADOS'!H19 -> 5.7240081e+09 | I36: =+'ESTADO DE RESULTADOS'!I19 -> 4.8331299e+09 | ... L36: =+'ESTADO DE RESULTADOS'!L19 -> 1.2626172e+09
A38: TOTAL EGRESOS | B38: =SUM(B18:B37) -> 1.1742198e+10 | C38: =SUM(C18:C37) -> 2.491353e+10 | D38: =SUM(D18:D37) -> 2.7583622e+10 | E38: =SUM(E18:E37) -> 3.5076844e+10 | F38: =SUM(F18:F37) -> 2.9813819e+10 | G38: =SUM(G18:G37) -> 4.2383788e+10 | H38: =SUM(H18:H37) -> 4.4391886e+10 | I38: =SUM(I18:I37) -> 3.8205254e+10 | ... L38: =SUM(L18:L37) -> 1.164618e+10
A40: TOTAL SALDO | B40: =B15-B38 -> 7.5780178e+08 | C40: =C15-C38 -> 4.6427174e+08 | D40: =D15-D38 -> 40649642 | E40: =E15-E38 -> 6.6380528e+08 | F40: =F15-F38 -> 1.5089987e+10 | G40: =G15-G38 -> 3.5152865e+10 | H40: =H15-H38 -> 4.9707646e+10 | I40: =I15-I38 -> 6.1909058e+10 | ... L40: =L15-L38 -> 7.5484587e+10

Sheet BALANCE
A1: BALANCE PROYECTADO
A2: PROYECTO VIVIENDA CON GOLF
B3: =+'ESTADO DE RESULTADOS'!B3 -> AÑO 0 | C3: =+'ESTADO DE RESULTADOS'!C3 -> AÑO 1 | D3: =+'ESTADO DE RESULTADOS'!D3 -> AÑO 2 | E3: =+'ESTADO DE RESULTADOS'!E3 -> AÑO 3 | F3: =+'ESTADO DE RESULTADOS'!F3 -> AÑO 4 | G3: =+'ESTADO DE RESULTADOS'!G3 -> AÑO 5 | H3: =+'ESTADO DE RESULTADOS'!H3 -> AÑO 6 | I3: =+'ESTADO DE RESULTADOS'!I3 -> AÑO 7 | ... L3: =+'ESTADO DE RESULTADOS'!L3 -> AÑO 10
A4: ACTIVOS
A5: CAJA | B5: =+'FLUJO DE TESORERÍA '!B40 -> 7.5780178e+08 | C5: =+'FLUJO DE TESORERÍA '!C40 -> 4.6427174e+08 | D5: =+'FLUJO DE TESORERÍA '!D40 -> 40649642 | E5: =+'FLUJO DE TESORERÍA '!E40 -> 6.6380528e+08 | F5: =+'FLUJO DE TESORERÍA '!F40 -> 1.5089987e+10 | G5: =+'FLUJO DE TESORERÍA '!G40 -> 3.5152865e+10 | H5: =+'FLUJO DE TESORERÍA '!H40 -> 4.9707646e+10 | I5: =+'FLUJO DE TESORERÍA '!I40 -> 6.1909058e+10 | ... L5: =+'FLUJO DE TESORERÍA '!L40 -> 7.5484587e+10
A6: BANCOS
A7: CUENTAS POR COBRAR
A8: TOTAL ACTIVOS CORRIENTES | B8: =SUM(B5:B7) -> 7.5780178e+08 | C8: =SUM(C5:C7) -> 4.6427174e+08 | D8: =SUM(D5:D7) -> 40649642 | E8: =SUM(E5:E7) -> 6.6380528e+08 | F8: =SUM(F5:F7) -> 1.5089987e+10 | G8: =SUM(G5:G7) -> 3.5152865e+10 | H8: =SUM(H5:H7) -> 4.9707646e+10 | I8: =SUM(I5:I7) -> 6.1909058e+10 | ... L8: =SUM(L5:L7) -> 7.5484587e+10
A9: TERRENO | B9: =+'DATOS GENERALES'!B57 -> 26880000000 | C9: =+B9-SUM('DATOS GENERALES'!C43:C45) -> 25428480000 | D9: =+C9-SUM('DATOS GENERALES'!D43:D45) -> 23278080000 | E9: =+D9-SUM('DATOS GENERALES'!E43:E45) -> 20428800000 | F9: =+E9-SUM('DATOS GENERALES'!F43:F45) -> 16880640000 | G9: =+F9-SUM('DATOS GENERALES'!G43:G45) -> 12633600000 | H9: =+G9-SUM('DATOS GENERALES'!H43:H45) -> 8709120000 | I9: =+H9-SUM('DATOS GENERALES'!I43:I45) -> 5483520000 | J9: =+I9-SUM('DATOS GENERALES'!J43:J45) -> 2956800000 | ... L9: =+K9-SUM('DATOS GENERALES'!L43:L45) -> 0
A10: DISEÑO Y ESTUDIOS | B10: ='FLUJO DE TESORERÍA '!B18+'FLUJO DE TESORERÍA '!B19+'FLUJO DE TESORERÍA '!B27 -> 2.8666982e+09 | C10: =B10+'FLUJO DE TESORERÍA '!C18+'FLUJO DE TESORERÍA '!C19+'FLUJO DE TESORERÍA '!C25 -> 3.1214982e+09 | D10: =C10+'FLUJO DE TESORERÍA '!D18+'FLUJO DE TESORERÍA '!D19 -> 3.1214982e+09 | E10: =D10+'FLUJO DE TESORERÍA '!E18+'FLUJO DE TESORERÍA '!E19 -> 3.1214982e+09 | F10: =E10+'FLUJO DE TESORERÍA '!F18+'FLUJO DE TESORERÍA '!F19 -> 4.4271636e+09 | G10: =F10+'FLUJO DE TESORERÍA '!G18+'FLUJO DE TESORERÍA '!G19 -> 4.4271636e+09 | H10: =G10+'FLUJO DE TESORERÍA '!H18+'FLUJO DE TESORERÍA '!H19 -> 4.4271636e+09 | I10: =H10+'FLUJO DE TESORERÍA '!I18+'FLUJO DE TESORERÍA '!I19 -> 4.4271636e+09 | J10: =I10+'FLUJO DE TESORERÍA '!J18+'FLUJO DE TESORERÍA '!J19 -> 4.4271636e+09 | K10: =J10+'FLUJO DE TESORERÍA '!K18+'FLUJO DE TESORERÍA '!K19 -> 4.4271636e+09 | L10: =K10+'FLUJO DE TESORERÍA '!L18+'FLUJO DE TESORERÍA '!L19 -> 4.4271636e+09
A11: PUESTA EN MARCHA (LICENCIAS Y REGISTROS) | B11: =+'FLUJO DE TESORERÍA '!$B$32 -> 811900000 | C11: =+'FLUJO DE TESORERÍA '!$B$32 -> 811900000 | D11: =+'FLUJO DE TESORERÍA '!$B$32 -> 811900000 | E11: =+'FLUJO DE TESORERÍA '!$B$32 -> 811900000 | F11: =+'FLUJO DE TESORERÍA '!$B$32 -> 811900000 | G11: =+'FLUJO DE TESORERÍA '!$B$32 -> 811900000 | H11: =+'FLUJO DE TESORERÍA '!$B$32 -> 811900000 | I11: =+'FLUJO DE TESORERÍA '!$B$32 -> 811900000 | ... L11: =+'FLUJO DE TESORERÍA '!$B$32 -> 811900000
A12: CAMPO DE GOLF | C12: =+'FLUJO DE TESORERÍA '!C28 -> 5100000000 | D12: =+C12 -> 5100000000 | E12: =+D12+'FLUJO DE TESORERÍA '!E28 -> 10200000000 | F12: =+E12 -> 10200000000 | G12: =+F12 -> 10200000000 | H12: =+G12 -> 10200000000 | I12: =+H12 -> 10200000000 | J12: =+I12 -> 10200000000 | K12: =+J12 -> 10200000000 | L12: =+K12 -> 10200000000
A13: CONSTRUCCIÓN DE INSTALACIONES GOLF | D13: =+'FLUJO DE TESORERÍA '!D26 -> 2800000000 | E13: =+D13 -> 2800000000 | F13: =+E13 -> 2800000000 | G13: =+F13 -> 2800000000 | H13: =+G13 -> 2800000000 | I13: =+H13 -> 2800000000 | J13: =+I13 -> 2800000000 | K13: =+J13 -> 2800000000 | L13: =+K13 -> 2800000000
A14: TOTAL ACTIVOS FIJOS | B14: =SUM(B9:B13) -> 3.0558598e+10 | C14: =SUM(C9:C13) -> 3.4461878e+10 | D14: =SUM(D9:D13) -> 3.5111478e+10 | E14: =SUM(E9:E13) -> 3.7362198e+10 | F14: =SUM(F9:F13) -> 3.5119704e+10 | G14: =SUM(G9:G13) -> 3.0872664e+10 | H14: =SUM(H9:H13) -> 2.6948184e+10 | I14: =SUM(I9:I13) -> 2.3722584e+10 | ... L14: =SUM(L9:L13) -> 1.8239064e+10
A16: TOTAL ACTIVOS | B16: =B14+B8 -> 31316400000 | C16: =C14+C8 -> 3.492615e+10 | D16: =D14+D8 -> 3.5152128e+10 | E16: =E14+E8 -> 3.8026004e+10 | F16: =F14+F8 -> 5.020969e+10 | G16: =G14+G8 -> 6.6025528e+10 | H16: =H14+H8 -> 7.6655829e+10 | I16: =I14+I8 -> 8.5631642e+10 | ... L16: =L14+L8 -> 9.3723651e+10
A18: PASIVOS
A19: CUENTAS POR PAGAR
A20: PRESTAMOS A CORTO PLAZO | B20: =+B9-'FLUJO DE TESORERÍA '!B20 -> 20160000000 | C20: =+B20-'FLUJO DE TESORERÍA '!C20 -> 13440000000 | D20: =+C20-'FLUJO DE TESORERÍA '!D20 -> 6720000000 | E20: =+D20-'FLUJO DE TESORERÍA '!E20 -> 0
A21: TOTAL PASIVOS CIRCULANTES | B21: =+SUM(B19:B20) -> 20160000000 | C21: =+SUM(C19:C20) -> 13440000000 | D21: =+SUM(D19:D20) -> 6720000000 | E21: =+SUM(E19:E20) -> 0 | F21: =+SUM(F19:F20) -> 0 | G21: =+SUM(G19:G20) -> 0 | H21: =+SUM(H19:H20) -> 0 | I21: =+SUM(I19:I20) -> 0 | ... L21: =+SUM(L19:L20) -> 0
A22: DEUDAS A LARGO PLAZO
A23: TOTAL PASIVO | B23: =+B22+B21 -> 20160000000 | C23: =+C22+C21 -> 13440000000 | D23: =+D22+D21 -> 6720000000 | E23: =+E22+E21 -> 0 | F23: =+F22+F21 -> 0 | G23: =+G22+G21 -> 0 | H23: =+H22+H21 -> 0 | I23: =+I22+I21 -> 0 | ... L23: =+L22+L21 -> 0
A25: PATRIMONIO
A26: INVERSIONES | B26: ='FLUJO DE TESORERÍA '!B13 -> 12500000000 | C26: =B26+'FLUJO DE TESORERÍA '!C13 -> 18500000000 | D26: =C26+'FLUJO DE TESORERÍA '!D13 -> 18500000000 | E26: =D26+'FLUJO DE TESORERÍA '!E13 -> 18500000000 | F26: =E26+'FLUJO DE TESORERÍA '!F13 -> 18500000000 | G26: =F26+'FLUJO DE TESORERÍA '!G13 -> 18500000000 | H26: =G26+'FLUJO DE TESORERÍA '!H13 -> 18500000000 | I26: =H26+'FLUJO DE TESORERÍA '!I13 -> 18500000000 | J26: =I26+'FLUJO DE TESORERÍA '!J13 -> 18500000000 | ... L26: =K26+'FLUJO DE TESORERÍA '!L13 -> 18500000000
A27: UTILIDADES RETENIDAS | B27: ='ESTADO DE RESULTADOS'!B21 -> -1343600000 | C27: =B27+'ESTADO DE RESULTADOS'!C21 -> 2.98615e+09 | D27: =C27+'ESTADO DE RESULTADOS'!D21 -> 9.9321279e+09 | E27: =D27+'ESTADO DE RESULTADOS'!E21 -> 1.9526004e+10 | F27: =E27+'ESTADO DE RESULTADOS'!F21 -> 3.170969e+10 | G27: =F27+'ESTADO DE RESULTADOS'!G21 -> 4.7525528e+10 | H27: =G27+'ESTADO DE RESULTADOS'!H21 -> 5.8155829e+10 | I27: =H27+'ESTADO DE RESULTADOS'!I21 -> 6.7131642e+10 | J27: =I27+'ESTADO DE RESULTADOS'!J21 -> 6.8866305e+10 | ... L27: =K27+'ESTADO DE RESULTADOS'!L21 -> 7.5223651e+10
A28: PATRIMONIO TOTAL | B28: =B26+B27 -> 11156400000 | C28: =C26+C27 -> 2.148615e+10 | D28: =D26+D27 -> 2.8432128e+10 | E28: =E26+E27 -> 3.8026004e+10 | F28: =F26+F27 -> 5.020969e+10 | G28: =G26+G27 -> 6.6025528e+10 | H28: =H26+H27 -> 7.6655829e+10 | I28: =I26+I27 -> 8.5631642e+10 | ... L28: =L26+L27 -> 9.3723651e+10
A30: TOTAL PASIVO Y PATRIMONIO | B30: =B28+B23 -> 31316400000 | C30: =C28+C23 -> 3.492615e+10 | D30: =D28+D23 -> 3.5152128e+10 | E30: =E28+E23 -> 3.8026004e+10 | F30: =F28+F23 -> 5.020969e+10 | G30: =G28+G23 -> 6.6025528e+10 | H30: =H28+H23 -> 7.6655829e+10 | I30: =I28+I23 -> 8.5631642e+10 | ... L30: =L28+L23 -> 9.3723651e+10
A32: DIFERENCIA | B32: =B16-B30 -> 0 | C32: =C16-C30 -> 0 | D32: =D16-D30 -> 0 | E32: =E16-E30 -> 0 | F32: =F16-F30 -> 0 | G32: =G16-G30 -> 0 | H32: =H16-H30 -> 0 | I32: =I16-I30 -> 0 | ... L32: =L16-L30 -> 0
A34: ROA | B34: ='ESTADO DE RESULTADOS'!B21/BALANCE!B16 -> -0.042904038 | C34: ='ESTADO DE RESULTADOS'!C21/BALANCE!C16 -> 0.12396872 | D34: ='ESTADO DE RESULTADOS'!D21/BALANCE!D16 -> 0.19759765 | E34: ='ESTADO DE RESULTADOS'!E21/BALANCE!E16 -> 0.25229776 | F34: ='ESTADO DE RESULTADOS'!F21/BALANCE!F16 -> 0.24265608 | G34: ='ESTADO DE RESULTADOS'!G21/BALANCE!G16 -> 0.23954126 | H34: ='ESTADO DE RESULTADOS'!H21/BALANCE!H16 -> 0.1386757 | I34: ='ESTADO DE RESULTADOS'!I21/BALANCE!I16 -> 0.10481888 | ... L34: ='ESTADO DE RESULTADOS'!L21/BALANCE!L16 -> 0.025018876

Sheet ESTADO DE RESULTADOS
A1: ESTADO DE RESULTADOS
A2: PROYECTO DE VIVIENDA CON GOLF
B3: =+'FLUJO DE CAJA DEL PROYECTO'!B3 -> AÑO 0 | C3: =+'FLUJO DE CAJA DEL PROYECTO'!C3 -> AÑO 1 | D3: =+'FLUJO DE CAJA DEL PROYECTO'!D3 -> AÑO 2 | E3: =+'FLUJO DE CAJA DEL PROYECTO'!E3 -> AÑO 3 | F3: =+'FLUJO DE CAJA DEL PROYECTO'!F3 -> AÑO 4 | G3: =+'FLUJO DE CAJA DEL PROYECTO'!G3 -> AÑO 5 | H3: =+'FLUJO DE CAJA DEL PROYECTO'!H3 -> AÑO 6 | I3: =+'FLUJO DE CAJA DEL PROYECTO'!I3 -> AÑO 7 | ... L3: =+'FLUJO DE CAJA DEL PROYECTO'!L3 -> AÑO 10
A4: VENTAS NETAS | B4: =+SUM('FLUJO DE TESORERÍA '!B9:B11) -> 0 | C4: =+SUM('FLUJO DE TESORERÍA '!C9:C12) -> 18620000000 | D4: =+SUM('FLUJO DE TESORERÍA '!D9:D12) -> 27160000000 | E4: =+SUM('FLUJO DE TESORERÍA '!E9:E12) -> 35700000000 | F4: =+SUM('FLUJO DE TESORERÍA '!F9:F12) -> 44240000000 | G4: =+SUM('FLUJO DE TESORERÍA '!G9:G12) -> 6.2446667e+10 | H4: =+SUM('FLUJO DE TESORERÍA '!H9:H12) -> 5.8946667e+10 | I4: =+SUM('FLUJO DE TESORERÍA '!I9:I12) -> 5.0406667e+10 | J4: =+SUM('FLUJO DE TESORERÍA '!J9:J12) -> 32200000000 | ... L4: =+SUM('FLUJO DE TESORERÍA '!L9:L12) -> 15120000000
A5: COSTO DE CONSTRUCCIÓN | B5: =+SUM('FLUJO DE TESORERÍA '!B21:B23) -> 0 | C5: =+SUM('FLUJO DE TESORERÍA '!C21:C24) -> 1.119635e+10 | D5: =+SUM('FLUJO DE TESORERÍA '!D21:D24) -> 1.6331518e+10 | E5: =+SUM('FLUJO DE TESORERÍA '!E21:E24) -> 2.1466686e+10 | F5: =+SUM('FLUJO DE TESORERÍA '!F21:F24) -> 2.6601854e+10 | G5: =+SUM('FLUJO DE TESORERÍA '!G21:G24) -> 3.1737022e+10 | H5: =+SUM('FLUJO DE TESORERÍA '!H21:H24) -> 3.6630164e+10 | I5: =+SUM('FLUJO DE TESORERÍA '!I21:I24) -> 3.1494996e+10 | J5: =+SUM('FLUJO DE TESORERÍA '!J21:J24) -> 2.6359828e+10 | ... L5: =+SUM('FLUJO DE TESORERÍA '!L21:L24) -> 9.091773e+09
A6: COSTO TERRENO | B6: =+SUM('DATOS GENERALES'!B43:B45) -> 0 | C6: =+SUM('DATOS GENERALES'!C43:C45) -> 1451520000 | D6: =+SUM('DATOS GENERALES'!D43:D45) -> 2150400000 | E6: =+SUM('DATOS GENERALES'!E43:E45) -> 2849280000 | F6: =+SUM('DATOS GENERALES'!F43:F45) -> 3548160000 | G6: =+SUM('DATOS GENERALES'!G43:G45) -> 4247040000 | H6: =+SUM('DATOS GENERALES'!H43:H45) -> 3924480000 | I6: =+SUM('DATOS GENERALES'!I43:I45) -> 3225600000 | ... L6: =+SUM('DATOS GENERALES'!L43:L45) -> 1128960000
A7: TOTAL COSTO DE VENTAS | B7: =+SUM(B5:B6) -> 0 | C7: =+SUM(C5:C6) -> 1.264787e+10 | D7: =+SUM(D5:D6) -> 1.8481918e+10 | E7: =+SUM(E5:E6) -> 2.4315966e+10 | F7: =+SUM(F5:F6) -> 3.0150014e+10 | G7: =+SUM(G5:G6) -> 3.5984062e+10 | H7: =+SUM(H5:H6) -> 4.0554644e+10 | I7: =+SUM(I5:I6) -> 3.4720596e+10 | ... L7: =+SUM(L5:L6) -> 1.0220733e+10
A9: UTILIDAD BRUTA | B9: =+B4-B7 -> 0 | C9: =+C4-C7 -> 5.97213e+09 | D9: =+D4-D7 -> 8.6780819e+09 | E9: =+E4-E7 -> 1.1384034e+10 | F9: =+F4-F7 -> 1.4089986e+10 | G9: =+G4-G7 -> 2.6462604e+10 | H9: =+H4-H7 -> 1.8392023e+10 | I9: =+I4-I7 -> 1.5686071e+10 | ... L9: =+L4-L7 -> 4.899267e+09
A11: GASTOS ADMINISTRATIVOS | B11: =+'FLUJO DE TESORERÍA '!B33+'FLUJO DE TESORERÍA '!B29 -> 225600000 | C11: =+'FLUJO DE TESORERÍA '!C33+'FLUJO DE TESORERÍA '!C29 -> 236880000 | D11: =+'FLUJO DE TESORERÍA '!D33+'FLUJO DE TESORERÍA '!D29 -> 293124000 | E11: =+'FLUJO DE TESORERÍA '!E33+'FLUJO DE TESORERÍA '!E29 -> 307336200 | F11: =+'FLUJO DE TESORERÍA '!F33+'FLUJO DE TESORERÍA '!F29 -> 370264290 | G11: =+'FLUJO DE TESORERÍA '!G33+'FLUJO DE TESORERÍA '!G29 -> 3.8781704e+08 | H11: =+'FLUJO DE TESORERÍA '!H33+'FLUJO DE TESORERÍA '!H29 -> 4.0620902e+08 | I11: =+'FLUJO DE TESORERÍA '!I33+'FLUJO DE TESORERÍA '!I29 -> 4.2548063e+08 | ... L11: =+'FLUJO DE TESORERÍA '!L33+'FLUJO DE TESORERÍA '!L29 -> 4.8900756e+08
A12: GASTOS COMERCIALES | B12: =+'FLUJO DE TESORERÍA '!B31+'FLUJO DE TESORERÍA '!B34+'FLUJO DE TESORERÍA '!B35 -> 0 | C12: =+'FLUJO DE TESORERÍA '!C31+'FLUJO DE TESORERÍA '!C34+'FLUJO DE TESORERÍA '!C35 -> 399300000 | D12: =+'FLUJO DE TESORERÍA '!D31+'FLUJO DE TESORERÍA '!D34+'FLUJO DE TESORERÍA '!D35 -> 533400000 | E12: =+'FLUJO DE TESORERÍA '!E31+'FLUJO DE TESORERÍA '!E34+'FLUJO DE TESORERÍA '!E35 -> 667800000 | F12: =+'FLUJO DE TESORERÍA '!F31+'FLUJO DE TESORERÍA '!F34+'FLUJO DE TESORERÍA '!F35 -> 802515000 | G12: =+'FLUJO DE TESORERÍA '!G31+'FLUJO DE TESORERÍA '!G34+'FLUJO DE TESORERÍA '!G35 -> 1082560750 | H12: =+'FLUJO DE TESORERÍA '!H31+'FLUJO DE TESORERÍA '!H34+'FLUJO DE TESORERÍA '!H35 -> 1.0373538e+09 | I12: =+'FLUJO DE TESORERÍA '!I31+'FLUJO DE TESORERÍA '!I34+'FLUJO DE TESORERÍA '!I35 -> 9.1691148e+08 | ... L12: =+'FLUJO DE TESORERÍA '!L31+'FLUJO DE TESORERÍA '!L34+'FLUJO DE TESORERÍA '!L35 -> 4.1295939e+08
A13: ESTRATEGIA DE MARKETING | B13: =+'FLUJO DE TESORERÍA '!B30 -> 1118000000 | C13: =+'FLUJO DE TESORERÍA '!C30 -> 1006200000 | D13: =+'FLUJO DE TESORERÍA '!D30 -> 905580000 | E13: =+'FLUJO DE TESORERÍA '!E30 -> 815022000 | F13: =+'FLUJO DE TESORERÍA '!F30 -> 733519800 | G13: =+'FLUJO DE TESORERÍA '!G30 -> 660167820 | H13: =+'FLUJO DE TESORERÍA '!H30 -> 594151038 | I13: =+'FLUJO DE TESORERÍA '!I30 -> 5.3473593e+08 | ... L13: =+'FLUJO DE TESORERÍA '!L30 -> 3.898225e+08
A14: TOTAL GASTOS OPERACIONALES | B14: =SUM(B11:B13) -> 1343600000 | C14: =SUM(C11:C13) -> 1642380000 | D14: =SUM(D11:D13) -> 1732104000 | E14: =SUM(E11:E13) -> 1790158200 | F14: =SUM(F11:F13) -> 1906299090 | G14: =SUM(G11:G13) -> 2.1305456e+09 | H14: =SUM(H11:H13) -> 2.0377138e+09 | I14: =SUM(I11:I13) -> 1.877128e+09 | ... L14: =SUM(L11:L13) -> 1.2917894e+09
A16: UTILIDAD OPERATIVA | B16: =B9-B14 -> -1343600000 | C16: =C9-C14 -> 4.32975e+09 | D16: =D9-D14 -> 6.9459779e+09 | E16: =E9-E14 -> 9.5938756e+09 | F16: =F9-F14 -> 1.2183687e+10 | G16: =G9-G14 -> 2.4332059e+10 | H16: =H9-H14 -> 1.6354309e+10 | I16: =I9-I14 -> 1.3808943e+10 | ... L16: =L9-L14 -> 3.6074776e+09
A18: UTILIDAD ANTES DE IMPUESTOS | B18: =+B16 -> -1343600000 | C18: =+C16 -> 4.32975e+09 | D18: =+D16 -> 6.9459779e+09 | E18: =+E16 -> 9.5938756e+09 | F18: =+F16 -> 1.2183687e+10 | G18: =+G16 -> 2.4332059e+10 | H18: =+H16 -> 1.6354309e+10 | I18: =+I16 -> 1.3808943e+10 | ... L18: =+L16 -> 3.6074776e+09
A19: IMPUESTOS | B19: 0 | G19: =G18*0.35 -> 8.5162206e+09 | H19: =H18*0.35 -> 5.7240081e+09 | I19: =I18*0.35 -> 4.8331299e+09 | K19: =K18*0.35 -> 2.1605688e+09 | L19: =L18*0.35 -> 1.2626172e+09
A21: UTILIDAD NETA | B21: =B18-B19 -> -1343600000 | C21: =C18-C19 -> 4.32975e+09 | D21: =D18-D19 -> 6.9459779e+09 | E21: =E18-E19 -> 9.5938756e+09 | F21: =F18-F19 -> 1.2183687e+10 | G21: =G18-G19 -> 1.5815838e+10 | H21: =H18-H19 -> 1.0630301e+10 | I21: =I18-I19 -> 8.9758128e+09 | ... L21: =L18-L19 -> 2.3448604e+09
A23: ROS | C23: =C21/C9 -> 0.72499259 | D23: =D21/D9 -> 0.80040474 | E23: =E21/E9 -> 0.84274834 | F23: =F21/F9 -> 0.86470539 | G23: =G21/G9 -> 0.59766748 | H23: =H21/H9 -> 0.57798432 | I23: =I21/I9 -> 0.5722155 | J23: =J21/J9 -> 0.52352151 | ... L23: =L21/L9 -> 0.47861454

Sheet FLUJO DE CAJA DEL PROYECTO
A1: FLUJO DE CAJA PROYECTADO
A2: PROYECTO DE VIVIENDA CON GOLF
A3: CONCEPTO | B3: =+'FLUJO DE TESORERÍA '!B3 -> AÑO 0 | C3: =+'FLUJO DE TESORERÍA '!C3 -> AÑO 1 | D3: =+'FLUJO DE TESORERÍA '!D3 -> AÑO 2 | E3: =+'FLUJO DE TESORERÍA '!E3 -> AÑO 3 | F3: =+'FLUJO DE TESORERÍA '!F3 -> AÑO 4 | G3: =+'FLUJO DE TESORERÍA '!G3 -> AÑO 5 | H3: =+'FLUJO DE TESORERÍA '!H3 -> AÑO 6 | I3: =+'FLUJO DE TESORERÍA '!I3 -> AÑO 7 | ... L3: =+'FLUJO DE TESORERÍA '!L3 -> AÑO 10
A5: INGRESOS
A6: ='FLUJO DE TESORERÍA '!A9 -> VENTA DE CASAS TIPO I | B6: ='FLUJO DE TESORERÍA '!B9 -> 0 | C6: ='FLUJO DE TESORERÍA '!C9 -> 3500000000 | D6: ='FLUJO DE TESORERÍA '!D9 -> 7000000000 | E6: ='FLUJO DE TESORERÍA '!E9 -> 10500000000 | F6: ='FLUJO DE TESORERÍA '!F9 -> 14000000000 | G6: ='FLUJO DE TESORERÍA '!G9 -> 17500000000 | H6: ='FLUJO DE TESORERÍA '!H9 -> 14000000000 | ... L6: ='FLUJO DE TESORERÍA '!L9 -> 0
A7: ='FLUJO DE TESORERÍA '!A10 -> VENTA DE CASAS TIPO II | B7: ='FLUJO DE TESORERÍA '!B10 -> 0 | C7: ='FLUJO DE TESORERÍA '!C10 -> 7560000000 | D7: ='FLUJO DE TESORERÍA '!D10 -> 10080000000 | E7: ='FLUJO DE TESORERÍA '!E10 -> 12600000000 | F7: ='FLUJO DE TESORERÍA '!F10 -> 15120000000 | G7: ='FLUJO DE TESORERÍA '!G10 -> 17640000000 | H7: ='FLUJO DE TESORERÍA '!H10 -> 17640000000 | ... L7: ='FLUJO DE TESORERÍA '!L10 -> 7560000000
A8: ='FLUJO DE TESORERÍA '!A11 -> VENTA DE CASAS TIPO III | B8: ='FLUJO DE TESORERÍA '!B11 -> 0 | C8: ='FLUJO DE TESORERÍA '!C11 -> 7560000000 | D8: ='FLUJO DE TESORERÍA '!D11 -> 10080000000 | E8: ='FLUJO DE TESORERÍA '!E11 -> 12600000000 | F8: ='FLUJO DE TESORERÍA '!F11 -> 15120000000 | G8: ='FLUJO DE TESORERÍA '!G11 -> 17640000000 | H8: ='FLUJO DE TESORERÍA '!H11 -> 17640000000 | ... L8: ='FLUJO DE TESORERÍA '!L11 -> 7560000000
A9: ='FLUJO DE TESORERÍA '!A12 -> VENTA HOTEL | B9: ='FLUJO DE TESORERÍA '!B12 -> 0 | C9: ='FLUJO DE TESORERÍA '!C12 -> 0 | D9: ='FLUJO DE TESORERÍA '!D12 -> 0 | E9: ='FLUJO DE TESORERÍA '!E12 -> 0 | F9: ='FLUJO DE TESORERÍA '!F12 -> 0 | G9: ='FLUJO DE TESORERÍA '!G12 -> 9.6666667e+09 | H9: ='FLUJO DE TESORERÍA '!H12 -> 9.6666667e+09 | ... L9: ='FLUJO DE TESORERÍA '!L12 -> 0
A11: TOTAL INGRESOS | B11: =+SUM(B6:B10) -> 0 | C11: =+SUM(C6:C10) -> 18620000000 | D11: =+SUM(D6:D10) -> 27160000000 | E11: =+SUM(E6:E10) -> 35700000000 | F11: =+SUM(F6:F10) -> 44240000000 | G11: =+SUM(G6:G10) -> 6.2446667e+10 | H11: =+SUM(H6:H10) -> 5.8946667e+10 | I11: =+SUM(I6:I10) -> 5.0406667e+10 | ... L11: =+SUM(L6:L10) -> 15120000000
A13: EGRESOS
A15: CONSTRUCCIÓN CASAS TIPO I CON URBANISMO | B15: =+'FLUJO DE TESORERÍA '!B21 -> 0 | C15: =+'FLUJO DE TESORERÍA '!C21 -> 2.1045771e+09 | D15: =+'FLUJO DE TESORERÍA '!D21 -> 4.2091541e+09 | E15: =+'FLUJO DE TESORERÍA '!E21 -> 6.3137312e+09 | F15: =+'FLUJO DE TESORERÍA '!F21 -> 8.4183083e+09 | G15: =+'FLUJO DE TESORERÍA '!G21 -> 1.0522885e+10 | H15: =+'FLUJO DE TESORERÍA '!H21 -> 8.4183083e+09 | I15: =+'FLUJO DE TESORERÍA '!I21 -> 6.3137312e+09 | ... L15: =+'FLUJO DE TESORERÍA '!L21 -> 0
A16: CONSTRUCCIÓN CASAS TIPO II CON URBANISMO | B16: =+'FLUJO DE TESORERÍA '!B22 -> 0 | C16: =+'FLUJO DE TESORERÍA '!C22 -> 4.5458865e+09 | D16: =+'FLUJO DE TESORERÍA '!D22 -> 6.061182e+09 | E16: =+'FLUJO DE TESORERÍA '!E22 -> 7.5764775e+09 | F16: =+'FLUJO DE TESORERÍA '!F22 -> 9.091773e+09 | G16: =+'FLUJO DE TESORERÍA '!G22 -> 1.0607068e+10 | H16: =+'FLUJO DE TESORERÍA '!H22 -> 1.0607068e+10 | I16: =+'FLUJO DE TESORERÍA '!I22 -> 9.091773e+09 | ... L16: =+'FLUJO DE TESORERÍA '!L22 -> 4.5458865e+09
A17: CONSTRUCCIÓN CASAS TIPO III CON URBANISMO | B17: =+'FLUJO DE TESORERÍA '!B23 -> 0 | C17: =+'FLUJO DE TESORERÍA '!C23 -> 4.5458865e+09 | D17: =+'FLUJO DE TESORERÍA '!D23 -> 6.061182e+09 | E17: =+'FLUJO DE TESORERÍA '!E23 -> 7.5764775e+09 | F17: =+'FLUJO DE TESORERÍA '!F23 -> 9.091773e+09 | G17: =+'FLUJO DE TESORERÍA '!G23 -> 1.0607068e+10 | H17: =+'FLUJO DE TESORERÍA '!H23 -> 1.0607068e+10 | I17: =+'FLUJO DE TESORERÍA '!I23 -> 9.091773e+09 | ... L17: =+'FLUJO DE TESORERÍA '!L23 -> 4.5458865e+09
A18: CONSTRUCCIÓN HOTEL CON URBANISMO | B18: =+'FLUJO DE TESORERÍA '!B24 -> 0 | C18: =+'FLUJO DE TESORERÍA '!C24 -> 0 | D18: =+'FLUJO DE TESORERÍA '!D24 -> 0 | E18: =+'FLUJO DE TESORERÍA '!E24 -> 0 | F18: =+'FLUJO DE TESORERÍA '!F24 -> 0 | G18: =+'FLUJO DE TESORERÍA '!G24 -> 0 | H18: =+'FLUJO DE TESORERÍA '!H24 -> 6.9977188e+09 | I18: =+'FLUJO DE TESORERÍA '!I24 -> 6.9977188e+09 | ... L18: =+'FLUJO DE TESORERÍA '!L24 -> 0
A19: CONSTRUCCIÓN DEL CAMPO DE GOLF | B19: =+'FLUJO DE TESORERÍA '!B28 -> 0 | C19: =+'FLUJO DE TESORERÍA '!C28 -> 5100000000 | D19: =+'FLUJO DE TESORERÍA '!D28 -> 0 | E19: =+'FLUJO DE TESORERÍA '!E28 -> 5100000000 | F19: =+'FLUJO DE TESORERÍA '!F28 -> 0 | G19: =+'FLUJO DE TESORERÍA '!G28 -> 0 | H19: =+'FLUJO DE TESORERÍA '!H28 -> 0 | I19: =+'FLUJO DE TESORERÍA '!I28 -> 0 | ... L19: =+'FLUJO DE TESORERÍA '!L28 -> 0
A20: MANTENIMIENTO CAMPO DE GOLF | B20: =+'FLUJO DE TESORERÍA '!B29 -> 0 | C20: =+'FLUJO DE TESORERÍA '!C29 -> 0 | D20: =+'FLUJO DE TESORERÍA '!D29 -> 44400000 | E20: =+'FLUJO DE TESORERÍA '!E29 -> 46176000 | F20: =+'FLUJO DE TESORERÍA '!F29 -> 96046080 | G20: =+'FLUJO DE TESORERÍA '!G29 -> 99887923 | H20: =+'FLUJO DE TESORERÍA '!H29 -> 1.0388344e+08 | I20: =+'FLUJO DE TESORERÍA '!I29 -> 1.0803878e+08 | ... L20: =+'FLUJO DE TESORERÍA '!L29 -> 1.2152893e+08
A21: MARKETING ESTRATEGICO | B21: =+'FLUJO DE TESORERÍA '!B30 -> 1118000000 | C21: =+'FLUJO DE TESORERÍA '!C30 -> 1006200000 | D21: =+'FLUJO DE TESORERÍA '!D30 -> 905580000 | E21: =+'FLUJO DE TESORERÍA '!E30 -> 815022000 | F21: =+'FLUJO DE TESORERÍA '!F30 -> 733519800 | G21: =+'FLUJO DE TESORERÍA '!G30 -> 660167820 | H21: =+'FLUJO DE TESORERÍA '!H30 -> 594151038 | I21: =+'FLUJO DE TESORERÍA '!I30 -> 5.3473593e+08 | ... L21: =+'FLUJO DE TESORERÍA '!L30 -> 3.898225e+08
A22: FUERZA DE VENTAS | B22: =+'FLUJO DE TESORERÍA '!B31 -> 0 | C22: =+'FLUJO DE TESORERÍA '!C31 -> 120000000 | D22: =+'FLUJO DE TESORERÍA '!D31 -> 126000000 | E22: =+'FLUJO DE TESORERÍA '!E31 -> 132300000 | F22: =+'FLUJO DE TESORERÍA '!F31 -> 138915000 | G22: =+'FLUJO DE TESORERÍA '!G31 -> 145860750 | H22: =+'FLUJO DE TESORERÍA '!H31 -> 1.5315379e+08 | I22: =+'FLUJO DE TESORERÍA '!I31 -> 1.6081148e+08 | ... L22: =+'FLUJO DE TESORERÍA '!L31 -> 1.8615939e+08
A23: GASTOS OPERATIVOS Y ADMINISTRATIVOS | B23: =+'FLUJO DE TESORERÍA '!B33 -> 225600000 | C23: =+'FLUJO DE TESORERÍA '!C33 -> 236880000 | D23: =+'FLUJO DE TESORERÍA '!D33 -> 248724000 | E23: =+'FLUJO DE TESORERÍA '!E33 -> 261160200 | F23: =+'FLUJO DE TESORERÍA '!F33 -> 274218210 | G23: =+'FLUJO DE TESORERÍA '!G33 -> 2.8792912e+08 | H23: =+'FLUJO DE TESORERÍA '!H33 -> 3.0232558e+08 | I23: =+'FLUJO DE TESORERÍA '!I33 -> 3.1744186e+08 | ... L23: =+'FLUJO DE TESORERÍA '!L33 -> 3.6747863e+08
A24: COMISIONES VIVIENDA | B24: =+'FLUJO DE TESORERÍA '!B34 -> 0 | C24: =+'FLUJO DE TESORERÍA '!C34 -> 279300000 | D24: =+'FLUJO DE TESORERÍA '!D34 -> 407400000 | E24: =+'FLUJO DE TESORERÍA '!E34 -> 535500000 | F24: =+'FLUJO DE TESORERÍA '!F34 -> 663600000 | G24: =+'FLUJO DE TESORERÍA '!G34 -> 791700000 | H24: =+'FLUJO DE TESORERÍA '!H34 -> 739200000 | I24: =+'FLUJO DE TESORERÍA '!I34 -> 611100000 | ... L24: =+'FLUJO DE TESORERÍA '!L34 -> 226800000
A25: COMISIONES HOTEL | B25: =+'FLUJO DE TESORERÍA '!B35 -> 0 | C25: =+'FLUJO DE TESORERÍA '!C35 -> 0 | D25: =+'FLUJO DE TESORERÍA '!D35 -> 0 | E25: =+'FLUJO DE TESORERÍA '!E35 -> 0 | F25: =+'FLUJO DE TESORERÍA '!F35 -> 0 | G25: =+'FLUJO DE TESORERÍA '!G35 -> 145000000 | H25: =+'FLUJO DE TESORERÍA '!H35 -> 145000000 | I25: =+'FLUJO DE TESORERÍA '!I35 -> 145000000 | ... L25: =+'FLUJO DE TESORERÍA '!L35 -> 0
A26: IMPUESTOS | B26: =+'FLUJO DE TESORERÍA '!B36 -> 0 | C26: =+'FLUJO DE TESORERÍA '!C36 -> 0 | D26: =+'FLUJO DE TESORERÍA '!D36 -> 0 | E26: =+'FLUJO DE TESORERÍA '!E36 -> 0 | F26: =+'FLUJO DE TESORERÍA '!F36 -> 0 | G26: =+'FLUJO DE TESORERÍA '!G36 -> 8.5162206e+09 | H26: =+'FLUJO DE TESORERÍA '!H36 -> 5.7240081e+09 | I26: =+'FLUJO DE TESORERÍA '!I36 -> 4.8331299e+09 | ... L26: =+'FLUJO DE TESORERÍA '!L36 -> 1.2626172e+09
A28: TOTAL EGRESOS | B28: =+SUM(B14:B27) -> 1343600000 | C28: =+SUM(C14:C27) -> 1.793873e+10 | D28: =+SUM(D14:D27) -> 1.8063622e+10 | E28: =+SUM(E14:E27) -> 2.8356844e+10 | F28: =+SUM(F14:F27) -> 2.8508153e+10 | G28: =+SUM(G14:G27) -> 4.2383788e+10 | H28: =+SUM(H14:H27) -> 4.4391886e+10 | I28: =+SUM(I14:I27) -> 3.8205254e+10 | ... L28: =+SUM(L14:L27) -> 1.164618e+10
A30: UTILIDAD ANTES DE IMPUESTOS | B30: =+B11-B28 -> -1343600000 | C30: =+C11-C28 -> 6.8126996e+08 | D30: =+D11-D28 -> 9.0963779e+09 | E30: =+E11-E28 -> 7.3431556e+09 | F30: =+F11-F28 -> 1.5731847e+10 | G30: =+G11-G28 -> 2.0062878e+10 | H30: =+H11-H28 -> 1.4554781e+10 | I30: =+I11-I28 -> 1.2201413e+10 | ... L30: =+L11-L28 -> 3.4738204e+09
A31: IMPUESTO A LA RENTA (35%) | C31: =C30*35% -> 2.3844449e+08 | D31: =D30*35% -> 3.1837323e+09 | E31: =E30*35% -> 2.5701045e+09 | F31: =F30*35% -> 5.5061463e+09 | G31: =G30*35% -> 7.0220074e+09 | H31: =H30*35% -> 5.0941733e+09 | I31: =I30*35% -> 4.2704945e+09 | K31: =K30*35% -> 2.0441137e+09 | L31: =L30*35% -> 1.2158372e+09
A32: UTILIDAD NETA DEL EJERCICIO | B32: =B30-B31 -> -1343600000 | C32: =C30-C31 -> 4.4282548e+08 | D32: =D30-D31 -> 5.9126456e+09 | E32: =E30-E31 -> 4.7730512e+09 | F32: =F30-F31 -> 1.02257e+10 | G32: =G30-G31 -> 1.3040871e+10 | H32: =H30-H31 -> 9.4606075e+09 | I32: =I30-I31 -> 7.9309183e+09 | ... L32: =L30-L31 -> 2.2579833e+09
A34: INVERSIONES
A35: ESTUDIO DE FACTIBILIDAD | B35: =+'FLUJO DE TESORERÍA '!B18 -> 500000000 | C35: =+'FLUJO DE TESORERÍA '!C18 -> 0 | D35: =+'FLUJO DE TESORERÍA '!D18 -> 0 | E35: =+'FLUJO DE TESORERÍA '!E18 -> 0 | F35: =+'FLUJO DE TESORERÍA '!F18 -> 0 | G35: =+'FLUJO DE TESORERÍA '!G18 -> 0 | H35: =+'FLUJO DE TESORERÍA '!H18 -> 0 | I35: =+'FLUJO DE TESORERÍA '!I18 -> 0 | ... L35: =+'FLUJO DE TESORERÍA '!L18 -> 0
A36: DISEÑO ARQUITECTÓNICO Y URBANISTICO | B36: =+'FLUJO DE TESORERÍA '!B19 -> 3.6669822e+08 | C36: =+'FLUJO DE TESORERÍA '!C19 -> 0 | D36: =+'FLUJO DE TESORERÍA '!D19 -> 0 | E36: =+'FLUJO DE TESORERÍA '!E19 -> 0 | F36: =+'FLUJO DE TESORERÍA '!F19 -> 1.3056654e+09 | G36: =+'FLUJO DE TESORERÍA '!G19 -> 0 | H36: =+'FLUJO DE TESORERÍA '!H19 -> 0 | I36: =+'FLUJO DE TESORERÍA '!I19 -> 0 | ... L36: =+'FLUJO DE TESORERÍA '!L19 -> 0
A37: COMPRA DE TERRENO | B37: =+'FLUJO DE TESORERÍA '!B20 -> 6720000000 | C37: =+'FLUJO DE TESORERÍA '!C20 -> 6720000000 | D37: =+'FLUJO DE TESORERÍA '!D20 -> 6720000000 | E37: =+'FLUJO DE TESORERÍA '!E20 -> 6720000000 | F37: =+'FLUJO DE TESORERÍA '!F20 -> 0 | G37: =+'FLUJO DE TESORERÍA '!G20 -> 0 | H37: =+'FLUJO DE TESORERÍA '!H20 -> 0 | I37: =+'FLUJO DE TESORERÍA '!I20 -> 0 | ... L37: =+'FLUJO DE TESORERÍA '!L20 -> 0
A38: DISEÑO DE CAMPO DE GOLF | B38: =+'FLUJO DE TESORERÍA '!B27 -> 2000000000 | C38: =+'FLUJO DE TESORERÍA '!C27 -> 0 | D38: =+'FLUJO DE TESORERÍA '!D27 -> 0 | E38: =+'FLUJO DE TESORERÍA '!E27 -> 0 | F38: =+'FLUJO DE TESORERÍA '!F27 -> 0 | G38: =+'FLUJO DE TESORERÍA '!G27 -> 0 | H38: =+'FLUJO DE TESORERÍA '!H27 -> 0 | I38: =+'FLUJO DE TESORERÍA '!I27 -> 0 | ... L38: =+'FLUJO DE TESORERÍA '!L27 -> 0
A39: DISEÑO DE LAS INSTALACIONES SEDE SOCIAL | B39: =+'FLUJO DE TESORERÍA '!B25 -> 0 | C39: =+'FLUJO DE TESORERÍA '!C25 -> 2.548e+08 | D39: =+'FLUJO DE TESORERÍA '!D25 -> 0 | E39: =+'FLUJO DE TESORERÍA '!E25 -> 0 | F39: =+'FLUJO DE TESORERÍA '!F25 -> 0 | G39: =+'FLUJO DE TESORERÍA '!G25 -> 0 | H39: =+'FLUJO DE TESORERÍA '!H25 -> 0 | I39: =+'FLUJO DE TESORERÍA '!I25 -> 0 | ... L39: =+'FLUJO DE TESORERÍA '!L25 -> 0
A40: CONSTRUCCIÓN DE LAS INSTALACIONES | B40: =+'FLUJO DE TESORERÍA '!B26 -> 0 | C40: =+'FLUJO DE TESORERÍA '!C26 -> 0 | D40: =+'FLUJO DE TESORERÍA '!D26 -> 2800000000 | E40: =+'FLUJO DE TESORERÍA '!E26 -> 0 | F40: =+'FLUJO DE TESORERÍA '!F26 -> 0 | G40: =+'FLUJO DE TESORERÍA '!G26 -> 0 | H40: =+'FLUJO DE TESORERÍA '!H26 -> 0 | I40: =+'FLUJO DE TESORERÍA '!I26 -> 0 | ... L40: =+'FLUJO DE TESORERÍA '!L26 -> 0
A41: COSTOS DE PUESTA EN MARCHA | B41: =+'FLUJO DE TESORERÍA '!B32 -> 811900000 | C41: =+'FLUJO DE TESORERÍA '!C32 -> 0 | D41: =+'FLUJO DE TESORERÍA '!D32 -> 0 | E41: =+'FLUJO DE TESORERÍA '!E32 -> 0 | F41: =+'FLUJO DE TESORERÍA '!F32 -> 0 | G41: =+'FLUJO DE TESORERÍA '!G32 -> 0 | H41: =+'FLUJO DE TESORERÍA '!H32 -> 0 | I41: =+'FLUJO DE TESORERÍA '!I32 -> 0 | ... L41: =+'FLUJO DE TESORERÍA '!L32 -> 0
A43: TOTAL INVERSIONES | B43: =SUM(B35:B42) -> 1.0398598e+10 | C43: =SUM(C35:C42) -> 6974800000 | D43: =SUM(D35:D42) -> 9520000000 | E43: =SUM(E35:E42) -> 6720000000 | F43: =SUM(F35:F42) -> 1.3056654e+09 | G43: =SUM(G35:G42) -> 0 | H43: =SUM(H35:H42) -> 0 | I43: =SUM(I35:I42) -> 0 | ... L43: =SUM(L35:L42) -> 0
A45: FLUJO DE CAJA NETO | B45: =B32-B43 -> -1.1742198e+10 | C45: =C32-C43 -> -6.5319745e+09 | D45: =D32-D43 -> -3.6073544e+09 | E45: =E32-E43 -> -1.9469488e+09 | F45: =F32-F43 -> 8.9200349e+09 | G45: =G32-G43 -> 1.3040871e+10 | H45: =H32-H43 -> 9.4606075e+09 | I45: =I32-I43 -> 7.9309183e+09 | ... L45: =L32-L43 -> 2.2579833e+09
A47: TASA DE OPORTUNIDAD WACC CONSTRUCCIÓN U.ANDES | B47: 0.21
A48: VALOR PRESENTE NETO DEL FLUJO DE CAJA (VPN) | B48: =NPV($B$47,F45:L45)+B45+C45+D45+E45 -> 4.9377775e+09
A49: TIR | B49: =+IRR(B45:L45,B47) -> 0.15270411
