Workbook
Name COSTO_INICIAL: #REF!
Name COSTO_MANT_ACTUAL: #REF!
Name COSTO_OH: #REF!
Name infkWh: '[1]Datos problema'!$C$15
Name INFLACION: '[1]Datos problema'!$C$14
Name kWh: '[1]Datos problema'!$C$10
Name POR_MANT: '[1]Datos problema'!$C$11

Sheet DATOS 
C2: ELECTROLIZADOR EL100N | J2: OPCIÓN | K2: ELECTROLIZADOR kW | L2: CAPEX | M2: CAPACIDAD kW | N2: OPEX | O2: CAPEX USD/kWh | P2: OPEX USD/kWh | Q2: % ELECTROLIZADOR /CAPEX
C3: ACTIVO/ ACTIVIDAD | D3: CANTIDAD | E3: VALOR UNITARIO USD | F3: VALOR TOTAL USD | J3: EL100N | K3: =+E6 -> 1547800 | L3: =+F11 -> 2854310 | M3: 538 | N3: =+F15 -> 342517.2 | O3: =+L3/M3 -> 5305.4089 | P3: =+N3/M3 -> 636.64907 | Q3: =1-(K3/L3) -> 0.45773234
B4: CAPEX | C4: Parque FV | D4: 0 | E4: =+'CTO SFV'!F10 -> 1244471.1 | F4: =+E4*D4 -> 0 | J4: EL200N | K4: =+E22 -> 1843467 | L4: =+F27 -> 3283027.1 | M4: 1000 | N4: =+F31 -> 393963.26 | O4: =+L4/M4 -> 3283.0271 | P4: =+N4/M4 -> 393.96326 | Q4: =1-(K4/L4) -> 0.43848561
C5: BESS | D5: 0 | E5: 3000000 | F5: =+E5*D5 -> 0 | J5: EL400N | K5: =+E38 -> 3254180 | L5: =+F43 -> 5778561 | M5: 2100 | N5: =+F47 -> 693427.32 | O5: =+L5/M5 -> 2751.6957 | P5: =+N5/M5 -> 330.20349 | Q5: =1-(K5/L5) -> 0.43685288
C6: Electrolizador | D6: 1 | E6: =+ELECTROLIZADOR!AB16 -> 1547800 | F6: =+E6*D6 -> 1547800 | J6: EL600N | K6: =+E54 -> 4571170 | L6: =+F59 -> 8138196.5 | M6: 3100 | N6: =+F63 -> 976583.58 | O6: =+L6/M6 -> 2625.2247 | P6: =+N6/M6 -> 315.02696 | Q6: =1-(K6/L6) -> 0.43830676
C7: Compresores | D7: 2 | E7: 80000 | F7: =+E7*D7 -> 160000 | J7: EL100N+EL200N | K7: =(E70+E71) -> 3391267 | L7: =+F76 -> 5280827.2 | M7: =+M3+M4 -> 1538 | N7: =+F80 -> 633699.26 | O7: =+L7/M7 -> 3433.5677 | P7: =+N7/M7 -> 412.02813 | Q7: =1-(K7/L7) -> 0.35781519
C8: Tanques Almacenamiento | D8: 1 | E8: 150000 | F8: =+E8*D8 -> 150000
C9: Obras Civiles | D9: 1 | E9: 300000 | F9: =+E9*D9 -> 300000
C10: Componentes stack | D10: 1 | E10: =+E6*45% -> 696510 | F10: =+E10*D10 -> 696510
B11: Valor CAPEX | F11: =SUM(F4:F10) -> 2854310
B12: OPEX | C12: Gerenciamiento proyecto | D12: 0.05 | F12: =+D12*$F$11 -> 142715.5
C13: Imprevistos | D13: 0.02 | F13: =+D13*$F$11 -> 57086.2
C14: Mantenimiento del activo | D14: 0.05 | F14: =+D14*$F$11 -> 142715.5
B15: Valor OPEX | F15: =SUM(F12:F14) -> 342517.2
B16: VALOR TOTA DEL PROYECTO | F16: =+F15+F11 -> 3196827.2
C18: ELECTROLIZADOR EL200N
C19: ACTIVO/ ACTIVIDAD | D19: CANTIDAD | E19: VALOR UNITARIO USD | F19: VALOR TOTAL USD | K19: LEY 1715-2014
B20: CAPEX | C20: Parque FV | D20: 0 | E20: =+'CTO SFV'!F10 -> 1244471.1 | F20: =+E20*D20 -> 0 | K20: Declaración de renta | L20: IVA | M20: Depreciación | N20: Incentivo Arancelario
C21: BESS | D21: 0 | E21: 3000000 | F21: =+E21*D21 -> 0
C22: Electrolizador | D22: 1 | E22: =+ELECTROLIZADOR!AB11 -> 1843467 | F22: =+E22*D22 -> 1843467 | K22: art 11 | L22: art 12 | M22: art 14 | N22: art 13
C23: Compresores | D23: 2 | E23: 80000 | F23: =+E23*D23 -> 160000 | J23: OPCIÓN | K23: 0.5 | L23: 0.19 | M23: 0.3333 | N23: 0.4
C24: Tanques Almacenamiento | D24: 1 | E24: 150000 | F24: =+E24*D24 -> 150000 | J24: EL100N | K24: =+($F$4+$F$6)*K23 -> 773900 | L24: =+($F$4+$F$6)*L23 -> 294082 | M24: =+($F$4+$F$6)*M23 -> 515881.74 | N24: =+($F$4+$F$6)*N23 -> 619120
C25: Obras Civiles | D25: 1 | E25: 300000 | F25: =+E25*D25 -> 300000 | J25: EL200N | K25: =+($F$20+$F$22)*K23 -> 921733.5 | L25: =+($F$20+$F$22)*L23 -> 350258.73 | M25: =+($F$20+$F$22)*M23 -> 614427.55 | N25: =+($F$20+$F$22)*N23 -> 737386.8
C26: Componentes stack | D26: 1 | E26: =+E22*45% -> 829560.15 | F26: =+E26*D26 -> 829560.15 | J26: EL400N | K26: =+($F$36+$F$38)*K23 -> 1627090 | L26: =+($F$36+$F$38)*L23 -> 618294.2 | M26: =+($F$36+$F$38)*M23 -> 1084618.2 | N26: =+($F$36+$F$38)*N23 -> 1301672
B27: Valor CAPEX | F27: =SUM(F20:F26) -> 3283027.1 | J27: EL600N | K27: =+($F$52+$F$54)*K23 -> 2285585 | L27: =+($F$52+$F$54)*L23 -> 868522.3 | M27: =+($F$52+$F$54)*M23 -> 1523571 | N27: =+($F$52+$F$54)*N23 -> 1828468
B28: OPEX | C28: Gerenciamiento proyecto | D28: 0.05 | F28: =+D28*$F$27 -> 164151.36 | J28: EL100N-EL200N | K28: =+($F$68+$F$70+$F$71)*K23 -> 1695633.5 | L28: =+($F$68+$F$70+$F$71)*L23 -> 644340.73 | M28: =+($F$68+$F$70+$F$71)*M23 -> 1130309.3 | N28: =+($F$68+$F$70+$F$71)*N23 -> 1356506.8
C29: Imprevistos | D29: 0.02 | F29: =+D29*$F$27 -> 65660.543
C30: Mantenimiento del activo | D30: 0.05 | F30: =+D30*$F$27 -> 164151.36
B31: Valor OPEX | F31: =SUM(F28:F30) -> 393963.26 | J31: LCOE | K31: 1215
B32: VALOR TOTA DEL PROYECTO | F32: =+F31+F27 -> 3676990.4
C34: ELECTROLIZADOR EL400N
C35: ACTIVO/ ACTIVIDAD | D35: CANTIDAD | E35: VALOR UNITARIO USD | F35: VALOR TOTAL USD
B36: CAPEX | C36: Parque FV | D36: 0 | E36: =+'CTO SFV'!F10 -> 1244471.1 | F36: =+E36*D36 -> 0
C37: BESS | D37: 0 | E37: 3000000 | F37: =+E37*D37 -> 0
C38: Electrolizador | D38: 1 | E38: =+ELECTROLIZADOR!AB18 -> 3254180 | F38: =+E38*D38 -> 3254180
C39: Compresores | D39: 2 | E39: 80000 | F39: =+E39*D39 -> 160000
C40: Tanques Almacenamiento | D40: 2 | E40: 150000 | F40: =+E40*D40 -> 300000
C41: Obras Civiles | D41: 2 | E41: 300000 | F41: =+E41*D41 -> 600000
C42: Componentes stack | D42: 1 | E42: =+E38*45% -> 1464381 | F42: =+E42*D42 -> 1464381
B43: Valor CAPEX | F43: =SUM(F36:F42) -> 5778561
...

Sheet Capacidad
B3: Modelo | C3: Producción H2 kg Nominal | D3: Power (boP+Stac)k | E3: Factor de descarga | F3: Horas de funcionamineto estimada | G3: Consumo total de energía kWh | H3: Consumo promedio de energía kWh | I3: Consumo Electrico Ez | J3: Producción estimada día real | K3: Producción /hora H2 kg | M3: Consumo de agua requerida de la llave (water tap) L/h | N3: consumo (m³/h) | O3: Consumo/ funcionamineto (m³/kgH₂)
B4: EL100N | C4: 215 | D4: 538 | E4: 0.85 | F4: 24 | G4: =+D4*F4 -> 12912 | H4: =+G4/24 -> 538 | I4: =+H4/K4 -> 60.055814 | J4: =+(D4/I4)*E4*8760 -> 66703.75 | K4: =+C4/24 -> 8.9583333 | M4: 150.7 | N4: =+M4/1000 -> 0.1507 | O4: =+N4/K4 -> 0.016822326
B5: EL200N | C5: 430 | D5: 1000 | E5: 0.85 | F5: 24 | G5: =+D5*F5 -> 24000 | H5: =+G5/24 -> 1000 | I5: =+H5/K5 -> 55.813953 | J5: =+(D5/I5)*E5*8760 -> 133407.5 | K5: =+C5/24 -> 17.916667 | M5: 301.4 | N5: =+M5/1000 -> 0.3014 | O5: =+N5/K5 -> 0.016822326
B6: EL400N | C6: 860 | D6: 2100 | E6: 0.85 | F6: 24 | G6: =+D6*F6 -> 50400 | H6: =+G6/24 -> 2100 | I6: =+H6/K6 -> 58.604651 | J6: =+(D6/I6)*E6*8760 -> 266815 | K6: =+C6/24 -> 35.833333 | M6: 603.8 | N6: =+M6/1000 -> 0.6038 | O6: =+N6/K6 -> 0.016850233
B7: EL600N | C7: 1290 | D7: 3100 | E7: 0.85 | F7: 24 | G7: =+D7*F7 -> 74400 | H7: =+G7/24 -> 3100 | I7: =+H7/K7 -> 57.674419 | J7: =+(D7/I7)*E7*8760 -> 400222.5 | K7: =+C7/24 -> 53.75 | M7: 1206 | N7: =+M7/1000 -> 1.206 | O7: =+N7/K7 -> 0.022437209
B8: EL100N+EL200N | C8: =+C4+C5 -> 645 | D8: =+D4+D5 -> 1538 | E8: 0.85 | F8: 24 | G8: =+D8*F8 -> 36912 | H8: =+G8/24 -> 1538 | I8: =+H8/K8 -> 57.227907 | J8: =+(D8/I8)*E8*8760 -> 200111.25 | K8: =+C8/24 -> 26.875 | M8: =+M4+M5 -> 452.1 | N8: =+M8/1000 -> 0.4521 | O8: =+N8/K8 -> 0.016822326

Sheet CTO SFV
B2: CAPEX | G2: Observación
B3: item | C3: Descripción | D3: Cantidad | E3: Precio Unitario | F3: Total COP
B4: 1 | C4: Panel Solar | D4: 2850 | E4: =850000/$F$11 -> 202.38095 | F4: =(E4*D4) -> 576785.71 | G4: 700 W
B5: 2 | C5: Inversor | D5: 20 | E5: =47000000/F11 -> 11190.476 | F5: =(E5*D5) -> 223809.52 | G5: 100 kW
B6: 3 | C6: Trasnporte | D6: 2850 | E6: =+E4*5% -> 10.119048 | F6: =(E6*D6) -> 28839.286 | G6: Se estima el 5% del valor del Panel
B7: 4 | C7: Instalación | D7: 2850 | E7: =+E4*0.4 -> 80.952381 | F7: =(E7*D7) -> 230714.29 | G7: Se estima el 40% del valor del Panel
B8: 5 | C8: Cable Panel | D8: 660 | E8: =140000/F11 -> 33.333333 | F8: =(E8*D8) -> 22000 | G8: cable de 10 mt
B9: 6 | C9: Imprevistos | D9: 0.015 | F9: =SUM(F4:F8)*0.15 -> 162322.32
C10: Total | F10: =SUM(F4:F9) -> 1244471.1
C11: TRM | F11: 4200
B14: Capacidad anual de | D14: 3451459.5 | E14: kWh | F14: =+F10/D14 -> 0.36056374 | G14: =+F14*4200 -> 1514.3677

Sheet LCOH
C3: EL600N
C4: Variable | D4: Valor | E4: Unidad | H4: FLUJO DE CAJA
C5: Factor de descuento | D5: 0.08 | E5: % | H5: DE COSTOS
C6: Factor de carga Ez | D6: 0.85 | E6: %
C7: Capacidad | D7: =IF(C3=Capacidad!B4,Capacidad!D4,IF(C3=Capacidad!B5,Capacidad!D5,IF(C3=Capacidad!B6,Capacidad!D6,IF(C3=Capacidad!B7,Capacidad!D7,IF(C3=Capacidad!B8,Capacidad!D8))))) -> 3100 | E7: kW | J7: Totales | K7: Año | L7: 0 | M7: 1 | N7: 2 | O7: 3 | P7: 4 | Q7: 5 | R7: 6 | S7: 7 | T7: 8 | U7: 9 | V7: 10 | W7: 11 | X7: 12 | Y7: 13 | Z7: 14 | AA7: 15 | AB7: 16 | AC7: 17 | AD7: 18 | AE7: 19 | AF7: 20 | AG7: 21 | AH7: 22 | AI7: 23 | AJ7: 24 | AK7: 25
C8: LCOE | D8: 0.073 | E8: USD/kWh
C9: Costo del agua | D9: 1 | E9: USD/M3 | I9: Costos nominales USD
C10: CAPEX Ez | D10: =+IF(C3='DATOS '!J3,'DATOS '!O3,IF(C3='DATOS '!J4,'DATOS '!O4,IF(C3='DATOS '!J5,'DATOS '!O5,IF(C3='DATOS '!J6,'DATOS '!O6,IF(C3='DATOS '!J7,'DATOS '!O7))))) -> 2625.2247 | E10: USD/kw | I10: CAPEX | J10: =SUM(L10:AK10) -> 14472210 | L10: =+(D10*D7)*(1+D13) -> 11705223 | M10: =+IF(MOD(M7,$D$17)=0,($D$12*$D$10*$D$7),0) -> 0 | N10: =+IF(MOD(N7,$D$17)=0,($D$12*$D$10*$D$7),0) -> 0 | O10: =+IF(MOD(O7,$D$17)=0,($D$12*$D$10*$D$7),0) -> 0 | P10: =+IF(MOD(P7,$D$17)=0,($D$12*$D$10*$D$7),0) -> 0 | Q10: =+IF(MOD(Q7,$D$17)=0,($D$12*$D$10*$D$7),0) -> 0 | R10: =+IF(MOD(R7,$D$17)=0,($D$12*$D$10*$D$7),0) -> 0 | S10: =+IF(MOD(S7,$D$17)=0,($D$12*$D$10*$D$7),0) -> 0 | T10: =+IF(MOD(T7,$D$17)=0,($D$12*$D$10*$D$7),0) -> 0 | ... AK10: =+IF(MOD(AK7,$D$17)=0,($D$12*$D$10*$D$7),0) -> 0
C11: OPEX Ez | D11: 0.12 | E11: % CAPEX/año | I11: O&M | J11: =SUM(L11:AK11) -> 24414589 | M11: =+$D$11*$D$10*$D$7 -> 976583.58 | N11: =+$D$11*$D$10*$D$7 -> 976583.58 | O11: =+$D$11*$D$10*$D$7 -> 976583.58 | P11: =+$D$11*$D$10*$D$7 -> 976583.58 | Q11: =+$D$11*$D$10*$D$7 -> 976583.58 | R11: =+$D$11*$D$10*$D$7 -> 976583.58 | S11: =+$D$11*$D$10*$D$7 -> 976583.58 | T11: =+$D$11*$D$10*$D$7 -> 976583.58 | ... AK11: =+$D$11*$D$10*$D$7 -> 976583.58
C12: Componentes stack | D12: 0.17 | E12: % CAPEX | I12: Electricidad | J12: =SUM(L12:AK12) -> 42125745 | M12: =+M16*$D$14*$D$8 -> 1685029.8 | N12: =+N16*$D$14*$D$8 -> 1685029.8 | O12: =+O16*$D$14*$D$8 -> 1685029.8 | P12: =+P16*$D$14*$D$8 -> 1685029.8 | Q12: =+Q16*$D$14*$D$8 -> 1685029.8 | R12: =+R16*$D$14*$D$8 -> 1685029.8 | S12: =+S16*$D$14*$D$8 -> 1685029.8 | T12: =+T16*$D$14*$D$8 -> 1685029.8 | ... AK12: =+AK16*$D$14*$D$8 -> 1685029.8
C13: Costos adicionales de inversión | D13: =IF(C3='DATOS '!J3,'DATOS '!Q3,IF(C3='DATOS '!J4,'DATOS '!Q4,IF(C3='DATOS '!J5,'DATOS '!Q5,IF(C3='DATOS '!J6,'DATOS '!Q6,IF(C3='DATOS '!J7,'DATOS '!Q7))))) -> 0.43830676 | E13: % CAPEX | I13: Agua | J13: =SUM(L13:AK13) -> 224496.9 | M13: =+$D$9*$D$15*M16 -> 8979.876 | N13: =+$D$9*$D$15*N16 -> 8979.876 | O13: =+$D$9*$D$15*O16 -> 8979.876 | P13: =+$D$9*$D$15*P16 -> 8979.876 | Q13: =+$D$9*$D$15*Q16 -> 8979.876 | R13: =+$D$9*$D$15*R16 -> 8979.876 | S13: =+$D$9*$D$15*S16 -> 8979.876 | T13: =+$D$9*$D$15*T16 -> 8979.876 | ... AK13: =+$D$9*$D$15*AK16 -> 8979.876
C14: Consumo Electrico Ez | D14: =IF(C3=Capacidad!B4,Capacidad!I4,IF(C3=Capacidad!B5,Capacidad!I5,IF(C3=Capacidad!B6,Capacidad!I6,IF(C3=Capacidad!B7,Capacidad!I7,IF(C3=Capacidad!B8,Capacidad!I8))))) -> 57.674419 | E14: kWh/kgH2 | I14: Total | J14: =SUM(J10:J13) -> 81237041 | L14: =SUM(L10:L13) -> 11705223 | M14: =SUM(M11:M13) -> 2670593.3 | N14: =SUM(N11:N13) -> 2670593.3 | O14: =SUM(O11:O13) -> 2670593.3 | P14: =SUM(P11:P13) -> 2670593.3 | Q14: =SUM(Q11:Q13) -> 2670593.3 | R14: =SUM(R11:R13) -> 2670593.3 | S14: =SUM(S11:S13) -> 2670593.3 | T14: =SUM(T11:T13) -> 2670593.3 | ... AK14: =SUM(AK11:AK13) -> 2670593.3
C15: Consumo Agua Ez | D15: =IF(C3=Capacidad!B4,Capacidad!O4,IF(C3=Capacidad!B5,Capacidad!O5,IF(C3=Capacidad!B6,Capacidad!O6,IF(C3=Capacidad!B7,Capacidad!O7,IF(C3=Capacidad!B8,Capacidad!O8))))) -> 0.022437209 | E15: M3/KgH2
C16: Vida Util Stack | D16: 80000 | E16: Horas | I16: Producción H2 (kg) | J16: =SUM(L16:AK16) -> 10005562 | L16: 0 | M16: =(D7/$D$14)*($D$6*8760) -> 400222.5 | N16: =+M16 -> 400222.5 | O16: =+N16 -> 400222.5 | P16: =+O16 -> 400222.5 | Q16: =+P16 -> 400222.5 | R16: =+Q16 -> 400222.5 | S16: =+R16 -> 400222.5 | T16: =+S16 -> 400222.5 | U16: =+T16 -> 400222.5 | ... AK16: =+AJ16 -> 400222.5
C17: Vida Util Stack | D17: =+ROUNDDOWN($D$16/(D6*8760),0) -> 10 | E17: Años | L17: =+L16/365 -> 0
I18: Factor de Descuento | L18: =1/(1+$D$5)^L7 -> 1 | M18: =1/(1+$D$5)^M7 -> 0.92592593 | N18: =1/(1+$D$5)^N7 -> 0.85733882 | O18: =1/(1+$D$5)^O7 -> 0.79383224 | P18: =1/(1+$D$5)^P7 -> 0.73502985 | Q18: =1/(1+$D$5)^Q7 -> 0.6805832 | R18: =1/(1+$D$5)^R7 -> 0.63016963 | S18: =1/(1+$D$5)^S7 -> 0.5834904 | ... AK18: =1/(1+$D$5)^AK7 -> 0.1460179
C20: En 2024, el precio promedio de la energía en Colombia ha variado dependiendo del tipo de mercado. Para el mercado regulado, que incluye el consumo residencial y pequeños negocios, el precio promedio en contratos para septiembre fue de 320.82 COP/kWh. Para el mercado no regulado, que incluye a la industria y el comercio, el precio promedio fue de 308.13 COP/kWh​ | I20: Costos Descontados
I21: CAPEX | J21: =SUM(L21:AK21) -> 12642874 | L21: =+L18*L10 -> 11705223 | M21: =+M10*M18 -> 0 | N21: =+N10*N18 -> 0 | O21: =+O10*O18 -> 0 | P21: =+P10*P18 -> 0 | Q21: =+Q10*Q18 -> 0 | R21: =+R10*R18 -> 0 | S21: =+S10*S18 -> 0 | T21: =+T10*T18 -> 0 | ... AK21: =+AK10*AK18 -> 0
I22: O&M | J22: =SUM(L22:AK22) -> 10424811 | M22: =+M11*M18 -> 904244.06 | N22: =+N11*N18 -> 837263.01 | O22: =+O11*O18 -> 775243.53 | P22: =+P11*P18 -> 717818.09 | Q22: =+Q11*Q18 -> 664646.38 | R22: =+R11*R18 -> 615413.31 | S22: =+S11*S18 -> 569827.14 | T22: =+T11*T18 -> 527617.72 | ... AK22: =+AK11*AK18 -> 142598.69
I23: Electricidad | J23: =SUM(L23:AK23) -> 17987316 | M23: =+M12*M18 -> 1560212.8 | N23: =+N12*N18 -> 1444641.5 | O23: =+O12*O18 -> 1337631 | P23: =+P12*P18 -> 1238547.2 | Q23: =+Q12*Q18 -> 1146803 | R23: =+R12*R18 -> 1061854.6 | S23: =+S12*S18 -> 983198.7 | T23: =+T12*T18 -> 910369.17 | ... AK23: =+AK12*AK18 -> 246044.52
I24: Agua | J24: =SUM(L24:AK24) -> 95858.167 | M24: =+M13*M18 -> 8314.7 | N24: =+N13*N18 -> 7698.7963 | O24: =+O13*O18 -> 7128.5151 | P24: =+P13*P18 -> 6600.4769 | Q24: =+Q13*Q18 -> 6111.5527 | R24: =+R13*R18 -> 5658.8451 | S24: =+S13*S18 -> 5239.6714 | T24: =+T13*T18 -> 4851.5476 | ... AK24: =+AK13*AK18 -> 1311.2227
I25: Total | J25: =SUM(J21:J24) -> 41150859 | L25: =SUM(L21:L24) -> 11705223 | M25: =SUM(M21:M24) -> 2472771.5 | N25: =SUM(N21:N24) -> 2289603.3 | O25: =SUM(O21:O24) -> 2120003 | P25: =SUM(P21:P24) -> 1962965.8 | Q25: =SUM(Q21:Q24) -> 1817560.9 | R25: =SUM(R21:R24) -> 1682926.8 | S25: =SUM(S21:S24) -> 1558265.5 | ... AK25: =SUM(AK21:AK24) -> 389954.43
C26: Fuente: XM
I27: Producción H2 (kg) | J27: =SUM(L27:AK27) -> 4272285.6 | M27: =+M16*M18 -> 370576.39 | N27: =+N16*N18 -> 343126.29 | O27: =+O16*O18 -> 317709.52 | P27: =+P16*P18 -> 294175.49 | Q27: =+Q16*Q18 -> 272384.71 | R27: =+R16*R18 -> 252208.06 | S27: =+S16*S18 -> 233525.98 | T27: =+T16*T18 -> 216227.76 | ... AK27: =+AK16*AK18 -> 58439.651
B30: =+C30/C32 -> 0.80416667 | C30: 19.3 | D30: 0.073 | E30: =+D30*C30 -> 1.4089
B31: =+C31/C32 -> 0.19583333 | C31: 4.7 | D31: 0
C32: =+C31+C30 -> 24
L34: RESULTADOS LCOH
M36: Costos Descontados
C37: Electrolizador | D37: LCOH TOTAL (USD/kg) | O37: EL Costo al cual vendo tengo 0 ganancias
C38: EL100N | D38: 15.84 | M38: LCOH TOTAL (USD/kg) | O38: =SUM(O40:O43) -> 9.6320479
C39: EL200N | D39: 10.63
C40: EL400N | D40: 10.04 | M40: CAPEX | O40: =+J21/J27 -> 2.9592764
C41: EL600N | D41: 9.63 | M41: O&M | O41: =+J22/J27 -> 2.4401016
C42: EL100N+EL200N | D42: 11 | M42: Electricidad | O42: =+J23/J27 -> 4.2102326
M43: Agua | O43: =+J24/J27 -> 0.022437209
L46: Datos para Grafica
N47: CAPEX | O47: O&M | P47: TOTAL | Q47: %
L48: Electricidad | M48: 0 | N48: 0 | O48: =+O42 -> 4.2102326 | P48: =+SUM(N48:O48) -> 4.2102326 | Q48: =+P48/$P$51 -> 0.43710669
L49: Electrolizador | M49: =+P48 -> 4.2102326 | N49: =+O40 -> 2.9592764 | O49: =+O41 -> 2.4401016 | P49: =+SUM(N49:O49) -> 5.3993781 | Q49: =+P49/$P$51 -> 0.56056388
...

Sheet ELECTROLIZADOR
B2: ELECTROLIZADOR | K2: DATA SHEET | T2: PRECIOS
AB11: 1843467 | AC11: USD
AB16: 1547800 | AC16: USD
AB18: 3254180 | AC18: USD
AB20: 4571170 | AC20: USD
T29: 2.3700441 | U29: 9546 | V29: =+U29/T29 -> 4027.7732 | W29: =+V29/227.6 -> 17.696719

Sheet Flujo de caja
B2: EL600N
C3: año | D3: 0 | E3: 1 | F3: 2 | G3: 3 | H3: 4 | I3: 5 | J3: 6 | K3: 7 | L3: 8 | M3: 9 | N3: 10 | O3: 11 | P3: 12 | Q3: 13 | R3: 14 | S3: 15 | T3: 16 | U3: 17 | V3: 18 | W3: 19 | X3: 20 | Y3: 21 | Z3: 22 | AA3: 23 | AB3: 24 | AC3: 25
C4: CAPEX | D4: =+IF(B2='DATOS '!J3,'DATOS '!L3,IF(B2='DATOS '!J4,'DATOS '!L4,IF(B2='DATOS '!J5,'DATOS '!L5,IF(B2='DATOS '!J6,'DATOS '!L6,IF(B2='DATOS '!J7,'DATOS '!L7))))) -> 8138196.5 | E4: =+IF(MOD(E3,LCOH!$D$17)=0,(LCOH!$D$12*LCOH!$D$10*LCOH!$D$17),0) -> 0 | F4: =+IF(MOD(F3,LCOH!$D$17)=0,(LCOH!$D$12*LCOH!$D$10*LCOH!$D$17),0) -> 0 | G4: =+IF(MOD(G3,LCOH!$D$17)=0,(LCOH!$D$12*LCOH!$D$10*LCOH!$D$17),0) -> 0 | H4: =+IF(MOD(H3,LCOH!$D$17)=0,(LCOH!$D$12*LCOH!$D$10*LCOH!$D$17),0) -> 0 | I4: =+IF(MOD(I3,LCOH!$D$17)=0,(LCOH!$D$12*LCOH!$D$10*LCOH!$D$17),0) -> 0 | J4: =+IF(MOD(J3,LCOH!$D$17)=0,(LCOH!$D$12*LCOH!$D$10*LCOH!$D$17),0) -> 0 | K4: =+IF(MOD(K3,LCOH!$D$17)=0,(LCOH!$D$12*LCOH!$D$10*LCOH!$D$17),0) -> 0 | L4: =+IF(MOD(L3,LCOH!$D$17)=0,(LCOH!$D$12*LCOH!$D$10*LCOH!$D$17),0) -> 0 | M4: =+IF(MOD(M3,LCOH!$D$17)=0,(LCOH!$D$12*LCOH!$D$10*LCOH!$D$17),0) -> 0 | N4: =+IF(MOD(N3,LCOH!$D$17)=0,(LCOH!$D$12*LCOH!$D$10*LCOH!$D$7),0) -> 1383493.4 | O4: =+IF(MOD(O3,LCOH!$D$17)=0,(LCOH!$D$12*LCOH!$D$10*LCOH!$D$7),0) -> 0 | P4: =+IF(MOD(P3,LCOH!$D$17)=0,(LCOH!$D$12*LCOH!$D$10*LCOH!$D$7),0) -> 0 | Q4: =+IF(MOD(Q3,LCOH!$D$17)=0,(LCOH!$D$12*LCOH!$D$10*LCOH!$D$7),0) -> 0 | R4: =+IF(MOD(R3,LCOH!$D$17)=0,(LCOH!$D$12*LCOH!$D$10*LCOH!$D$7),0) -> 0 | S4: =+IF(MOD(S3,LCOH!$D$17)=0,(LCOH!$D$12*LCOH!$D$10*LCOH!$D$7),0) -> 0 | T4: =+IF(MOD(T3,LCOH!$D$17)=0,(LCOH!$D$12*LCOH!$D$10*LCOH!$D$7),0) -> 0 | U4: =+IF(MOD(U3,LCOH!$D$17)=0,(LCOH!$D$12*LCOH!$D$10*LCOH!$D$7),0) -> 0 | ... AB4: =+IF(MOD(AB3,LCOH!$D$17)=0,(LCOH!$D$12*LCOH!$D$10*LCOH!$D$7),0) -> 0 | AC4: =+IF(MOD(AC3,LCOH!$D$17)=0,(LCOH!$D$12*LCOH!$D$10*LCOH!$D$17),0) -> 0
B5: ingresos | C5: Producción kg NH2 día | D5: 0 | E5: =+IF(B2=Capacidad!B4,Capacidad!J4,IF(B2=Capacidad!B5,Capacidad!J5,IF(B2=Capacidad!B6,Capacidad!J6,IF('Flujo de caja'!B2=Capacidad!B7,Capacidad!J7,IF(B2=Capacidad!B8,Capacidad!J8))))) -> 400222.5 | F5: =+E5 -> 400222.5 | G5: =+F5 -> 400222.5 | H5: =+G5 -> 400222.5 | I5: =+H5 -> 400222.5 | J5: =+I5 -> 400222.5 | K5: =+J5 -> 400222.5 | L5: =+K5 -> 400222.5 | M5: =+L5 -> 400222.5 | ... AC5: =+AB5 -> 400222.5
C6: USD$/kg H2 | D6: 0 | E6: =IF(B2=LCOH!C38,LCOH!D38,IF(B2=LCOH!C39,LCOH!D39,IF(B2=LCOH!C40,LCOH!D40,IF(B2=LCOH!C41,LCOH!D41,IF(B2=LCOH!C42,LCOH!D42))))) -> 9.63 | F6: =+E6*1.05 -> 10.1115 | G6: =+F6*1.05 -> 10.617075 | H6: =+G6*1.05 -> 11.147929 | I6: =+H6*1.05 -> 11.705325 | J6: =+I6*1.05 -> 12.290591 | K6: =+J6*1.05 -> 12.905121 | L6: =+K6*1.05 -> 13.550377 | M6: =+L6*1.05 -> 14.227896 | ... AC6: =+AB6*1.05 -> 31.057712
C7: Total Ingresos | D7: =+D6*D5 -> 0 | E7: =+E6*E5 -> 3854142.7 | F7: =+F6*F5 -> 4046849.8 | G7: =+G6*G5 -> 4249192.3 | H7: =+H6*H5 -> 4461651.9 | I7: =+I6*I5 -> 4684734.5 | J7: =+J6*J5 -> 4918971.2 | K7: =+K6*K5 -> 5164919.8 | ... AC7: =+AC6*AC5 -> 12429995
C8: Rescate | D8: 0 | E8: 0 | F8: 0 | G8: 0 | H8: 0 | I8: 0 | J8: 0 | K8: 0 | L8: 0 | M8: 0 | N8: 0 | O8: 0 | P8: 0 | Q8: 0 | R8: 0 | S8: 0 | T8: 0 | U8: 0 | V8: 0 | W8: 0 | X8: 0 | Y8: 0 | Z8: 0 | AA8: 0 | AB8: 0 | AC8: 0
B10: Gastos | C10: Agua consumo (m³/kgH₂) | E10: =+IF(B2=Capacidad!B4,Capacidad!O4,IF(B2=Capacidad!B5,Capacidad!O5,IF(B2=Capacidad!B6,Capacidad!O6,IF(B2=Capacidad!B7,Capacidad!O7,IF(B2=Capacidad!B8,Capacidad!O8))))) -> 0.022437209 | F10: =+E10 -> 0.022437209 | G10: =+F10 -> 0.022437209 | H10: =+G10 -> 0.022437209 | I10: =+H10 -> 0.022437209 | J10: =+I10 -> 0.022437209 | K10: =+J10 -> 0.022437209 | L10: =+K10 -> 0.022437209 | M10: =+L10 -> 0.022437209 | ... AC10: =+AB10 -> 0.022437209
C11: Costo del agua | E11: =+E10*E5*1 -> 8979.876 | F11: =+F10*F5*1 -> 8979.876 | G11: =+G10*G5*1 -> 8979.876 | H11: =+H10*H5*1 -> 8979.876 | I11: =+I10*I5*1 -> 8979.876 | J11: =+J10*J5*1 -> 8979.876 | K11: =+K10*K5*1 -> 8979.876 | L11: =+L10*L5*1 -> 8979.876 | ... AC11: =+AC10*AC5*1 -> 8979.876
C12: Consumo electrico | E12: =+IF(B2=Capacidad!B4,Capacidad!I4,IF(B2=Capacidad!B5,Capacidad!I5,IF(B2=Capacidad!B6,Capacidad!I6,IF(B2=Capacidad!B7,Capacidad!I7,IF(B2=Capacidad!B8,Capacidad!I8))))) -> 57.674419 | F12: =+E12 -> 57.674419 | G12: =+F12 -> 57.674419 | H12: =+G12 -> 57.674419 | I12: =+H12 -> 57.674419 | J12: =+I12 -> 57.674419 | K12: =+J12 -> 57.674419 | L12: =+K12 -> 57.674419 | M12: =+L12 -> 57.674419 | ... AC12: =+AB12 -> 57.674419
C13: Costo electrico | E13: =+E12*E5*LCOH!$D$8 -> 1685029.8 | F13: =+F12*F5*LCOH!$D$8 -> 1685029.8 | G13: =+G12*G5*LCOH!$D$8 -> 1685029.8 | H13: =+H12*H5*LCOH!$D$8 -> 1685029.8 | I13: =+I12*I5*LCOH!$D$8 -> 1685029.8 | J13: =+J12*J5*LCOH!$D$8 -> 1685029.8 | K13: =+K12*K5*LCOH!$D$8 -> 1685029.8 | L13: =+L12*L5*LCOH!$D$8 -> 1685029.8 | ... AC13: =+AC12*AC5*LCOH!$D$8 -> 1685029.8
C15: OPEX | E15: =+D4*12% -> 976583.58 | F15: =+E15 -> 976583.58 | G15: =+F15 -> 976583.58 | H15: =+G15 -> 976583.58 | I15: =+H15 -> 976583.58 | J15: =+I15 -> 976583.58 | K15: =+J15 -> 976583.58 | L15: =+K15 -> 976583.58 | M15: =+L15 -> 976583.58 | ... AC15: =+AB15 -> 976583.58
C16: Desmantelamiento | D16: 0 | E16: 0 | F16: 0 | G16: 0 | H16: 0 | I16: 0 | J16: 0 | K16: 0 | L16: 0 | M16: 0 | N16: 0 | O16: 0 | P16: 0 | Q16: 0 | R16: 0 | S16: 0 | T16: 0 | U16: 0 | V16: 0 | W16: 0 | X16: 0 | Y16: 0 | Z16: 0 | AA16: 0 | AB16: 0 | AC16: 0
C17: Costo cierre | D17: 0 | E17: 0 | F17: 0 | G17: 0 | H17: 0 | I17: 0 | J17: 0 | K17: 0 | L17: 0 | M17: 0 | N17: 0 | O17: 0 | P17: 0 | Q17: 0 | R17: 0 | S17: 0 | T17: 0 | U17: 0 | V17: 0 | W17: 0 | X17: 0 | Y17: 0 | Z17: 0 | AA17: 0 | AB17: 0 | AC17: 0
C19: Total | E19: =E11+E13+E15 -> 2670593.3 | F19: =+SUM(F10:F17) -> 2670651 | G19: =+SUM(G10:G17) -> 2670651 | H19: =+SUM(H10:H17) -> 2670651 | I19: =+SUM(I10:I17) -> 2670651 | J19: =+SUM(J10:J17) -> 2670651 | K19: =+SUM(K10:K17) -> 2670651 | L19: =+SUM(L10:L17) -> 2670651 | M19: =+SUM(M10:M17) -> 2670651 | ... AC19: =+SUM(AC10:AC17) -> 2670651
B21: Impuestos | C21: Base para impuesto | E21: =+D4*50% -> 4069098.2 | F21: =+E21 -> 4069098.2 | G21: =+F21 -> 4069098.2 | H21: =+G21 -> 4069098.2 | I21: =+H21 -> 4069098.2 | J21: =+I21 -> 4069098.2 | K21: =+J21 -> 4069098.2 | L21: =+K21 -> 4069098.2 | M21: =+L21 -> 4069098.2 | ... S21: =+R21 -> 4069098.2
C22: Deprecición | E22: =+D4*33.33% -> 2712460.9 | F22: =+E22 -> 2712460.9 | G22: =+F22 -> 2712460.9
C23: credit Impuesto
C24: total para impuesto | E24: =+E21+E22 -> 6781559.1 | F24: =+F21+F22 -> 6781559.1 | G24: =+G21+G22 -> 6781559.1 | H24: =+H21+H22 -> 4069098.2 | I24: =+I21+I22 -> 4069098.2 | J24: =+J21+J22 -> 4069098.2 | K24: =+K21+K22 -> 4069098.2 | L24: =+L21+L22 -> 4069098.2 | ... AC24: =+AC21+AC22 -> 0
C25: Valor a pagar | E25: =+E24 -> 6781559.1 | F25: =+F24 -> 6781559.1 | G25: =+G24 -> 6781559.1 | H25: =+H24 -> 4069098.2 | I25: =+I24 -> 4069098.2 | J25: =+J24 -> 4069098.2 | K25: =+K24 -> 4069098.2 | L25: =+L24 -> 4069098.2 | ... AC25: =+AC24 -> 0
B27: Flujo caja | D27: =+D4*-1 -> -8138196.5 | E27: =+E7-(E19+E25) -> -5598009.7 | F27: =+F7-(F19+F25) -> -5405360.3 | G27: =+G7-(G19+G25) -> -5203017.8 | H27: =+H7-(H19+H25) -> -2278097.3 | I27: =+I7-(I19+I25) -> -2055014.7 | J27: =+J7-(J19+J25) -> -1820778 | K27: =+K7-(K19+K25) -> -1574829.4 | L27: =+L7-(L19+L25) -> -1316583.4 | ... AC27: =+AC7-(AC19+AC25) -> 9759344.4
B28: Tasa de descuento | D28: =1/(1+3%)^D3 -> 1 | E28: =1/(1+8%)^E3 -> 0.92592593 | F28: =1/(1+8%)^F3 -> 0.85733882 | G28: =1/(1+8%)^G3 -> 0.79383224 | H28: =1/(1+8%)^H3 -> 0.73502985 | I28: =1/(1+8%)^I3 -> 0.6805832 | J28: =1/(1+8%)^J3 -> 0.63016963 | K28: =1/(1+8%)^K3 -> 0.5834904 | L28: =1/(1+8%)^L3 -> 0.54026888 | ... AC28: =1/(1+8%)^AC3 -> 0.1460179
B29: Valor presente | D29: =+D28*D27 -> -8138196.5 | E29: =+E28*E27 -> -5183342.3 | F29: =+F28*F27 -> -4634225.2 | G29: =+G28*G27 -> -4130323.3 | H29: =+H28*H27 -> -1674469.5 | I29: =+I28*I27 -> -1398608.5 | J29: =+J28*J27 -> -1147399 | K29: =+K28*K27 -> -918897.83 | ... AC29: =+AC28*AC27 -> 1425039
C32: Flujo de caja anual | D32: =SUM(D27:AC27) -> 39868779
C33: Tasa interna de retorno | D33: =IRR(D27:AC27) -> 0.042740933
C35: Payback | E35: Tasa Descuento | F35: VPN
E36: 0.002 | F36: =+NPV(E36,$E$27:$AC$27)+$D$27 -> 36988300
C37: Año 15 | E37: 0.005 | F37: =+NPV(E37,$E$27:$AC$27)+$D$27 -> 32912941
E38: 0.008 | F38: =+NPV(E38,$E$27:$AC$27)+$D$27 -> 29113863
E39: 0.011 | F39: =+NPV(E39,$E$27:$AC$27)+$D$27 -> 25572005
E40: 0.014 | F40: =+NPV(E40,$E$27:$AC$27)+$D$27 -> 22269673
E41: 0.017 | F41: =+NPV(E41,$E$27:$AC$27)+$D$27 -> 19190445
E42: 0.02 | F42: =+NPV(E42,$E$27:$AC$27)+$D$27 -> 16319069
E43: 0.023 | F43: =+NPV(E43,$E$27:$AC$27)+$D$27 -> 13641382
E44: 0.026 | F44: =+NPV(E44,$E$27:$AC$27)+$D$27 -> 11144225
E45: 0.029 | F45: =+NPV(E45,$E$27:$AC$27)+$D$27 -> 8815368.3
E46: 0.032 | F46: =+NPV(E46,$E$27:$AC$27)+$D$27 -> 6643446.5
E47: 0.035 | F47: =+NPV(E47,$E$27:$AC$27)+$D$27 -> 4617891.2
E48: 0.038 | F48: =+NPV(E48,$E$27:$AC$27)+$D$27 -> 2728874
E49: 0.041 | F49: =+NPV(E49,$E$27:$AC$27)+$D$27 -> 967252.62
...

Sheet TIR todos
B2: Opción | C2: Modelo | D2: TIR | E2: VPN (USD) | F2: Payback
B3: 1 | C3: EL100N | D3: 0.0257 | E3: 42781 | F3: 15
B4: 2 | C4: EL200N | D4: 0.0351 | E4: 86863 | F4: 14
B5: 3 | C5: EL400N | D5: 0.0453 | E5: 160109 | F5: 13
B6: 4 | C6: EL600N | D6: 0.0484 | E6: 43787 | F6: 12
B7: 5 | C7: EL100N+EL200N | D7: 0.0312 | E7: 32381 | F7: 14

Sheet EL200N
C2: año | D2: 0 | E2: 1 | F2: 2 | G2: 3 | H2: 4 | I2: 5 | J2: 6 | K2: 7 | L2: 8 | M2: 9 | N2: 10 | O2: 11 | P2: 12 | Q2: 13 | R2: 14 | S2: 15 | T2: 16 | U2: 17 | V2: 18 | W2: 19 | X2: 20 | Y2: 21 | Z2: 22 | AA2: 23 | AB2: 24 | AC2: 25
B3: Ingresos | C3: Producción kg NH2 | D3: 0 | E3: =+Capacidad!#REF! -> #REF! | F3: =+E3 -> #REF! | G3: =+F3 -> #REF! | H3: =+G3 -> #REF! | I3: =+H3 -> #REF! | J3: =+I3 -> #REF! | K3: =+J3 -> #REF! | L3: =+K3 -> #REF! | M3: =+L3 -> #REF! | ... AC3: =+AB3 -> #REF!
C4: USD$/kg H2 | D4: =+LCOH!O38 -> 9.6320479 | E4: =+D4*1.05 -> 10.11365 | F4: =+E4*1.05 -> 10.619333 | G4: =+F4*1.05 -> 11.150299 | H4: =+G4*1.05 -> 11.707814 | I4: =+H4*1.05 -> 12.293205 | J4: =+I4*1.05 -> 12.907865 | K4: =+J4*1.05 -> 13.553259 | L4: =+K4*1.05 -> 14.230922 | ... AC4: =+AB4*1.05 -> 32.617533
C5: Ventas | D5: =+D4*D3 -> 0 | E5: =+E4*E3 -> #REF! | F5: =+F4*F3 -> #REF! | G5: =+G4*G3 -> #REF! | H5: =+H4*H3 -> #REF! | I5: =+I4*I3 -> #REF! | J5: =+J4*J3 -> #REF! | K5: =+K4*K3 -> #REF! | ... AC5: =+AC4*AC3 -> #REF!
C6: Rescate | D6: 0 | E6: 0 | F6: 0 | G6: 0 | H6: 0 | I6: 0 | J6: 0 | K6: 0 | L6: 0 | M6: 0 | N6: 0 | O6: 0 | P6: 0 | Q6: 0 | R6: 0 | S6: 0 | T6: 0 | U6: 0 | V6: 0 | W6: 0 | X6: 0 | Y6: 0 | Z6: 0 | AA6: 0 | AB6: 0 | AC6: 0
C7: Total | D7: =+SUM(D5:D6) -> 0 | E7: =+SUM(E5:E6) -> #REF! | F7: =+SUM(F5:F6) -> #REF! | G7: =+SUM(G5:G6) -> #REF! | H7: =+SUM(H5:H6) -> #REF! | I7: =+SUM(I5:I6) -> #REF! | J7: =+SUM(J5:J6) -> #REF! | K7: =+SUM(K5:K6) -> #REF! | ... AC7: =+SUM(AC5:AC6) -> #REF!
D8: =+'DATOS '!F27*-1 -> -3283027.1 | E8: =+E7 -> #REF! | F8: =+F7 -> #REF! | G8: =+G7 -> #REF! | H8: =+H7 -> #REF! | I8: =+I7 -> #REF! | J8: =+J7 -> #REF! | K8: =+K7 -> #REF! | L8: =+L7 -> #REF! | ... AC8: =+AC7 -> #REF!
C9: Inversion | D9: =+D8*-1 -> 3283027.1
B10: Gastos | C10: Agua | D10: 0 | E10: =+Capacidad!O5*1 -> 0.016822326 | F10: =+E10 -> 0.016822326 | G10: =+F10 -> 0.016822326 | H10: =+G10 -> 0.016822326 | I10: =+H10 -> 0.016822326 | J10: =+I10 -> 0.016822326 | K10: =+J10 -> 0.016822326 | L10: =+K10 -> 0.016822326 | M10: =+L10 -> 0.016822326 | ... AC10: =+AB10 -> 0.016822326
C11: Electricidad | D11: 0 | E11: =+Capacidad!#REF!*LCOH!#REF! -> #REF! | F11: =+E11 -> #REF! | G11: =+F11 -> #REF! | H11: =+G11 -> #REF! | I11: =+H11 -> #REF! | J11: =+I11 -> #REF! | K11: =+J11 -> #REF! | L11: =+K11 -> #REF! | M11: =+L11 -> #REF! | ... AC11: =+AB11 -> #REF!
C12: Costos Fijos | D12: =+'DATOS '!F28 -> 164151.36 | E12: =+D12*1.03 -> 169075.9 | F12: =+E12*1.03 -> 174148.18 | G12: =+F12*1.03 -> 179372.62 | H12: =+G12*1.03 -> 184753.8 | I12: =+H12*1.03 -> 190296.41 | J12: =+I12*1.03 -> 196005.31 | K12: =+J12*1.03 -> 201885.46 | L12: =+K12*1.03 -> 207942.03 | ... AC12: =+AB12*1.03 -> 343696.49
C13: Costos Variables | E13: =+'DATOS '!F29+'DATOS '!F30 -> 229811.9 | F13: =+E13*1.03 -> 236706.26 | G13: =+F13*1.03 -> 243807.45 | H13: =+G13*1.03 -> 251121.67 | I13: =+H13*1.03 -> 258655.32 | J13: =+I13*1.03 -> 266414.98 | K13: =+J13*1.03 -> 274407.43 | L13: =+K13*1.03 -> 282639.65 | M13: =+L13*1.03 -> 291118.84 | ... AC13: =+AB13*1.03 -> 467160.28
C14: Desmantelamiento | D14: 0 | E14: 0 | F14: 0 | G14: 0 | H14: 0 | I14: 0 | J14: 0 | K14: 0 | L14: 0 | M14: 0 | N14: 0 | O14: 0 | P14: 0 | Q14: 0 | R14: 0 | S14: 0 | T14: 0 | U14: 0 | V14: 0 | W14: 0 | X14: 0 | Y14: 0 | Z14: 0 | AA14: 0 | AB14: 0 | AC14: 0
C15: Costo cierre | D15: 0 | E15: 0 | F15: 0 | G15: 0 | H15: 0 | I15: 0 | J15: 0 | K15: 0 | L15: 0 | M15: 0 | N15: 0 | O15: 0 | P15: 0 | Q15: 0 | R15: 0 | S15: 0 | T15: 0 | U15: 0 | V15: 0 | W15: 0 | X15: 0 | Y15: 0 | Z15: 0 | AA15: 0 | AB15: 0 | AC15: 0
C16: Total | D16: =+SUM(D9:D15) -> 3447178.5 | E16: =+SUM(E12:E15) -> 398887.8 | F16: =+SUM(F12:F15) -> 410854.43 | G16: =+SUM(G12:G15) -> 423180.07 | H16: =+SUM(H12:H15) -> 435875.47 | I16: =+SUM(I12:I15) -> 448951.73 | J16: =+SUM(J12:J15) -> 462420.28 | K16: =+SUM(K12:K15) -> 476292.89 | L16: =+SUM(L12:L15) -> 490581.68 | ... AC16: =+SUM(AC12:AC15) -> 810856.77
B17: Impuestos | C17: Base para impuesto | D17: =+'DATOS '!$K$25 -> 921733.5 | E17: =+'DATOS '!$K$25 -> 921733.5 | F17: =+'DATOS '!$K$25 -> 921733.5 | G17: =+'DATOS '!$K$25 -> 921733.5 | H17: =+'DATOS '!$K$25 -> 921733.5 | I17: =+'DATOS '!$K$25 -> 921733.5 | J17: =+'DATOS '!$K$25 -> 921733.5 | K17: =+'DATOS '!$K$25 -> 921733.5 | ... S17: =+'DATOS '!$K$25 -> 921733.5
C18: Amortizacion | D18: =+'DATOS '!$M$25 -> 614427.55 | E18: =+'DATOS '!$M$25 -> 614427.55 | F18: =+'DATOS '!$M$25 -> 614427.55 | G18: 0 | H18: 0 | I18: 0 | J18: 0 | K18: 0 | L18: 0 | M18: 0 | N18: 0
C19: credit Impuesto
C20: total para impuesto | D20: =+D17-D18 -> 307305.95 | E20: =+E17-E18 -> 307305.95 | F20: =+F17-F18 -> 307305.95 | G20: =+G17-G18 -> 921733.5 | H20: =+H17-H18 -> 921733.5 | I20: =+I17-I18 -> 921733.5 | J20: =+J17-J18 -> 921733.5 | K20: =+K17-K18 -> 921733.5 | ... AC20: =+AC17-AC18 -> 0
C21: Valor a pagar | D21: =+D20*0.14-D19 -> 43022.833 | E21: =+E20*0.14-E19 -> 43022.833 | F21: =+F20*0.14-F19 -> 43022.833 | G21: =+G20*0.14-G19 -> 129042.69 | H21: =+H20*0.14-H19 -> 129042.69 | I21: =+I20*0.14-I19 -> 129042.69 | J21: =+J20*0.14-J19 -> 129042.69 | K21: =+K20*0.14-K19 -> 129042.69 | ... AC21: =+AC20*0.14-AC19 -> 0
B22: Flujo caja | D22: =+D7-(D21+D16) -> -3490201.3 | E22: =+E7-(E21+E16) -> #REF! | F22: =+F7-F21-F16 -> #REF! | G22: =+G7-G21-G16 -> #REF! | H22: =+H7-H21-H16 -> #REF! | I22: =+I7-I21-I16 -> #REF! | J22: =+J7-J21-J16 -> #REF! | K22: =+K7-K21-K16 -> #REF! | L22: =+L7-L21-L16 -> #REF! | M22: =+M7-M21-M16 -> #REF! | ... AC22: =+AC7-AC21-AC16 -> #REF!
B23: Tasa de descuento | D23: =1/(1+0.12)^(D2+1) -> 0.89285714 | E23: =1/(1+0.12)^(E2+1) -> 0.79719388 | F23: =1/(1+0.12)^(F2+1) -> 0.71178025 | G23: =1/(1+0.12)^(G2+1) -> 0.63551808 | H23: =1/(1+0.12)^(H2+1) -> 0.56742686 | I23: =1/(1+0.12)^(I2+1) -> 0.50663112 | J23: =1/(1+0.12)^(J2+1) -> 0.45234922 | K23: =1/(1+0.12)^(K2+1) -> 0.40388323 | ... AC23: =1/(1+0.12)^(AC2+1) -> 0.052520809
B24: Valor presente | D24: =+D23*D22 -> -3116251.2 | E24: =+E23*E22 -> #REF! | F24: =+F23*F22 -> #REF! | G24: =+G23*G22 -> #REF! | H24: =+H23*H22 -> #REF! | I24: =+I23*I22 -> #REF! | J24: =+J23*J22 -> #REF! | K24: =+K23*K22 -> #REF! | ... AC24: =+AC23*AC22 -> #REF!
B25: Valor presente neto | D25: =+SUM(D21:AC21) -> 1806623.5
C27: Tasa interna de retorno | D27: =+IRR(D24:AC24) -> #VALUE!
E29: Tasa Descuento | F29: VPN
E30: 0.005 | F30: =+NPV(E30,$E$24:$AC$24)+$D$24 -> #REF!
E31: =+E30+0.01 -> 0.015 | F31: =+NPV(E31,$E$24:$AC$24)+$D$24 -> #REF!
E32: =+E31+0.01 -> 0.025 | F32: =+NPV(E32,$E$24:$AC$24)+$D$24 -> #REF!
E33: =+E32+0.01 -> 0.035 | F33: =+NPV(E33,$E$24:$AC$24)+$D$24 -> #REF!
E34: =+E33+0.01 -> 0.045 | F34: =+NPV(E34,$E$24:$AC$24)+$D$24 -> #REF!
E35: =+E34+0.01 -> 0.055 | F35: =+NPV(E35,$E$24:$AC$24)+$D$24 -> #REF!

Sheet EL400N 
C2: año | D2: 0 | E2: 1 | F2: 2 | G2: 3 | H2: 4 | I2: 5 | J2: 6 | K2: 7 | L2: 8 | M2: 9 | N2: 10 | O2: 11 | P2: 12 | Q2: 13 | R2: 14 | S2: 15 | T2: 16 | U2: 17 | V2: 18 | W2: 19 | X2: 20 | Y2: 21 | Z2: 22 | AA2: 23 | AB2: 24 | AC2: 25
B3: ingresos | C3: kg NH2 | D3: 0 | E3: =+Capacidad!#REF! -> #REF! | F3: =+E3 -> #REF! | G3: =+F3 -> #REF! | H3: =+G3 -> #REF! | I3: =+H3 -> #REF! | J3: =+I3 -> #REF! | K3: =+J3 -> #REF! | L3: =+K3 -> #REF! | M3: =+L3 -> #REF! | ... AC3: =+AB3 -> #REF!
C4: USD$/kg H2 | D4: =+LCOH!O38 -> 9.6320479 | E4: =+D4*1.05 -> 10.11365 | F4: =+E4*1.05 -> 10.619333 | G4: =+F4*1.05 -> 11.150299 | H4: =+G4*1.05 -> 11.707814 | I4: =+H4*1.05 -> 12.293205 | J4: =+I4*1.05 -> 12.907865 | K4: =+J4*1.05 -> 13.553259 | L4: =+K4*1.05 -> 14.230922 | ... AC4: =+AB4*1.05 -> 32.617533
C5: Ventas | D5: =+D4*D3 -> 0 | E5: =+E4*E3 -> #REF! | F5: =+F4*F3 -> #REF! | G5: =+G4*G3 -> #REF! | H5: =+H4*H3 -> #REF! | I5: =+I4*I3 -> #REF! | J5: =+J4*J3 -> #REF! | K5: =+K4*K3 -> #REF! | ... AC5: =+AC4*AC3 -> #REF!
C6: Rescate | D6: 0 | E6: 0 | F6: 0 | G6: 0 | H6: 0 | I6: 0 | J6: 0 | K6: 0 | L6: 0 | M6: 0 | N6: 0 | O6: 0 | P6: 0 | Q6: 0 | R6: 0 | S6: 0 | T6: 0 | U6: 0 | V6: 0 | W6: 0 | X6: 0 | Y6: 0 | Z6: 0 | AA6: 0 | AB6: 0 | AC6: 0
C7: Total | D7: =+SUM(D5:D6) -> 0 | E7: =+SUM(E5:E6) -> #REF! | F7: =+SUM(F5:F6) -> #REF! | G7: =+SUM(G5:G6) -> #REF! | H7: =+SUM(H5:H6) -> #REF! | I7: =+SUM(I5:I6) -> #REF! | J7: =+SUM(J5:J6) -> #REF! | K7: =+SUM(K5:K6) -> #REF! | ... AC7: =+SUM(AC5:AC6) -> #REF!
D8: =+'DATOS '!F48*-1 -> -6471988.3 | E8: =+E7 -> #REF! | F8: =+F7 -> #REF! | G8: =+G7 -> #REF! | H8: =+H7 -> #REF! | I8: =+I7 -> #REF! | J8: =+J7 -> #REF! | K8: =+K7 -> #REF! | L8: =+L7 -> #REF! | ... AC8: =+AC7 -> #REF!
C9: Inversion | D9: =+D8*-1 -> 6471988.3
B10: Gastos | C10: Agua | D10: 0 | E10: =+Capacidad!O6*1 -> 0.016850233 | F10: =+E10 -> 0.016850233 | G10: =+F10 -> 0.016850233 | H10: =+G10 -> 0.016850233 | I10: =+H10 -> 0.016850233 | J10: =+I10 -> 0.016850233 | K10: =+J10 -> 0.016850233 | L10: =+K10 -> 0.016850233 | M10: =+L10 -> 0.016850233 | ... AC10: =+AB10 -> 0.016850233
C11: Electricidad | D11: 0 | E11: =+Capacidad!#REF!*LCOH!#REF! -> #REF! | F11: =+E11 -> #REF! | G11: =+F11 -> #REF! | H11: =+G11 -> #REF! | I11: =+H11 -> #REF! | J11: =+I11 -> #REF! | K11: =+J11 -> #REF! | L11: =+K11 -> #REF! | M11: =+L11 -> #REF! | ... AC11: =+AB11 -> #REF!
C12: Costos Fijos | D12: =+'DATOS '!F44 -> 288928.05 | E12: =+D12*1.03 -> 297595.89 | F12: =+E12*1.03 -> 306523.77 | G12: =+F12*1.03 -> 315719.48 | H12: =+G12*1.03 -> 325191.07 | I12: =+H12*1.03 -> 334946.8 | J12: =+I12*1.03 -> 344995.2 | K12: =+J12*1.03 -> 355345.06 | L12: =+K12*1.03 -> 366005.41 | ... AC12: =+AB12*1.03 -> 604951.17
C13: Costos Variables | E13: =+'DATOS '!F45+'DATOS '!F46 -> 404499.27 | F13: =+E13*1.03 -> 416634.25 | G13: =+F13*1.03 -> 429133.28 | H13: =+G13*1.03 -> 442007.27 | I13: =+H13*1.03 -> 455267.49 | J13: =+I13*1.03 -> 468925.52 | K13: =+J13*1.03 -> 482993.28 | L13: =+K13*1.03 -> 497483.08 | M13: =+L13*1.03 -> 512407.57 | ... AC13: =+AB13*1.03 -> 822263.73
C14: Desmantelamiento | D14: 0 | E14: 0 | F14: 0 | G14: 0 | H14: 0 | I14: 0 | J14: 0 | K14: 0 | L14: 0 | M14: 0 | N14: 0 | O14: 0 | P14: 0 | Q14: 0 | R14: 0 | S14: 0 | T14: 0 | U14: 0 | V14: 0 | W14: 0 | X14: 0 | Y14: 0 | Z14: 0 | AA14: 0 | AB14: 0 | AC14: 0
C15: Costo cierre | D15: 0 | E15: 0 | F15: 0 | G15: 0 | H15: 0 | I15: 0 | J15: 0 | K15: 0 | L15: 0 | M15: 0 | N15: 0 | O15: 0 | P15: 0 | Q15: 0 | R15: 0 | S15: 0 | T15: 0 | U15: 0 | V15: 0 | W15: 0 | X15: 0 | Y15: 0 | Z15: 0 | AA15: 0 | AB15: 0 | AC15: 0
C16: Total | D16: =+SUM(D9:D15) -> 6760916.4 | E16: =+SUM(E12:E15) -> 702095.16 | F16: =+SUM(F12:F15) -> 723158.02 | G16: =+SUM(G12:G15) -> 744852.76 | H16: =+SUM(H12:H15) -> 767198.34 | I16: =+SUM(I12:I15) -> 790214.29 | J16: =+SUM(J12:J15) -> 813920.72 | K16: =+SUM(K12:K15) -> 838338.34 | L16: =+SUM(L12:L15) -> 863488.49 | ... AC16: =+SUM(AC12:AC15) -> 1427214.9
B17: Impuestos | C17: Base para impuesto | D17: =+'DATOS '!$K$26 -> 1627090 | E17: =+'DATOS '!$K$26 -> 1627090 | F17: =+'DATOS '!$K$26 -> 1627090 | G17: =+'DATOS '!$K$26 -> 1627090 | H17: =+'DATOS '!$K$26 -> 1627090 | I17: =+'DATOS '!$K$26 -> 1627090 | J17: =+'DATOS '!$K$26 -> 1627090 | K17: =+'DATOS '!$K$26 -> 1627090 | ... S17: =+'DATOS '!$K$26 -> 1627090
C18: Amortizacion | D18: =+'DATOS '!$M$26 -> 1084618.2 | E18: =+'DATOS '!$M$26 -> 1084618.2 | F18: =+'DATOS '!$M$26 -> 1084618.2 | G18: 0 | H18: 0 | I18: 0 | J18: 0 | K18: 0 | L18: 0 | M18: 0 | N18: 0
C19: credit Impuesto
C20: total para impuesto | D20: =+D17-D18 -> 542471.81 | E20: =+E17-E18 -> 542471.81 | F20: =+F17-F18 -> 542471.81 | G20: =+G17-G18 -> 1627090 | H20: =+H17-H18 -> 1627090 | I20: =+I17-I18 -> 1627090 | J20: =+J17-J18 -> 1627090 | K20: =+K17-K18 -> 1627090 | ... AC20: =+AC17-AC18 -> 0
C21: Valor a pagar | D21: =+D20*0.14-D19 -> 75946.053 | E21: =+E20*0.14-E19 -> 75946.053 | F21: =+F20*0.14-F19 -> 75946.053 | G21: =+G20*0.14-G19 -> 227792.6 | H21: =+H20*0.14-H19 -> 227792.6 | I21: =+I20*0.14-I19 -> 227792.6 | J21: =+J20*0.14-J19 -> 227792.6 | K21: =+K20*0.14-K19 -> 227792.6 | ... AC21: =+AC20*0.14-AC19 -> 0
B22: Flujo caja | D22: =+D7-(D21+D16) -> -6836862.4 | E22: =+E7-(E21+E16) -> #REF! | F22: =+F7-F21-F16 -> #REF! | G22: =+G7-G21-G16 -> #REF! | H22: =+H7-H21-H16 -> #REF! | I22: =+I7-I21-I16 -> #REF! | J22: =+J7-J21-J16 -> #REF! | K22: =+K7-K21-K16 -> #REF! | L22: =+L7-L21-L16 -> #REF! | M22: =+M7-M21-M16 -> #REF! | ... AC22: =+AC7-AC21-AC16 -> #REF!
B23: Tasa de descuento | D23: =1/(1+0.12)^(D2+1) -> 0.89285714 | E23: =1/(1+0.12)^(E2+1) -> 0.79719388 | F23: =1/(1+0.12)^(F2+1) -> 0.71178025 | G23: =1/(1+0.12)^(G2+1) -> 0.63551808 | H23: =1/(1+0.12)^(H2+1) -> 0.56742686 | I23: =1/(1+0.12)^(I2+1) -> 0.50663112 | J23: =1/(1+0.12)^(J2+1) -> 0.45234922 | K23: =1/(1+0.12)^(K2+1) -> 0.40388323 | ... AC23: =1/(1+0.12)^(AC2+1) -> 0.052520809
B24: Valor presente | D24: =+D23*D22 -> -6104341.4 | E24: =+E23*E22 -> #REF! | F24: =+F23*F22 -> #REF! | G24: =+G23*G22 -> #REF! | H24: =+H23*H22 -> #REF! | I24: =+I23*I22 -> #REF! | J24: =+J23*J22 -> #REF! | K24: =+K23*K22 -> #REF! | ... AC24: =+AC23*AC22 -> #REF!
B25: Valor presente neto | D25: =+SUM(D21:AC21) -> 3189142
C27: Tasa interna de retorno | D27: =+IRR(D24:AC24) -> #VALUE!
E29: Tasa Descuento | F29: VPN
E30: 0.005 | F30: =+NPV(E30,$E$24:$AC$24)+$D$24 -> #REF!
E31: =+E30+0.01 -> 0.015 | F31: =+NPV(E31,$E$24:$AC$24)+$D$24 -> #REF!
E32: =+E31+0.01 -> 0.025 | F32: =+NPV(E32,$E$24:$AC$24)+$D$24 -> #REF!
E33: =+E32+0.01 -> 0.035 | F33: =+NPV(E33,$E$24:$AC$24)+$D$24 -> #REF!
E34: =+E33+0.01 -> 0.045 | F34: =+NPV(E34,$E$24:$AC$24)+$D$24 -> #REF!
E35: =+E34+0.01 -> 0.055 | F35: =+NPV(E35,$E$24:$AC$24)+$D$24 -> #REF!
E36: =+E35+0.01 -> 0.065 | F36: =+NPV(E36,$E$24:$AC$24)+$D$24 -> #REF!
E37: =+E36+0.01 -> 0.075 | F37: =+NPV(E37,$E$24:$AC$24)+$D$24 -> #REF!
E38: =+E37+0.01 -> 0.085 | F38: =+NPV(E38,$E$24:$AC$24)+$D$24 -> #REF!
E39: =+E38+0.01 -> 0.095 | F39: =+NPV(E39,$E$24:$AC$24)+$D$24 -> #REF!
E40: =+E39+0.01 -> 0.105 | F40: =+NPV(E40,$E$24:$AC$24)+$D$24 -> #REF!
E41: =+E40+0.01 -> 0.115 | F41: =+NPV(E41,$E$24:$AC$24)+$D$24 -> #REF!
E42: =+E41+0.01 -> 0.125 | F42: =+NPV(E42,$E$24:$AC$24)+$D$24 -> #REF!
... E73: =+E72+0.01 -> 0.435 | F73: =+NPV(E73,$E$24:$AC$24)+$D$24 -> #REF!

Sheet EL600N 
C2: año | D2: 0 | E2: 1 | F2: 2 | G2: 3 | H2: 4 | I2: 5 | J2: 6 | K2: 7 | L2: 8 | M2: 9 | N2: 10 | O2: 11 | P2: 12 | Q2: 13 | R2: 14 | S2: 15 | T2: 16 | U2: 17 | V2: 18 | W2: 19 | X2: 20 | Y2: 21 | Z2: 22 | AA2: 23 | AB2: 24 | AC2: 25
B3: ingresos | C3: kg NH2 | D3: 0 | E3: =+Capacidad!#REF! -> #REF! | F3: =+E3 -> #REF! | G3: =+F3 -> #REF! | H3: =+G3 -> #REF! | I3: =+H3 -> #REF! | J3: =+I3 -> #REF! | K3: =+J3 -> #REF! | L3: =+K3 -> #REF! | M3: =+L3 -> #REF! | ... AC3: =+AB3 -> #REF!
C4: USD$/kg H2 | D4: =+LCOH!O38 -> 9.6320479 | E4: =+D4*1.05 -> 10.11365 | F4: =+E4*1.05 -> 10.619333 | G4: =+F4*1.05 -> 11.150299 | H4: =+G4*1.05 -> 11.707814 | I4: =+H4*1.05 -> 12.293205 | J4: =+I4*1.05 -> 12.907865 | K4: =+J4*1.05 -> 13.553259 | L4: =+K4*1.05 -> 14.230922 | ... AC4: =+AB4*1.05 -> 32.617533
C5: Ventas | D5: =+D4*D3 -> 0 | E5: =+E4*E3 -> #REF! | F5: =+F4*F3 -> #REF! | G5: =+G4*G3 -> #REF! | H5: =+H4*H3 -> #REF! | I5: =+I4*I3 -> #REF! | J5: =+J4*J3 -> #REF! | K5: =+K4*K3 -> #REF! | ... AC5: =+AC4*AC3 -> #REF!
C6: Rescate | D6: 0 | E6: 0 | F6: 0 | G6: 0 | H6: 0 | I6: 0 | J6: 0 | K6: 0 | L6: 0 | M6: 0 | N6: 0 | O6: 0 | P6: 0 | Q6: 0 | R6: 0 | S6: 0 | T6: 0 | U6: 0 | V6: 0 | W6: 0 | X6: 0 | Y6: 0 | Z6: 0 | AA6: 0 | AB6: 0 | AC6: 0
C7: Total | D7: =+SUM(D5:D6) -> 0 | E7: =+SUM(E5:E6) -> #REF! | F7: =+SUM(F5:F6) -> #REF! | G7: =+SUM(G5:G6) -> #REF! | H7: =+SUM(H5:H6) -> #REF! | I7: =+SUM(I5:I6) -> #REF! | J7: =+SUM(J5:J6) -> #REF! | K7: =+SUM(K5:K6) -> #REF! | ... AC7: =+SUM(AC5:AC6) -> #REF!
D8: =+'DATOS '!F64*-1 -> -9114780.1 | E8: =+E7 -> #REF! | F8: =+F7 -> #REF! | G8: =+G7 -> #REF! | H8: =+H7 -> #REF! | I8: =+I7 -> #REF! | J8: =+J7 -> #REF! | K8: =+K7 -> #REF! | L8: =+L7 -> #REF! | ... AC8: =+AC7 -> #REF!
C9: Inversion | D9: =+D8*-1 -> 9114780.1
B10: Gastos | C10: Agua | D10: 0 | E10: =+Capacidad!O7*1 -> 0.022437209 | F10: =+E10 -> 0.022437209 | G10: =+F10 -> 0.022437209 | H10: =+G10 -> 0.022437209 | I10: =+H10 -> 0.022437209 | J10: =+I10 -> 0.022437209 | K10: =+J10 -> 0.022437209 | L10: =+K10 -> 0.022437209 | M10: =+L10 -> 0.022437209 | ... AC10: =+AB10 -> 0.022437209
C11: Electricidad | D11: 0 | E11: =+Capacidad!#REF!*LCOH!#REF! -> #REF! | F11: =+E11 -> #REF! | G11: =+F11 -> #REF! | H11: =+G11 -> #REF! | I11: =+H11 -> #REF! | J11: =+I11 -> #REF! | K11: =+J11 -> #REF! | L11: =+K11 -> #REF! | M11: =+L11 -> #REF! | ... AC11: =+AB11 -> #REF!
C12: Costos Fijos | D12: =+'DATOS '!F60 -> 406909.83 | E12: =+D12*1.03 -> 419117.12 | F12: =+E12*1.03 -> 431690.63 | G12: =+F12*1.03 -> 444641.35 | H12: =+G12*1.03 -> 457980.59 | I12: =+H12*1.03 -> 471720.01 | J12: =+I12*1.03 -> 485871.61 | K12: =+J12*1.03 -> 500447.76 | L12: =+K12*1.03 -> 515461.19 | ... AC12: =+AB12*1.03 -> 851978.81
C13: Costos Variables | E13: =+'DATOS '!F61+'DATOS '!F62 -> 569673.76 | F13: =+E13*1.03 -> 586763.97 | G13: =+F13*1.03 -> 604366.89 | H13: =+G13*1.03 -> 622497.89 | I13: =+H13*1.03 -> 641172.83 | J13: =+I13*1.03 -> 660408.01 | K13: =+J13*1.03 -> 680220.26 | L13: =+K13*1.03 -> 700626.86 | M13: =+L13*1.03 -> 721645.67 | ... AC13: =+AB13*1.03 -> 1158029.5
C14: Desmantelamiento | D14: 0 | E14: 0 | F14: 0 | G14: 0 | H14: 0 | I14: 0 | J14: 0 | K14: 0 | L14: 0 | M14: 0 | N14: 0 | O14: 0 | P14: 0 | Q14: 0 | R14: 0 | S14: 0 | T14: 0 | U14: 0 | V14: 0 | W14: 0 | X14: 0 | Y14: 0 | Z14: 0 | AA14: 0 | AB14: 0 | AC14: 0
C15: Costo cierre | D15: 0 | E15: 0 | F15: 0 | G15: 0 | H15: 0 | I15: 0 | J15: 0 | K15: 0 | L15: 0 | M15: 0 | N15: 0 | O15: 0 | P15: 0 | Q15: 0 | R15: 0 | S15: 0 | T15: 0 | U15: 0 | V15: 0 | W15: 0 | X15: 0 | Y15: 0 | Z15: 0 | AA15: 0 | AB15: 0 | AC15: 0
C16: Total | D16: =+SUM(D9:D15) -> 9521689.9 | E16: =+SUM(E12:E15) -> 988790.87 | F16: =+SUM(F12:F15) -> 1018454.6 | G16: =+SUM(G12:G15) -> 1049008.2 | H16: =+SUM(H12:H15) -> 1080478.5 | I16: =+SUM(I12:I15) -> 1112892.8 | J16: =+SUM(J12:J15) -> 1146279.6 | K16: =+SUM(K12:K15) -> 1180668 | L16: =+SUM(L12:L15) -> 1216088.1 | ... AC16: =+SUM(AC12:AC15) -> 2010008.3
B17: Impuestos | C17: Base para impuesto | D17: =+'DATOS '!$K$27 -> 2285585 | E17: =+'DATOS '!$K$27 -> 2285585 | F17: =+'DATOS '!$K$27 -> 2285585 | G17: =+'DATOS '!$K$27 -> 2285585 | H17: =+'DATOS '!$K$27 -> 2285585 | I17: =+'DATOS '!$K$27 -> 2285585 | J17: =+'DATOS '!$K$27 -> 2285585 | K17: =+'DATOS '!$K$27 -> 2285585 | ... S17: =+'DATOS '!$K$27 -> 2285585
C18: Amortizacion | D18: =+'DATOS '!$M$27 -> 1523571 | E18: =+'DATOS '!$M$27 -> 1523571 | F18: =+'DATOS '!$M$27 -> 1523571 | G18: 0 | H18: 0 | I18: 0 | J18: 0 | K18: 0 | L18: 0 | M18: 0 | N18: 0
C19: credit Impuesto | D19: =+'DATOS '!M28 -> 1130309.3
C20: total para impuesto | D20: =+D17-D18 -> 762014.04 | E20: =+E17-E18 -> 762014.04 | F20: =+F17-F18 -> 762014.04 | G20: =+G17-G18 -> 2285585 | H20: =+H17-H18 -> 2285585 | I20: =+I17-I18 -> 2285585 | J20: =+J17-J18 -> 2285585 | K20: =+K17-K18 -> 2285585 | ... AC20: =+AC17-AC18 -> 0
C21: Valor a pagar | D21: =+D20*0.14-D19 -> -1023627.3 | E21: =+E20*0.14-E19 -> 106681.97 | F21: =+F20*0.14-F19 -> 106681.97 | G21: =+G20*0.14-G19 -> 319981.9 | H21: =+H20*0.14-H19 -> 319981.9 | I21: =+I20*0.14-I19 -> 319981.9 | J21: =+J20*0.14-J19 -> 319981.9 | K21: =+K20*0.14-K19 -> 319981.9 | ... AC21: =+AC20*0.14-AC19 -> 0
B22: Flujo caja | D22: =+D7-(D21+D16) -> -8498062.6 | E22: =+E7-(E21+E16) -> #REF! | F22: =+F7-F21-F16 -> #REF! | G22: =+G7-G21-G16 -> #REF! | H22: =+H7-H21-H16 -> #REF! | I22: =+I7-I21-I16 -> #REF! | J22: =+J7-J21-J16 -> #REF! | K22: =+K7-K21-K16 -> #REF! | L22: =+L7-L21-L16 -> #REF! | M22: =+M7-M21-M16 -> #REF! | ... AC22: =+AC7-AC21-AC16 -> #REF!
B23: Tasa de descuento | D23: =1/(1+0.12)^(D2+1) -> 0.89285714 | E23: =1/(1+0.12)^(E2+1) -> 0.79719388 | F23: =1/(1+0.12)^(F2+1) -> 0.71178025 | G23: =1/(1+0.12)^(G2+1) -> 0.63551808 | H23: =1/(1+0.12)^(H2+1) -> 0.56742686 | I23: =1/(1+0.12)^(I2+1) -> 0.50663112 | J23: =1/(1+0.12)^(J2+1) -> 0.45234922 | K23: =1/(1+0.12)^(K2+1) -> 0.40388323 | ... AC23: =1/(1+0.12)^(AC2+1) -> 0.052520809
B24: Valor presente | D24: =+D23*D22 -> -7587555.9 | E24: =+E23*E22 -> #REF! | F24: =+F23*F22 -> #REF! | G24: =+G23*G22 -> #REF! | H24: =+H23*H22 -> #REF! | I24: =+I23*I22 -> #REF! | J24: =+J23*J22 -> #REF! | K24: =+K23*K22 -> #REF! | ... AC24: =+AC23*AC22 -> #REF!
B25: Valor presente neto | D25: =+SUM(D21:AC21) -> 3349501.3
C27: Tasa interna de retorno | D27: =+IRR(D24:AC24) -> #VALUE!
E29: Tasa Descuento | F29: VPN
E30: 0.005 | F30: =+NPV(E30,$E$24:$AC$24)+$D$24 -> #REF!
E31: =+E30+0.01 -> 0.015 | F31: =+NPV(E31,$E$24:$AC$24)+$D$24 -> #REF!
E32: =+E31+0.01 -> 0.025 | F32: =+NPV(E32,$E$24:$AC$24)+$D$24 -> #REF!
E33: =+E32+0.01 -> 0.035 | F33: =+NPV(E33,$E$24:$AC$24)+$D$24 -> #REF!
E34: =+E33+0.01 -> 0.045 | F34: =+NPV(E34,$E$24:$AC$24)+$D$24 -> #REF!
E35: =+E34+0.01 -> 0.055 | F35: =+NPV(E35,$E$24:$AC$24)+$D$24 -> #REF!
E36: =+E35+0.01 -> 0.065 | F36: =+NPV(E36,$E$24:$AC$24)+$D$24 -> #REF!
E37: =+E36+0.01 -> 0.075 | F37: =+NPV(E37,$E$24:$AC$24)+$D$24 -> #REF!
E38: =+E37+0.01 -> 0.085 | F38: =+NPV(E38,$E$24:$AC$24)+$D$24 -> #REF!
E39: =+E38+0.01 -> 0.095 | F39: =+NPV(E39,$E$24:$AC$24)+$D$24 -> #REF!
E40: =+E39+0.01 -> 0.105 | F40: =+NPV(E40,$E$24:$AC$24)+$D$24 -> #REF!
E41: =+E40+0.01 -> 0.115 | F41: =+NPV(E41,$E$24:$AC$24)+$D$24 -> #REF!
E42: =+E41+0.01 -> 0.125 | F42: =+NPV(E42,$E$24:$AC$24)+$D$24 -> #REF!
... E88: =+E87+0.01 -> 0.585 | F88: =+NPV(E88,$E$24:$AC$24)+$D$24 -> #REF!

Sheet EL100N-EL200N
C2: año | D2: 0 | E2: 1 | F2: 2 | G2: 3 | H2: 4 | I2: 5 | J2: 6 | K2: 7 | L2: 8 | M2: 9 | N2: 10 | O2: 11 | P2: 12 | Q2: 13 | R2: 14 | S2: 15 | T2: 16 | U2: 17 | V2: 18 | W2: 19 | X2: 20 | Y2: 21 | Z2: 22 | AA2: 23 | AB2: 24 | AC2: 25
B3: ingresos | C3: kg NH2 | D3: 0 | E3: =+Capacidad!C8*365 -> 235425 | F3: =+E3 -> 235425 | G3: =+F3 -> 235425 | H3: =+G3 -> 235425 | I3: =+H3 -> 235425 | J3: =+I3 -> 235425 | K3: =+J3 -> 235425 | L3: =+K3 -> 235425 | M3: =+L3 -> 235425 | ... AC3: =+AB3 -> 235425
C4: USD$/kg H2 | D4: =+LCOH!O38 -> 9.6320479 | E4: =+D4*1.05 -> 10.11365 | F4: =+E4*1.05 -> 10.619333 | G4: =+F4*1.05 -> 11.150299 | H4: =+G4*1.05 -> 11.707814 | I4: =+H4*1.05 -> 12.293205 | J4: =+I4*1.05 -> 12.907865 | K4: =+J4*1.05 -> 13.553259 | L4: =+K4*1.05 -> 14.230922 | ... AC4: =+AB4*1.05 -> 32.617533
C5: Ventas | D5: =+D4*D3 -> 0 | E5: =+E4*E3 -> 2381006.1 | F5: =+F4*F3 -> 2500056.4 | G5: =+G4*G3 -> 2625059.2 | H5: =+H4*H3 -> 2756312.2 | I5: =+I4*I3 -> 2894127.8 | J5: =+J4*J3 -> 3038834.2 | K5: =+K4*K3 -> 3190775.9 | ... AC5: =+AC4*AC3 -> 7678982.7
C6: Rescate | D6: 0 | E6: 0 | F6: 0 | G6: 0 | H6: 0 | I6: 0 | J6: 0 | K6: 0 | L6: 0 | M6: 0 | N6: 0 | O6: 0 | P6: 0 | Q6: 0 | R6: 0 | S6: 0 | T6: 0 | U6: 0 | V6: 0 | W6: 0 | X6: 0 | Y6: 0 | Z6: 0 | AA6: 0 | AB6: 0 | AC6: 0
C7: Total | D7: =+SUM(D5:D6) -> 0 | E7: =+SUM(E5:E6) -> 2381006.1 | F7: =+SUM(F5:F6) -> 2500056.4 | G7: =+SUM(G5:G6) -> 2625059.2 | H7: =+SUM(H5:H6) -> 2756312.2 | I7: =+SUM(I5:I6) -> 2894127.8 | J7: =+SUM(J5:J6) -> 3038834.2 | K7: =+SUM(K5:K6) -> 3190775.9 | ... AC7: =+SUM(AC5:AC6) -> 7678982.7
D8: =+'DATOS '!F81*-1 -> -5914526.4 | E8: =+E7 -> 2381006.1 | F8: =+F7 -> 2500056.4 | G8: =+G7 -> 2625059.2 | H8: =+H7 -> 2756312.2 | I8: =+I7 -> 2894127.8 | J8: =+J7 -> 3038834.2 | K8: =+K7 -> 3190775.9 | L8: =+L7 -> 3350314.7 | ... AC8: =+AC7 -> 7678982.7
C9: Inversion | D9: =+D8*-1 -> 5914526.4
B10: Gastos | C10: Interes_prestamo | D10: 0 | E10: =$G$11*0.07 -> 0 | F10: =$G$11*0.07 -> 0 | G10: =$G$11*0.07 -> 0 | H10: =$G$11*0.07 -> 0 | I10: =$G$11*0.07 -> 0 | J10: =$G$11*0.07 -> 0 | K10: =$G$11*0.07 -> 0 | L10: =$G$11*0.07 -> 0 | ... AC10: =$G$11*0.07 -> 0
C11: Pago_prestamo | D11: 0 | E11: 0 | F11: 0 | G11: 0 | H11: 0 | I11: 0 | J11: 0 | K11: 0 | L11: 0 | M11: 0 | N11: 0 | O11: 0 | P11: 0 | Q11: 0 | R11: 0 | S11: 0 | T11: 0 | U11: 0 | V11: 0 | W11: 0 | X11: 0 | Y11: 0 | Z11: 0 | AA11: 0 | AB11: 0 | AC11: 0
C12: Costos Fijos | D12: =+'DATOS '!F77 -> 264041.36 | E12: =+D12*1.03 -> 271962.6 | F12: =+E12*1.03 -> 280121.48 | G12: =+F12*1.03 -> 288525.12 | H12: =+G12*1.03 -> 297180.87 | I12: =+H12*1.03 -> 306096.3 | J12: =+I12*1.03 -> 315279.19 | K12: =+J12*1.03 -> 324737.56 | L12: =+K12*1.03 -> 334479.69 | ... AC12: =+AB12*1.03 -> 552843.97
C13: Costos Variables | E13: =+'DATOS '!F78+'DATOS '!F79 -> 369657.9 | F13: =+E13*1.03 -> 380747.64 | G13: =+F13*1.03 -> 392170.07 | H13: =+G13*1.03 -> 403935.17 | I13: =+H13*1.03 -> 416053.22 | J13: =+I13*1.03 -> 428534.82 | K13: =+J13*1.03 -> 441390.87 | L13: =+K13*1.03 -> 454632.59 | M13: =+L13*1.03 -> 468271.57 | ... AC13: =+AB13*1.03 -> 751438.4
C14: Desmantelamiento | D14: 0 | E14: 0 | F14: 0 | G14: 0 | H14: 0 | I14: 0 | J14: 0 | K14: 0 | L14: 0 | M14: 0 | N14: 0 | O14: 0 | P14: 0 | Q14: 0 | R14: 0 | S14: 0 | T14: 0 | U14: 0 | V14: 0 | W14: 0 | X14: 0 | Y14: 0 | Z14: 0 | AA14: 0 | AB14: 0 | AC14: 0
C15: Costo cierre | D15: 0 | E15: 0 | F15: 0 | G15: 0 | H15: 0 | I15: 0 | J15: 0 | K15: 0 | L15: 0 | M15: 0 | N15: 0 | O15: 0 | P15: 0 | Q15: 0 | R15: 0 | S15: 0 | T15: 0 | U15: 0 | V15: 0 | W15: 0 | X15: 0 | Y15: 0 | Z15: 0 | AA15: 0 | AB15: 0 | AC15: 0
C16: Total | D16: =+SUM(D9:D15) -> 6178567.8 | E16: =+SUM(E12:E15) -> 641620.5 | F16: =+SUM(F12:F15) -> 660869.11 | G16: =+SUM(G12:G15) -> 680695.19 | H16: =+SUM(H12:H15) -> 701116.04 | I16: =+SUM(I12:I15) -> 722149.52 | J16: =+SUM(J12:J15) -> 743814.01 | K16: =+SUM(K12:K15) -> 766128.43 | L16: =+SUM(L12:L15) -> 789112.28 | ... AC16: =+SUM(AC12:AC15) -> 1304282.4
B17: Impuestos | C17: Base para impuesto | D17: =+'DATOS '!$K$28 -> 1695633.5 | E17: =+'DATOS '!$K$28 -> 1695633.5 | F17: =+'DATOS '!$K$28 -> 1695633.5 | G17: =+'DATOS '!$K$28 -> 1695633.5 | H17: =+'DATOS '!$K$28 -> 1695633.5 | I17: =+'DATOS '!$K$28 -> 1695633.5 | J17: =+'DATOS '!$K$28 -> 1695633.5 | K17: =+'DATOS '!$K$28 -> 1695633.5 | ... S17: =+'DATOS '!$K$28 -> 1695633.5
C18: Amortizacion | D18: =+'DATOS '!$M$28 -> 1130309.3 | E18: =+'DATOS '!$M$28 -> 1130309.3 | F18: =+'DATOS '!$M$28 -> 1130309.3 | G18: 0 | H18: 0 | I18: 0 | J18: 0 | K18: 0 | L18: 0 | M18: 0 | N18: 0
C19: credit Impuesto | D19: =+'DATOS '!M28 -> 1130309.3
C20: total para impuesto | D20: =+D17-D18 -> 565324.21 | E20: =+E17-E18 -> 565324.21 | F20: =+F17-F18 -> 565324.21 | G20: =+G17-G18 -> 1695633.5 | H20: =+H17-H18 -> 1695633.5 | I20: =+I17-I18 -> 1695633.5 | J20: =+J17-J18 -> 1695633.5 | K20: =+K17-K18 -> 1695633.5 | ... AC20: =+AC17-AC18 -> 0
C21: Valor a pagar | D21: =+D20*0.14-D19 -> -1051163.9 | E21: =+E20*0.14-E19 -> 79145.389 | F21: =+F20*0.14-F19 -> 79145.389 | G21: =+G20*0.14-G19 -> 237388.69 | H21: =+H20*0.14-H19 -> 237388.69 | I21: =+I20*0.14-I19 -> 237388.69 | J21: =+J20*0.14-J19 -> 237388.69 | K21: =+K20*0.14-K19 -> 237388.69 | ... AC21: =+AC20*0.14-AC19 -> 0
B22: Flujo caja | D22: =+D7-(D21+D16) -> -5127403.9 | E22: =+E7-(E21+E16) -> 1660240.2 | F22: =+F7-F21-F16 -> 1760041.9 | G22: =+G7-G21-G16 -> 1706975.4 | H22: =+H7-H21-H16 -> 1817807.5 | I22: =+I7-I21-I16 -> 1934589.6 | J22: =+J7-J21-J16 -> 2057631.5 | K22: =+K7-K21-K16 -> 2187258.8 | L22: =+L7-L21-L16 -> 2323813.7 | M22: =+M7-M21-M16 -> 2467656.1 | ... AC22: =+AC7-AC21-AC16 -> 6374700.3
B23: Tasa de descuento | D23: =1/(1+0.12)^(D2+1) -> 0.89285714 | E23: =1/(1+0.12)^(E2+1) -> 0.79719388 | F23: =1/(1+0.12)^(F2+1) -> 0.71178025 | G23: =1/(1+0.12)^(G2+1) -> 0.63551808 | H23: =1/(1+0.12)^(H2+1) -> 0.56742686 | I23: =1/(1+0.12)^(I2+1) -> 0.50663112 | J23: =1/(1+0.12)^(J2+1) -> 0.45234922 | K23: =1/(1+0.12)^(K2+1) -> 0.40388323 | ... AC23: =1/(1+0.12)^(AC2+1) -> 0.052520809
B24: Valor presente | D24: =+D23*D22 -> -4578039.2 | E24: =+E23*E22 -> 1323533.3 | F24: =+F23*F22 -> 1252763.1 | G24: =+G23*G22 -> 1084813.7 | H24: =+H23*H22 -> 1031472.8 | I24: =+I23*I22 -> 980123.29 | J24: =+J23*J22 -> 930767.99 | K24: =+K23*K22 -> 883397.14 | ... AC24: =+AC23*AC22 -> 334804.42
B25: Valor presente neto | D25: =+SUM(D21:AC21) -> 2193179.8
C27: Tasa interna de retorno | D27: =+IRR(D24:AC24) -> 0.22221498
E29: Tasa Descuento | F29: VPN
E30: 0.005 | F30: =+NPV(E30,$E$24:$AC$24)+$D$24 -> 12092175
E31: =+E30+0.01 -> 0.015 | F31: =+NPV(E31,$E$24:$AC$24)+$D$24 -> 10553416
E32: =+E31+0.01 -> 0.025 | F32: =+NPV(E32,$E$24:$AC$24)+$D$24 -> 9230479.4
E33: =+E32+0.01 -> 0.035 | F33: =+NPV(E33,$E$24:$AC$24)+$D$24 -> 8086861.1
E34: =+E33+0.01 -> 0.045 | F34: =+NPV(E34,$E$24:$AC$24)+$D$24 -> 7092965.8
E35: =+E34+0.01 -> 0.055 | F35: =+NPV(E35,$E$24:$AC$24)+$D$24 -> 6224691.8
E36: =+E35+0.01 -> 0.065 | F36: =+NPV(E36,$E$24:$AC$24)+$D$24 -> 5462324.2
E37: =+E36+0.01 -> 0.075 | F37: =+NPV(E37,$E$24:$AC$24)+$D$24 -> 4789666.1
E38: =+E37+0.01 -> 0.085 | F38: =+NPV(E38,$E$24:$AC$24)+$D$24 -> 4193353
E39: =+E38+0.01 -> 0.095 | F39: =+NPV(E39,$E$24:$AC$24)+$D$24 -> 3662309.4
E40: =+E39+0.01 -> 0.105 | F40: =+NPV(E40,$E$24:$AC$24)+$D$24 -> 3187318.4
E41: =+E40+0.01 -> 0.115 | F41: =+NPV(E41,$E$24:$AC$24)+$D$24 -> 2760676.8
E42: =+E41+0.01 -> 0.125 | F42: =+NPV(E42,$E$24:$AC$24)+$D$24 -> 2375920.1
... E88: =+E87+0.01 -> 0.585 | F88: =+NPV(E88,$E$24:$AC$24)+$D$24 -> -2564277.1

Sheet LCOH Resultados 
C8: Datos de | D8: Electrolizador /Fuente | E8: LCOH TOTAL (USD/kg)
C9: Propia | D9: EL100N | E9: 39.01
C10: Propia | D10: EL200N | E10: 27.63
C11: Propia | D11: EL400N | E11: =+LCOH!D40 -> 10.04
C12: Propia | D12: EL600N | E12: =+LCOH!D41 -> 9.63
C13: Propia | D13: EL100N+EL200N | E13: 28.09
C14: Gallardo-2022 | D14: GIZ 2018 | E14: 5.8
C15: Gallardo-2022 | D15: In - data 2019 | E15: 3.9
C16: Gallardo-2022 | D16: Implementa Sur 2019 | E16: 3.52
C17: Gallardo-2022 | D17: Tractebel - Engie 2018 | E17: 3.03
C18: Gallardo-2022 | D18: Julien Armijo IEA 2019 | E18: 2.19
C19: Cobo Angel et al2022 | D19: Potencial de oferta de H2 en Colombia | E19: 5.6

Sheet EmisionesCO2
A1: EMISIONES DIRECTAS DE GEI - ALCANCE 1 | G1: FE CO2 (extraído de tabla 5 y 6 del Informe final FECOC)
A2: Descripción | C2: Emisiones CO2 (TnCO2) | D2: Emisiones otros GEI (TnCO2 e) | E2: Emisiones GEI (TnCO2 e) | G2: Combustible | H2: gCO2/m3
A3: Combustión fija | G3: Biodiesel palma | H3: 335.082
A4: Combustión Móvil | G4: Gasolina motor | H4: 282.912
A5: Emisiones fugitivas | G5: Diesel | H5: 296.273
A6: Total (TnCO2 e) | C6: 0 | D6: 0 | E6: 0 | G6: Gasolina comercial
A9: No se manipula | B9: Se ingresan datos
A10: Emisiones de GEI (t GEI) | B10: Dato de actividad | C10: Factor de Emisión
A11: 0
I16: 13368000
I17: 39.6
I18: =+I16/I17 -> 337575.76

Sheet DesgloseCostos EZ
B1: Costos de un electrolizador PEM (en USD)
B2: PEM Ez Cost Breakdown
C3: $ 1.500.000
C4: Stack components | D4: 0.45 | E4: $ 675.000 | G4: Balance of Plant | H4: 0.55 | I4: $ 825.000
B5: 52.5 | C5: Bipolar plates (BPs) | D5: 23.6 | E5: $ 354.375 | F5: 50 | G5: Power supply | H5: 27.5 | I5: $ 412.500
B6: 16.5 | C6: Porous Transport Layer (PTLs) | D6: 7.43 | E6: $ 111.375 | F6: 22 | G6: Deionised water circulation | H6: 12.1 | I6: $ 181.500
B7: 2.5 | C7: Small parts (sealing, frames) | D7: 1.13 | E7: $ 16.875 | F7: 20 | G7: Hydrogen processing | H7: 11 | I7: $ 165.000
B8: 2.5 | C8: Stack assembly and end plates | D8: 1.13 | E8: $ 16.875 | F8: 8 | G8: Cooling | H8: 4.4 | I8: $ 66.000
B9: 2 | C9: Protective coating BPs | D9: 0.9 | E9: $ 13.500
B10: 24 | C10: Catalyst Coated Membrane | D10: 10.8 | E10: $ 162.000
B11: 42 | C11: Manufacturing | D11: 4.54 | E11: $ 68.040
B12: 24 | C12: Iridium | D12: 2.59 | E12: $ 38.880
B13: 21 | C13: PFSA Membrane | D13: 2.27 | E13: $ 34.020
B14: 13 | C14: Platinum | D14: 1.4 | E14: $ 21.060
I16: 4200 | J16: $ 285.768.000
J17: $ 142.884.000
