Workbook

Sheet SloPri
A1: CUADRO DE AREA SUELO Y PROPIEDAD PRIVADA
B2: TOTAL | G2: UNIDAD 1 | J2: UNIDAD 2
A3: MANZANA | B3: NUMERO DE PREDIOS | C3: AREA SUELO | D3: % | E3: AREA CONSTRUIDA | F3: PROMEDIO DE PISOS | G3: NUMERO DE PREDIOS | H3: AREA SUELO | I3: % | J3: NUMERO DE PREDIOS | K3: AREA SUELO | L3: %
A4: 9206015 | B4: 36 | C4: =+VrSlo!C3 -> 2569.3 | D4: 1 | E4: =+VrSlo!D3 -> 7263.25 | F4: 3 | G4: 24 | H4: 1597.65 | I4: =+H4/C4 -> 0.62182306 | J4: =+B4-G4 -> 12 | K4: =970.02+1.65 -> 971.67 | L4: =+K4/C4 -> 0.37818472 | M4: =+H4+K4 -> 2569.32
A5: 9206016 | B5: 40 | C5: =+VrSlo!C4 -> 2755.67 | D5: 1 | E5: =+VrSlo!D4 -> 7040.76 | F5: 3 | G5: 25 | H5: 1585.29 | I5: =+H5/C5 -> 0.57528296 | J5: =+B5-G5 -> 15 | K5: 1170.36 | L5: =+K5/C5 -> 0.42470978 | M5: =+H5+K5 -> 2755.65
A6: 9206017 | B6: 46 | C6: =+VrSlo!C5 -> 2721.69 | D6: 1 | E6: =+VrSlo!D5 -> 7184.01 | F6: 3 | G6: 24 | H6: 1458.39 | I6: =+H6/C6 -> 0.53583986 | J6: =+B6-G6 -> 22 | K6: 1263.3 | L6: =+K6/C6 -> 0.46416014 | M6: =+H6+K6 -> 2721.69
A7: 9206022 | B7: 25 | C7: =+VrSlo!C6 -> 1701 | D7: 1 | E7: =+VrSlo!D6 -> 3999.34 | F7: 2 | G7: 0 | H7: 0 | I7: =+H7/C7 -> 0 | J7: =+B7-G7 -> 25 | K7: =+C7 -> 1701 | L7: =+K7/C7 -> 1 | M7: =+H7+K7 -> 1701
A8: 9206023 | B8: 33 | C8: =+VrSlo!C7 -> 2167.43 | D8: 1 | E8: =+VrSlo!D7 -> 5039.96 | F8: 2 | G8: 0 | H8: 0 | I8: =+H8/C8 -> 0 | J8: =+B8-G8 -> 33 | K8: =+C8 -> 2167.43 | L8: =+K8/C8 -> 1 | M8: =+H8+K8 -> 2167.43
A9: 9206025 | B9: 19 | C9: =+VrSlo!C8 -> 1276.04 | D9: 1 | E9: =+VrSlo!D8 -> 3621.02 | F9: 3 | G9: 19 | H9: =+C9 -> 1276.04 | I9: =+H9/C9 -> 1 | J9: =+B9-G9 -> 0 | K9: 0 | L9: =+K9/C9 -> 0 | M9: =+H9+K9 -> 1276.04
A10: 9206026 | B10: 19 | C10: =+VrSlo!C9 -> 1297.48 | D10: 1 | E10: =+VrSlo!D9 -> 4528.31 | F10: 3 | G10: 19 | H10: =+C10 -> 1297.48 | I10: =+H10/C10 -> 1 | J10: =+B10-G10 -> 0 | K10: 0 | L10: =+K10/C10 -> 0 | M10: =+H10+K10 -> 1297.48
A11: 9206027 | B11: 29 | C11: =+VrSlo!C10 -> 2215.18 | D11: 1 | E11: =+VrSlo!D10 -> 5844.15 | F11: 3 | G11: 8 | H11: 721.77 | I11: =+H11/C11 -> 0.32582905 | J11: =+B11-G11 -> 21 | K11: 1493.42 | L11: =+K11/C11 -> 0.67417546 | M11: =+H11+K11 -> 2215.19
A12: 9206028 | B12: 42 | C12: =+VrSlo!C11 -> 2670.26 | D12: 1 | E12: =+VrSlo!D11 -> 7510.25 | F12: 3 | G12: 9 | H12: 718.82 | I12: =+H12/C12 -> 0.26919476 | J12: =+B12-G12 -> 33 | K12: 1951.43 | L12: =+K12/C12 -> 0.73080149 | M12: =+H12+K12 -> 2670.25
A13: TOTALES | B13: =SUM(B4:B12) -> 289 | C13: =SUM(C4:C12) -> 19374.05 | D13: 1 | E13: =SUM(E4:E12) -> 52031.05 | F13: =SUM(F4:F12)/9 -> 2.7777778 | G13: =SUM(G4:G12) -> 128 | H13: =SUM(H4:H12) -> 8655.44 | I13: =+H13/C13 -> 0.44675429 | J13: =SUM(J4:J12) -> 161 | K13: =SUM(K4:K12) -> 10718.61 | L13: =+K13/C13 -> 0.55324571 | M13: =+H13+K13 -> 19374.05 | N13: =+C13-M13 -> 0
A15: CUADRO DE AREAS PROPIEDAD PRIVADA A.M.D.
A16: MANZANA | B16: TOTAL PREDIOS | C16: AREA SUELO | E16: AREA CONSTRUIDA | F16: PROMEDIO DE PISOS
A17: 9206093 | B17: 1 | C17: 799.55 | E17: 833 | F17: 2
D19: UAU 1 | F19: UAU 2
A20: MANZANA | B20: TOTAL PREDIOS | C20: % | D20: PREDIOS | E20: % | F20: PREDIOS | G20: %
A21: 9206015 | B21: 36 | C21: 1 | D21: =+G4 -> 24 | E21: =+D21*C21/B21 -> 0.66666667 | F21: =+J4 -> 12 | G21: =+F21*C21/B21 -> 0.33333333
A22: 9206016 | B22: 40 | C22: 1 | D22: =+G5 -> 25 | E22: =+D22*C22/B22 -> 0.625 | F22: =+J5 -> 15 | G22: =+F22*C22/B22 -> 0.375
A23: 9206017 | B23: 46 | C23: 1 | D23: =+G6 -> 24 | E23: =+D23*C23/B23 -> 0.52173913 | F23: =+J6 -> 22 | G23: =+F23*C23/B23 -> 0.47826087
A24: 9206022 | B24: 25 | C24: 1 | D24: =+G7 -> 0 | E24: =+D24*C24/B24 -> 0 | F24: =+J7 -> 25 | G24: =+F24*C24/B24 -> 1
A25: 9206023 | B25: 33 | C25: 1 | D25: =+G8 -> 0 | E25: =+D25*C25/B25 -> 0 | F25: =+J8 -> 33 | G25: =+F25*C25/B25 -> 1
A26: 9206025 | B26: 19 | C26: 1 | D26: =+G9 -> 19 | E26: =+D26*C26/B26 -> 1 | F26: =+J9 -> 0 | G26: =+F26*C26/B26 -> 0
A27: 9206026 | B27: 19 | C27: 1 | D27: =+G10 -> 19 | E27: =+D27*C27/B27 -> 1 | F27: =+J10 -> 0 | G27: =+F27*C27/B27 -> 0
A28: 9206027 | B28: 29 | C28: 1 | D28: =+G11 -> 8 | E28: =+D28*C28/B28 -> 0.27586207 | F28: =+J11 -> 21 | G28: =+F28*C28/B28 -> 0.72413793
A29: 9206028 | B29: 42 | C29: 1 | D29: =+G12 -> 9 | E29: =+D29*C29/B29 -> 0.21428571 | F29: =+J12 -> 33 | G29: =+F29*C29/B29 -> 0.78571429
A30: TOTAL PREDIOS | B30: =SUM(B21:B29) -> 289 | C30: 1 | D30: =SUM(D21:D29) -> 128 | E30: =+D30*C30/B30 -> 0.44290657 | F30: =SUM(F21:F29) -> 161 | G30: =+F30*C30/B30 -> 0.55709343
A31: TOTAL HOGARES | B31: 535 | C31: 1 | D31: =+B31*E31 -> 236.95502 | E31: =+E30 -> 0.44290657 | F31: =+B31*G31 -> 298.04498 | G31: =+G30 -> 0.55709343
A33: CANTIDADES DE PREDIOS Y HOGARES PARA POLITICA DE MORADORES
A35: DETALLE | B35: UAU 1 | C35: % | D35: UAU 2 | E35: % | F35: TOTAL | G35: %
A36: PREDIOS | B36: =+G13 -> 128 | C36: =+B36/F36 -> 0.44290657 | D36: =+J13 -> 161 | E36: =+D36/F36 -> 0.55709343 | F36: =+B36+D36 -> 289 | G36: =+F36/F36 -> 1
A37: HOGARES | B37: =ROUND(+F37*C37,0) -> 237 | C37: =+C36 -> 0.44290657 | D37: =+ROUND(F37*E37,0) -> 298 | E37: =+E36 -> 0.55709343 | F37: 535 | G37: =+F37/F37 -> 1
B39: UAU 1
C40: PREDIOS | D40: % | E40: HOGARES | F40: %
B41: ETAPA 1 | C41: =+G4+G5+G6 -> 73 | D41: =+C41/C43 -> 0.5703125 | E41: =+ROUND(B37*D41,0) -> 135 | F41: =+E41/E43 -> 0.56962025
B42: ETAPA 2 | C42: =+G9+G10+G11+G12 -> 55 | D42: =+C42/C43 -> 0.4296875 | E42: =+ROUND(B37*D42,0) -> 102 | F42: =+E42/E43 -> 0.43037975
B43: Subtotal | C43: =+C41+C42 -> 128 | D43: =+C43/C43 -> 1 | E43: =+E41+E42 -> 237 | F43: =+E43/E43 -> 1
B45: UAU 2
C46: PREDIOS | D46: % | E46: HOGARES | F46: %
...

Sheet SloPub
A1: CUADRO DE AREAS SUELO PUBLICO EXISTENTE
A2: TOTAL AREA SUELO PUBLICO | B2: =+B4+B17 -> 13040.62
A4: VIAS | B4: =SUM(B5:B15) -> 6654.29
A5: CALLE 129 | B5: 47.81
A6: VIA CALLE 129B | B6: 513.2
A7: VIA CALLE 129C | B7: 680.97
A8: VIA CALLE 129CBIS | B8: 617.94
A9: VIA CARRERA 105A | B9: 327.8
A10: VIA CARRERA 105 BIS | B10: 71.02
A11: VIA CARRERA 105 | B11: 326.21
A12: VIA CARRERA 104F | B12: 1750.9
A13: VIA CARRERA 104D | B13: 692.75
A14: VIA CARRERA 104C | B14: 691.26
A15: VIA CARRERA 104B | B15: 934.43
A17: PARQUES | B17: =SUM(B18:B19) -> 6386.33 | E17: 6793.93 | F17: =+B17-E17 -> -407.6
A18: PARQUE VECINAL AURES II | B18: 3968.9
A19: PARQUE VECINAL LA CONCORDIA | B19: 2417.43

Sheet VrSlo
A1: CALCULO DE VALOR DE PRECIO DE m2 DE SUELO
A2: Manzana | B2: Cantidad Predios | C2: Área Útil Suelo (m2) | D2: Área Construida (m2) | E2: Vr. m2 Comercial Manzana | F2: Vr. Total Manzana | G2: Vr. m2 Terreno | H2: Vr. Total Terreno | I2: Vr. Total Edificaciones
A3: 9206015 | B3: =+'[1]MANZANA 9206015'!$B$41 -> 36 | C3: 2569.3 | D3: 7263.25 | E3: 2153976 | F3: =+E3*C3 -> 5.5342105e+09 | G3: 600000 | H3: =+G3*C3 -> 1541580000 | I3: =+F3-H3 -> 3.9926305e+09
A4: 9206016 | B4: =+'[1]MANZANA 9206016'!$B$45 -> 40 | C4: 2755.67 | D4: 7040.76 | E4: 2121257 | F4: =+E4*C4 -> 5.8454843e+09 | G4: 600000 | H4: =+G4*C4 -> 1653402000 | I4: =+F4-H4 -> 4.1920823e+09
A5: 9206017 | B5: =+'[1]MANZANA 9206017'!$B$51 -> 46 | C5: 2721.69 | D5: 7184.01 | E5: 2160423 | F5: =+E5*C5 -> 5.8800017e+09 | G5: 700000 | H5: =+G5*C5 -> 1905183000 | I5: =+F5-H5 -> 3.9748187e+09
A6: 9206022 | B6: =+'[1]MANZANA 9206022'!$B$30 -> 25 | C6: 1701 | D6: 3999.34 | E6: 2111121 | F6: =+E6*C6 -> 3591016821 | G6: 850000 | H6: =+G6*C6 -> 1445850000 | I6: =+F6-H6 -> 2145166821 | L6: =+K6-K13 -> 0
A7: 9206023 | B7: =+'[1]MANZANA 9206023'!$B$38 -> 33 | C7: =2165.07+2.36 -> 2167.43 | D7: 5039.96 | E7: 2114014 | F7: =+E7*C7 -> 4.5819774e+09 | G7: 630000 | H7: =+G7*C7 -> 1.3654809e+09 | I7: =+F7-H7 -> 3.2164965e+09
A8: 9206025 | B8: =+'[1]MANZANA 9206025'!$B$24 -> 19 | C8: 1276.04 | D8: 3621.02 | E8: 2122222 | F8: =+E8*C8 -> 2.7080402e+09 | G8: 600000 | H8: =+G8*C8 -> 765624000 | I8: =+F8-H8 -> 1.9424162e+09
A9: 9206026 | B9: =+'[1]MANZANA 9206026'!$B$24 -> 19 | C9: 1297.48 | D9: 4528.31 | E9: 2122222 | F9: =+E9*C9 -> 2.7535406e+09 | G9: 600000 | H9: =+G9*C9 -> 778488000 | I9: =+F9-H9 -> 1.9750526e+09
A10: 9206027 | B10: =+'[1]MANZANA 9206027'!$B$34 -> 29 | C10: 2215.18 | D10: 5844.15 | E10: 2114354 | F10: =+E10*C10 -> 4.6836747e+09 | G10: 750000 | H10: =+G10*C10 -> 1.661385e+09 | I10: =+F10-H10 -> 3.0222897e+09
A11: 9206028 | B11: =+'[1]MANZANA 9206028'!$B$47 -> 42 | C11: 2670.26 | D11: 7510.25 | E11: 2157371 | F11: =+E11*C11 -> 5.7607415e+09 | G11: 800000 | H11: =+G11*C11 -> 2.136208e+09 | I11: =+F11-H11 -> 3.6245335e+09
A12: TOTALES | B12: =SUM(B3:B11) -> 289 | C12: =SUM(C3:C11) -> 19374.05 | D12: =SUM(D3:D11) -> 52031.05 | E12: =+F12/C12 -> 2133714.3 | F12: =SUM(F3:F11) -> 4.1338688e+10 | G12: =SUM(G3:G11)/9 -> 681111.11 | H12: =SUM(H3:H11) -> 13253200900 | I12: =SUM(I3:I11) -> 2.8085487e+10
A14: CONDICIONES INICIALES - DIVISIÓN PREDIAL
A15: TOTAL SUELO PRIVADO
A17: UAU | B17: MANZANA | C17: ÁREA PREDIAL | D17: % DE PARTICIPACION EN EL AREA TOTAL | E17: VALOR INICIAL POR m2 | F17: VALOR INICIAL TOTAL ($) (Vi) | G17: % DE PARTICIPACION DEL VALOR TOTAL
A18: UAU 1 | B18: =+SloPri!A4 -> 9206015 | C18: =+SloPri!H4 -> 1597.65 | D18: =+C18/C$35 -> 0.082463398 | E18: 2153976 | F18: =+E18*C18 -> 3.4412998e+09 | G18: =+F18/$F$35 -> 0.083246468
B19: =+SloPri!A5 -> 9206016 | C19: =+SloPri!H5 -> 1585.29 | D19: =+C19/C$35 -> 0.081825431 | E19: 2121257 | F19: =+E19*C19 -> 3.3628075e+09 | G19: =+F19/$F$35 -> 0.081347708
B20: =+SloPri!A6 -> 9206017 | C20: =+SloPri!H6 -> 1458.39 | D20: =+C20/C$35 -> 0.075275433 | E20: 2160423 | F20: =+E20*C20 -> 3.1507393e+09 | G20: =+F20/$F$35 -> 0.07621769
B21: =+SloPri!A9 -> 9206025 | C21: =+SloPri!H9 -> 1276.04 | D21: =+C21/C$35 -> 0.065863358 | E21: 2122222 | F21: =+E21*C21 -> 2.7080402e+09 | G21: =+F21/$F$35 -> 0.065508614
B22: =+SloPri!A10 -> 9206026 | C22: =+SloPri!C10 -> 1297.48 | D22: =+C22/C$35 -> 0.066969993 | E22: 2122222 | F22: =+E22*C22 -> 2.7535406e+09 | G22: =+F22/$F$35 -> 0.066609289
B23: =+SloPri!A11 -> 9206027 | C23: =+SloPri!H11 -> 721.77 | D23: =+C23/C$35 -> 0.037254472 | E23: 2114354 | F23: =+E23*C23 -> 1.5260773e+09 | G23: =+F23/$F$35 -> 0.036916442
B24: =+SloPri!A12 -> 9206028 | C24: =+SloPri!H12 -> 718.82 | D24: =+C24/C$35 -> 0.037102206 | E24: 2157371 | F24: =+E24*C24 -> 1.5507614e+09 | G24: =+F24/$F$35 -> 0.037513562
B25: SUBTOTALES UAU 1 | C25: =SUM(C18:C24) -> 8655.44 | D25: =SUM(D18:D24) -> 0.44675429 | E25: =+F25/C25 -> 2136606.1 | F25: =SUM(F18:F24) -> 1.8493266e+10 | G25: =SUM(G18:G24) -> 0.44735977
A26: UAU 2 | B26: =+SloPri!A4 -> 9206015 | C26: =+SloPri!K4 -> 971.67 | D26: =+C26/C$35 -> 0.050153169 | E26: =+E18 -> 2153976 | F26: =+E26*C26 -> 2.0929539e+09 | G26: =+F26/$F$35 -> 0.050629422
B27: =+SloPri!A5 -> 9206016 | C27: =+SloPri!K5 -> 1170.36 | D27: =+C27/C$35 -> 0.060408639 | E27: =+E19 -> 2121257 | F27: =+E27*C27 -> 2.4826343e+09 | G27: =+F27/$F$35 -> 0.060055954
B28: =+SloPri!A6 -> 9206017 | C28: =+SloPri!K6 -> 1263.3 | D28: =+C28/C$35 -> 0.065205778 | E28: =+E20 -> 2160423 | F28: =+E28*C28 -> 2.7292624e+09 | G28: =+F28/$F$35 -> 0.066021989
B29: =+SloPri!A7 -> 9206022 | C29: =+SloPri!K7 -> 1701 | D29: =+C29/C$35 -> 0.087797853 | E29: 2111121 | F29: =+E29*C29 -> 3591016821 | G29: =+F29/$F$35 -> 0.086868186
B30: =+SloPri!A8 -> 9206023 | C30: =+SloPri!K8 -> 2167.43 | D30: =+C30/C$35 -> 0.11187284 | E30: 2114014 | F30: =+E30*C30 -> 4.5819774e+09 | G30: =+F30/$F$35 -> 0.11083993
B31: =+SloPri!A11 -> 9206027 | C31: =+SloPri!K11 -> 1493.42 | D31: =+C31/C$35 -> 0.077083522 | E31: 2114354 | F31: =+E31*C31 -> 3.1576186e+09 | G31: =+F31/$F$35 -> 0.076384102
B32: =+SloPri!A12 -> 9206028 | C32: =+SloPri!K12 -> 1951.43 | D32: =+C32/C$35 -> 0.10072391 | E32: 2157371 | F32: =+E32*C32 -> 4.2099585e+09 | G32: =+F32/$F$35 -> 0.10184064
B33: SUBTOTALES UAU 2 | C33: =SUM(C26:C32) -> 10718.61 | D33: =+C33/C$35 -> 0.55324571 | E33: =+F33/C33 -> 2131379.1 | F33: =SUM(F26:F32) -> 2.2845422e+10 | G33: =SUM(G26:G32) -> 0.55264023
A35: P.P. | B35: TOTALES | C35: =+C25+C33 -> 19374.05 | D35: =+D25+D33 -> 1 | E35: =+F35/C35 -> 2133714.3 | F35: =+F25+F33 -> 4.1338688e+10 | G35: =+G25+G33 -> 1

Sheet AportSlo
A1: 1. | B1: TOTAL AREA BRUTA POLIGONO DE INTERVENCION | I1: =+D3+I3 -> 33214.66
A3: 2. | B3: AREAS SUELO PUBLICO TOTAL | D3: =+D4+D7 -> 13040.62 | F3: 3. | G3: AREAS SUELO PRIVADO | I3: =+I4+I14 -> 20174.04
A4: 2.1 | B4: Espacio Publico Parques | D4: =+D5+D6 -> 6386.33 | F4: 3.1 | G4: Manzanas Prediales | H4: No. de Predios | I4: =SUM(I5:I13) -> 19374.49
A5: Z.V. PARQUE VECINAL AURES II | D5: 3968.9 | F5: 9206015 | H5: 36 | I5: =2569.3 -> 2569.3
A6: Z.V. PARQUE VECINAL LA CONCORDIA | D6: 2417.43 | F6: 9206016 | H6: 40 | I6: 2755.66
A7: 2.2 | B7: Espacio Publico Vias | D7: =SUM(D8:D18) -> 6654.29 | F7: 9206017 | H7: 46 | I7: 2721.69
A8: CALLE 129 | D8: 47.81 | F8: 9206022 | H8: 25 | I8: 1700.8
A9: VIA CALLE 129B | D9: 513.2 | F9: 9206023 | H9: 33 | I9: 2165.11
A10: VIA CALLE 129C | D10: 680.97 | F10: 9206025 | H10: 19 | I10: =1276.04+0.44 -> 1276.48
A11: VIA CALLE 129CBIS | D11: 617.94 | F11: 9206026 | H11: 19 | I11: 1297.48
A12: VIA CARRERA 105A | D12: 327.8 | F12: 9206027 | H12: 29 | I12: 2215.18
A13: VIA CARRERA 105 BIS | D13: 71.02 | F13: 9206028 | H13: 42 | I13: 2672.79
A14: VIA CARRERA 105 | D14: 326.21 | F14: 3.2 | G14: Parroquia Santa Gertrudis | H14: 1 | I14: 799.55
A15: VIA CARRERA 104F | D15: 1750.9 | F15: 4 | G15: TOTAL AREA DE VERIFICACION DE PLAN PARCIAL | I15: =+I17-I18 -> 32415.11
A16: VIA CARRERA 104D | D16: 692.75
A17: VIA CARRERA 104C | D17: 691.26 | F17: 4.1 | G17: AREA BRUTA | I17: =+I1 -> 33214.66
A18: VIA CARRERA 104B | D18: 934.43 | F18: 4.2 | G18: AREA DE MANEJO DIFERENCIADO A.M.D. | I18: =+I14 -> 799.55
A20: 1. | B20: AREA BRUTA | D20: =+D21+D24 -> 33214.66
A21: 2. | B21: AREAS SUELO PUBLICO TOTAL | D21: =+D22+D23 -> 13040.62
A22: 2.1 | B22: Espacio Público Parques | D22: =+D4 -> 6386.33
A23: 2.2 | B23: Espacio Público Vías | D23: =+D7 -> 6654.29
A24: 3. | B24: AREAS SUELO PRIVADO | D24: =+D25+D26 -> 20174.04
A25: 3.1 | B25: Manzanas Prediales | D25: =+I4 -> 19374.49
A26: 3.2 | B26: Parroquia Santa Gertrudis | D26: 799.55
A28: 4 | B28: AREA DE VERIFICACION P.P. | D28: =+D29-D30 -> 32415.11
A29: 4.1 | B29: AREA BRUTA | D29: =+D20 -> 33214.66
A30: 4.2 | B30: AREA DE MANEJO DIFERENCIADO A.M.D. | D30: =+D26 -> 799.55
B32: AREA BRUTA | D32: =+D29 -> 33214.66
B33: AREA DE MANEJO DIFERENCIADO A.M.D. | D33: =+D30 -> 799.55
B34: AREA DE VERIFICACION P.P. | D34: =+D28 -> 32415.11

Sheet EpEXvsEpPR
A1: ESPACIO PUBLICO EXISTENTE | D1: ESPACIO PUBLICO NUEVO Y REORDENADO | H1: COMPARATIVO ESPACIO PUBLICO | L1: COMPARATIVO ESPACIO PUBLICO
H2: DETALLE | I2: EXISTENTE | J2: PROPUESTO | L2: DETALLE E.P. | M2: EXISTENTE | N2: % | O2: PROPUESTO | P2: %
A3: 1. | B3: ESPACIO PUBLICO TOTAL | C3: =+C5+C9 -> 13040.62 | D3: 2. | E3: ESPACIO PUBLICO TOTAL | F3: =+F5+F9 -> 22305.42 | I3: CANTIDAD | J3: CANTIDAD | L3: E.P. TOTAL | M3: =+M4+M5 -> 13040.62 | N3: =+M3/M3 -> 1 | O3: =+O4+O5 -> 22305.42 | P3: =+O3/O3 -> 1
H4: HOGARES | I4: 535 | J4: 992 | L4: E.P. EFECTIVO | M4: =+C5 -> 6386.33 | N4: =+M4/M3 -> 0.48972595 | O4: =+F5 -> 16803.67 | P4: =+O4/O3 -> 0.7533447
A5: 1.1 | B5: ESPACIO PUBLICO EFECTIVO | C5: =SUM(C6:C7) -> 6386.33 | D5: 2.1 | E5: ESPACIO PUBLICO EFECTIVO | F5: =SUM(F6:F7) -> 16803.67 | H5: HABITANTES POR HOGAR | I5: =+I6/I4 -> 3.7420561 | J5: =+CabxUso!E12 -> 3.0419355 | L5: E.P. VIAS | M5: =+C9 -> 6654.29 | N5: =+M5/M3 -> 0.51027405 | O5: =+F9 -> 5501.75 | P5: =+O5/O3 -> 0.2466553
A6: PARQUE AURES II | C6: =+SloPub!B18 -> 3968.9 | D6: PARQUE ESPACIO PUBLICO PARA EL ENCUENTRO | F6: =+PartSloPyP!C9 -> 6540.14 | H6: TOTAL HABITANTES | I6: 2002 | J6: =+J4*J5 -> 3017.6
A7: PARQUE LA CONCORDIA | C7: =+SloPub!B19 -> 2417.43 | D7: PLAZA ESPACIO PUBLICO PARA EL ENCUENTRO | F7: =+PartSloPyP!C10 -> 10263.53 | H7: ESPACIO PUBLICO TOTAL | I7: =+C3 -> 13040.62 | J7: =+F3 -> 22305.42
H8: INDICE ESPACIO PUBLICO TOTAL | I8: =+I7/I6 -> 6.5137962 | J8: =+J7/J6 -> 7.3917749
A9: 1.2 | B9: ESPACIO PUBLICO VIAS | C9: =SUM(C10:C20) -> 6654.29 | D9: 2.2 | E9: ESPACIO PUBLICO VIAS | F9: =+F10+F12+F14+F16+F18 -> 5501.75 | H9: ESPACIO PUBLICO EFECTIVO | I9: =+C5 -> 6386.33 | J9: =+F5 -> 16803.67
A10: CALLE 129 | C10: 47.81 | D10: AREA PARA CONFORMACION DE PERFIL I6 PARA CALLE 129D | F10: =+PartSloPyP!C4 -> 937.54 | H10: INDICE ESPACIO PUBLICO EFECTIVO | I10: =+I9/I6 -> 3.189975 | J10: =+J9/J6 -> 5.5685545
A11: VIA CALLE 129B | C11: 513.2
A12: VIA CALLE 129C | C12: 680.97 | D12: AMPLIACION ANDEN PARA CONFIGURAR BULEVAR PARA CALLE 129D | F12: =+PartSloPyP!C5 -> 975.23 | H12: AREA PRIVADA AFECTA AL USO PUBLICO
A13: VIA CALLE 129CBIS | C13: 617.94 | H13: DETALLE | I13: EXISTENTE | J13: PROPUESTO
A14: VIA CARRERA 105A | C14: 327.8 | D14: AREA PARA CONFORMACION PERFIL I6 PARA CALLE 129 | F14: =+PartSloPyP!C6 -> 1426.59 | I14: CANTIDAD | J14: CANTIDAD
A15: VIA CARRERA 105 BIS | C15: 71.02 | H15: TOTAL HABITANTES | I15: 2002 | J15: =+J6 -> 3017.6
A16: VIA CARRERA 105 | C16: 326.21 | D16: AMPLIACION ANDEN PARA CONFIGURAR BULEVAR PARA CALLE 129 | F16: =+PartSloPyP!C7 -> 798.58 | H16: CIRCULACIONES ENTRE BLOQUES DE VIVIENDA | I16: 0 | J16: =+PartSloPyP!C18 -> 955.34
A17: VIA CARRERA 104F | C17: 1750.9 | H17: ENTRADA PARQUEADEROS SOTERRADOS | I17: 0 | J17: =+PartSloPyP!C17 -> 392
A18: VIA CARRERA 104D | C18: 692.75 | D18: ESPACIO PUBLICO CIRCULACION PEATONAL | F18: =+PartSloPyP!C8 -> 1363.81 | H18: RETIROS PARA GENERAR ANDEN CUBIERTO EN BLOQUES VIVIENDA | I18: 0 | J18: =(280.56+280.56+171.58)*2 -> 1465.4
A19: VIA CARRERA 104C | C19: 691.26 | H19: DILATACIONES ENTRE BLOQUES | I19: 0 | J19: =82+82 -> 164
A20: VIA CARRERA 104B | C20: 934.43 | H20: A.P.A.U.P. | I20: 0 | J20: =+J16+J17+J18+J19 -> 2976.74 | L20: =+J9+J20 -> 19780.41 | M20: =+L20/CabxUso!F12 -> 6.5550139
H21: INDICE AREA PRIVADA AFECTA AL USO PUBLICO | I21: =+I20/I15 -> 0 | J21: =+J20/J15 -> 0.98645944
K23: =+J10+J21 -> 6.5550139

Sheet PartSloPyP
A1: PARTICIPACION DE LAS UNIDADES EN SUELO PUBLICO Y PRIVADO
A3: AREAS PUBLICAS | B3: % | C3: TOTAL | D3: % | E3: UAU 1 | F3: % | G3: UAU 2 | H3: %
A4: AREA PARA CONFORMACION DE VIAS PERFIL I6 PARA CALLE 129D | B4: =+C4*B$25/C$25 -> 0.028922931 | C4: =+E4+G4 -> 937.54 | D4: =+C4/C4 -> 1 | E4: 674.62 | F4: =+E4*D4/C4 -> 0.71956397 | G4: 262.92 | H4: =+G4*D4/C4 -> 0.28043603
A5: AMPLIACION ANDEN PARA CONFIGURAR BULEVAR PARA CALLE 129D | B5: =+C5*B$25/C$25 -> 0.030085661 | C5: =+E5+G5 -> 975.23 | D5: =+C5/C5 -> 1 | E5: 715.03 | F5: =+E5*D5/C5 -> 0.73319114 | G5: 260.2 | H5: =+G5*D5/C5 -> 0.26680886
A6: AREA PARA CONFORMACION DE VIAS PERFIL I6 PARA CALLE 129 | B6: =+C6*B$25/C$25 -> 0.044010031 | C6: =+E6+G6 -> 1426.59 | D6: =+C6/C6 -> 1 | E6: 90.54 | F6: =+E6*D6/C6 -> 0.063466027 | G6: 1336.05 | H6: =+G6*D6/C6 -> 0.93653397
A7: AMPLIACION ANDEN PARA CONFIGURAR BULEVAR PARA CALLE 129 | B7: =+C7*B$25/C$25 -> 0.024636042 | C7: =+E7+G7 -> 798.58 | D7: =+C7/C7 -> 1 | E7: 95.16 | F7: =+E7*D7/C7 -> 0.11916151 | G7: 703.42 | H7: =+G7*D7/C7 -> 0.88083849
A8: ESPACIO PUBLICO CIRCULACION PEATONAL | B8: =+C8*B$25/C$25 -> 0.04207328 | C8: =+E8+G8 -> 1363.81 | D8: =+C8/C8 -> 1 | E8: =669.31+30.21 -> 699.52 | F8: =+E8*D8/C8 -> 0.51291602 | G8: 664.29 | H8: =+G8*D8/C8 -> 0.48708398
A9: ESPACIO PUBLICO DE PROXIMIDAD ZONA VERDE PUBLICA | B9: =+C9*B$25/C$25 -> 0.20176208 | C9: =+E9+G9 -> 6540.14 | D9: =+C9/C9 -> 1 | E9: 5433 | F9: =+E9*D9/C9 -> 0.83071616 | G9: 1107.14 | H9: =+G9*D9/C9 -> 0.16928384
A10: ESPACIO PUBLICO DE PROXIMIDAD PLAZA PUBLICA | B10: =+C10*B$25/C$25 -> 0.31662796 | C10: =+E10+G10 -> 10263.53 | D10: =+C10/C10 -> 1 | E10: =3368.86+0.57 -> 3369.43 | F10: =+E10*D10/C10 -> 0.32829153 | G10: 6894.1 | H10: =+G10*D10/C10 -> 0.67170847
A11: TOTAL AREA PUBLICA | B11: =+C11*B$25/C$25 -> 0.68811798 | C11: =SUM(C4:C10) -> 22305.42 | D11: =+C11/C11 -> 1 | E11: =SUM(E4:E10) -> 11077.3 | F11: =+E11*D11/C11 -> 0.49661921 | G11: =SUM(G4:G10) -> 11228.12 | H11: =+G11*D11/C11 -> 0.50338079
A13: AREAS PUBLICAS | B13: % | C13: TOTAL | D13: % | E13: UAU 1 | F13: % | G13: UAU 2 | H13: %
A14: EQUIPAMIENTO PUBLICO | B14: =+C14*B25/C25 -> 0.029999898 | C14: =+E14+G14 -> 972.45 | D14: 1 | E14: 0 | F14: =+E14*D14/C14 -> 0 | G14: =+ROUND(AportSlo!I15*3%,2) -> 972.45 | H14: =+G14*D14/C14 -> 1
A16: AREAS PRIVADAS | B16: % | C16: TOTAL | D16: % | E16: UAU 1 | F16: % | G16: UAU 2 | H16: %
A17: A.P.A.U.P. ACCESO A PARQUEADEROS SOTERRADOS | B17: =+C17*B$25/C$25 -> 0.012093126 | C17: =+E17+G17 -> 392 | D17: =+C17/C17 -> 1 | E17: 196 | F17: =+E17*D17/C17 -> 0.5 | G17: 196 | H17: =+G17*D17/C17 -> 0.5
A18: A.P.A.U.P. CIRCULACION PEATONAL - DILATACION TORRES VIVIENDA | B18: =+C18*B$25/C$25 -> 0.029472058 | C18: =+E18+G18 -> 955.34 | D18: =+C18/C18 -> 1 | E18: =286.44+184.97 -> 471.41 | F18: =+E18*D18/C18 -> 0.49344736 | G18: =286.44+197.49 -> 483.93 | H18: =+G18*D18/C18 -> 0.50655264
A19: RESIDENCIAL VIS + COMERCIAL Y DE SERVICIOS TIPO 2 | B19: =+C19*B$25/C$25 -> 0.11126169 | C19: =+E19+G19 -> 3606.56 | D19: =+C19/C19 -> 1 | E19: =901.64+901.64 -> 1803.28 | F19: =+E19*D19/C19 -> 0.5 | G19: =901.64+901.64 -> 1803.28 | H19: =+G19*D19/C19 -> 0.5
A20: RESIDENCIAL NO VIS + COMERCIAL Y DE SERVICIOS TIPO 1 | B20: =+C20*B$25/C$25 -> 0.026757275 | C20: =+E20+G20 -> 867.34 | D20: =+C20/C20 -> 1 | E20: 433.67 | F20: =+E20*D20/C20 -> 0.5 | G20: 433.67 | H20: =+G20*D20/C20 -> 0.5
A21: COMERCIAL Y DE SERVICIOS TIPO 3 | B21: =+C21*B$25/C$25 -> 0.068980176 | C21: =+E21+G21 -> 2236 | D21: =+C21/C21 -> 1 | E21: 1332 | F21: =+E21*D21/C21 -> 0.59570662 | G21: 904 | H21: =+G21*D21/C21 -> 0.40429338
A22: DOTACIONAL TIPO 2 | B22: =+C22*B$25/C$25 -> 0.033317795 | C22: =+E22+G22 -> 1080 | D22: =+C22/C22 -> 1 | E22: 0 | F22: =+E22*D22/C22 -> 0 | G22: 1080 | H22: =+G22*D22/C22 -> 1
A23: TOTAL AREA PRIVADA | B23: =+C23*B$25/C$25 -> 0.28188212 | C23: =SUM(C17:C22) -> 9137.24 | D23: 1 | E23: =SUM(E17:E22) -> 4236.36 | F23: =+E23*D23/C23 -> 0.46363672 | G23: =SUM(G17:G22) -> 4900.88 | H23: =+G23*D23/C23 -> 0.53636328
A25: SUMA IGUAL A AREA DE VERIFICACION | B25: 1 | C25: =+C23+C14+C11 -> 32415.11 | D25: 1 | E25: =+E23+E14+E11 -> 15313.66 | F25: =+E25*D25/C25 -> 0.47242351 | G25: =+G23+G14+G11 -> 17101.45 | H25: =+G25*D25/C25 -> 0.52757649
A27: APORTES EN SUELO POR UAU
A28: DETALLE | C28: TOTAL | E28: UAU 1 | G28: UAU 2
A29: APORTE AREA VERIFICACION | C29: =+C25 -> 32415.11 | D29: 1 | E29: =+E25 -> 15313.66 | F29: =+E29*D29/C29 -> 0.47242351 | G29: =+G25 -> 17101.45 | H29: =+G29*D29/C29 -> 0.52757649
A30: APORTE AREA SUELO PRIVADO | C30: =+SloPri!C13 -> 19374.05 | D30: 1 | E30: =+SloPri!H13 -> 8655.44 | F30: =+E30*D30/C30 -> 0.44675429 | G30: =+SloPri!K13 -> 10718.61 | H30: =+G30*D30/C30 -> 0.55324571
A31: APORTE SUELO AREA UTIL | C31: =+C23 -> 9137.24 | D31: 1 | E31: =+E23 -> 4236.36 | F31: =+E31*D31/C31 -> 0.46363672 | G31: =+G23 -> 4900.88 | H31: =+G31*D31/C31 -> 0.53636328
A33: PARTICIPACION DE LAS UAU EN SUELO PUBLICO Y PRIVADO
A34: DETALLE | B34: % | C34: TOTAL | D34: % | E34: UAU 1 | F34: % | G34: UAU 2 | H34: %
A35: AREA PUBLICA | B35: =+C35*B$25/C$25 -> 0.68811798 | C35: =+E35+G35 -> 22305.42 | D35: =+C35/C35 -> 1 | E35: =+E11 -> 11077.3 | F35: =+E35/C35 -> 0.49661921 | G35: =+G11 -> 11228.12 | H35: =+G35/C35 -> 0.50338079
A36: EQUIPAMIENTO PUBLICO | B36: =+C36/C38 -> 0.029999898 | C36: =+E36+G36 -> 972.45 | D36: 1 | E36: 0 | F36: =+E36/C36 -> 0 | G36: =+G14 -> 972.45 | H36: =+G36/C36 -> 1
A37: AREA PRIVADA | B37: =+C37*B$25/C$25 -> 0.28188212 | C37: =+G37+E37 -> 9137.24 | D37: 1 | E37: =+E23 -> 4236.36 | F37: =+E37/C37 -> 0.46363672 | G37: =+G23 -> 4900.88 | H37: =+G37/C37 -> 0.53636328
A38: TOTALES | B38: 1 | C38: =+C35+C36+C37 -> 32415.11 | D38: 1 | E38: =+E35+E36+E37 -> 15313.66 | F38: =+E38/C38 -> 0.47242351 | G38: =+G35+G36+G37 -> 17101.45 | H38: =+G38*D38/C38 -> 0.52757649

Sheet CabxUso
A1: DISTRIBUCION DE USOS EN AREA UTIL DEL PLAN PARCIAL
A2: USO | B2: % | C2: CABIDA | D2: UND DE VIVIENDA | E2: HAB./VIV. | F2: HABITANTES
A3: RESIDENCIAL VIS | B3: =+C3/C12 -> 0.39471 | C3: =+PartSloPyP!C19 -> 3606.56 | D3: =+CalcViv!J12+CalcViv!J18+CalcViv!J31+CalcViv!J37 -> 864 | E3: 2.9 | F3: =+D3*E3 -> 2505.6
A4: COMERCIO Y SERVICIO TIPO 2 - Comercios y servicios basicos
A5: RESIDENCIAL NO VIS | B5: =+C5/C12 -> 0.094923631 | C5: =+PartSloPyP!C20 -> 867.34 | D5: =+CalcViv!J6+CalcViv!J25 -> 128 | E5: 4 | F5: =+D5*E5 -> 512
A6: COMERCIO Y SERVICIO TIPO 1 - Comercios y servicios basicos
A7: COMERCIO Y SERVICIO TIPO 3 - Comercios y servicios basicos | B7: =+C7/C12 -> 0.24471285 | C7: =+PartSloPyP!C21 -> 2236
A8: COMERCIO Y SERVICIO TIPO 3 - Servicios de oficinas
A9: DOTACIONAL TIPO 2 | B9: =+C9/C12 -> 0.11819762 | C9: =+PartSloPyP!C22 -> 1080
A10: A.P.A.U.P. Acceso parqueaderos Sot. | B10: =+C10/C12 -> 0.042901358 | C10: =+PartSloPyP!C17 -> 392
A11: A.P.A.U.P. Circ. entre bloques Viv. | B11: =+C11/C12 -> 0.10455455 | C11: =+PartSloPyP!C18 -> 955.34
A12: TOTALES | B12: =+B3+B5+B7+B9+B10+B11 -> 1 | C12: =+C3+C5+C7+C9+C10+C11 -> 9137.24 | D12: =+D3+D5 -> 992 | E12: =+F12/D12 -> 3.0419355 | F12: =+F3+F5 -> 3017.6

Sheet 0Model
A1: CUADRO DE AREAS TRAZADO GENERAL URBANO
A2: AREA BRUTA | C2: =+SloPri!C13+SloPri!C17+SloPub!B2 -> 33214.22
A3: AREA DE MANEJO DIFERENCIADO | C3: =+SloPri!C17 -> 799.55
A4: AREA DE VERIFICACION DEL PLAN PARCIAL | C4: =C2-C3 -> 32414.67 | D4: =+C4/C4 -> 1
A5: 1 | B5: CESIONES VIAS Y ESPACIO PUBLICO DE PROXIMIDAD (Min. 65% de Area de verificación) | C5: =+C6+C7+C8 -> 22305.42 | D5: =+C5/C4 -> 0.68812732
A6: =+C6/C5 -> 0.2466553 | B6: Vías | C6: =+PartSloPyP!C4+PartSloPyP!C5+PartSloPyP!C6+PartSloPyP!C7+PartSloPyP!C8 -> 5501.75 | D6: =+C6/C4 -> 0.16973025
A7: =+C7/C5 -> 0.29320856 | B7: Espacio público de proximidad parque público | C7: =+PartSloPyP!C9 -> 6540.14 | D7: =+C7/C4 -> 0.20176482
A8: =+C8/C5 -> 0.46013615 | B8: Espacio público de proximidad plaza pública | C8: =+PartSloPyP!C10 -> 10263.53 | D8: =+C8/C4 -> 0.31663225
A9: EQUIPAMIENTO (3% sobre Área de verificación) | C9: =+PartSloPyP!C14 -> 972.45 | D9: =+C9/C4 -> 0.030000305
A11: TOTAL CESIONES (Espacio público, Vías y Equip. Pub.) | C11: =+C5+C9 -> 23277.87 | D11: =+C11/C4 -> 0.71812763
A12: AREA UTIL PROPUESTA (Según cabida propuesta) | C12: =+C4-C11 -> 9136.8 | D12: =+C12/C4 -> 0.28187237
A14: CESIONES MINIMAS SEGUN POT (E.P., Vías y Equip. P.) | C14: =+C4*0.65 -> 21069.536 | D14: =+C14/C4 -> 0.65
A15: AREA UTIL MAXIMA (Según norma) | C15: =+C4-(C4*0.68) -> 10372.694 | D15: =+C15/C4 -> 0.32
A17: EDIFICABILIDAD
A18: Area útil máxima (según la norma) | C18: =+C15 -> 10372.694
A19: Índice de construcción efectivo Ice | C19: =+C20/C15 -> 7.6391916
A20: Área construida vendible | C20: =+'1Aprov'!C31 -> 79239
A21: Altura promedio | C21: =+C20/C22 -> 8.6720935
A22: Área útil (huella) | C22: =+PartSloPyP!C23 -> 9137.24
A23: Índice de ocupación (Au/Av) | C23: =+C22/PartSloPyP!C30 -> 0.47162261

Sheet 1Aprov
A1: APROVECHAMIENTOS - UAU 1
A2: USO | C2: AREA VENDIBLE | D2: ZONAS COMUNES | E2: AREA CONSTRUIDA | F2: UNIDADES
A3: =+C3/C$9 -> 0.51223947 | B3: RESIDENCIAL VIS | C3: =+CalcViv!B43 -> 19440 | D3: =+CalcViv!C43-CalcViv!B43 -> 4158 | E3: =+C3+D3 -> 23598 | F3: =+C3/45 -> 432
A4: =+C4/C$9 -> 0.10792864 | B4: RESIDENCIAL NO VIS | C4: =+CalcViv!B42 -> 4096 | D4: =+CalcViv!C42-CalcViv!B42 -> 1039.36 | E4: =+C4+D4 -> 5135.36 | F4: =+C4/64 -> 64
A5: =+C5/C$9 -> 0.010329109 | B5: COMERCIO Y SERVICIOS TIPO 1 Comercios y servicios básicos - bajo bloques de vivienda | C5: =+CalcCyST1y2!D6 -> 392 | D5: =+CalcCyST1y2!C6-CalcCyST1y2!D6 -> 19 | E5: =+C5+D5 -> 411 | F5: =+C5/64 -> 6.125
A6: =+C6/C9 -> 0.043582514 | B6: COMERCIO Y SERVICIOS TIPO 2 Comercios y servicios básicos - bajo bloques de vivienda | C6: =+CalcCyST1y2!D19 -> 1654 | D6: =+CalcCyST1y2!C19-CalcCyST1y2!D19 -> 80.6 | E6: =+C6+D6 -> 1734.6 | F6: =+C6/64 -> 25.84375
A7: =+C7/C$9 -> 0.062686095 | B7: COMERCIO Y SERVICIOS TIPO 3 Comercios y servicios básico - sobre plaza pública | C7: =+CalcCyST3!B21 -> 2379 | D7: =+CalcCyST3!A21-CalcCyST3!B21 -> 285 | E7: =+C7+D7 -> 2664 | F7: =+C7/475 -> 5.0084211
A8: =+C8/C$9 -> 0.26323417 | B8: COMERCIO Y SERVICIOS TIPO 3 Servicios de oficinas - sobre plaza pública | C8: =+CalcCyST3!H28 -> 9990 | D8: =+CalcCyST3!G28-CalcCyST3!H28 -> 1998 | E8: =+C8+D8 -> 11988 | F8: =+C8/200 -> 49.95
A9: =SUM(A3:A8) -> 1 | B9: TOTALES | C9: =SUM(C3:C8) -> 37951 | D9: =SUM(D3:D8) -> 7579.96 | E9: =SUM(E3:E8) -> 45530.96
A11: APROVECHAMIENTOS - UAU 2
A12: USO | C12: AREA VENDIBLE | D12: ZONAS COMUNES | E12: AREA CONSTRUIDA | F12: UNIDADES
A13: =+C13/C$20 -> 0.44506513 | B13: RESIDENCIAL VIS | C13: =+CalcViv!E43 -> 19440 | D13: =+CalcViv!F43-CalcViv!E43 -> 4158 | E13: =+C13+D13 -> 23598 | F13: =+C13/45 -> 432
A14: =+C14/C$20 -> 0.093775041 | B14: RESIDENCIAL NO VIS | C14: =+CalcViv!E42 -> 4096 | D14: =+CalcViv!F42-CalcViv!E42 -> 1039.36 | E14: =+C14+D14 -> 5135.36 | F14: =+C14/64 -> 64
A15: =+C15/C$20 -> 0.0089745644 | B15: COMERCIO Y SERVICIOS TIPO 1 Comercios y servicios básicos - bajo bloques de vivienda | C15: =+CalcCyST1y2!D9 -> 392 | D15: =+CalcCyST1y2!C9-CalcCyST1y2!D9 -> 19 | E15: =+C15+D15 -> 411 | F15: =+C15/64 -> 6.125
A16: =+C16/C$20 -> 0.037867167 | B16: COMERCIO Y SERVICIOS TIPO 2 Comercios y servicios básicos - bajo bloques de vivienda | C16: =+CalcCyST1y2!D24 -> 1654 | D16: =+CalcCyST1y2!C24-CalcCyST1y2!D24 -> 80.6 | E16: =+C16+D16 -> 1734.6 | F16: =+C16/475 -> 3.4821053
A17: =+C17/C$20 -> 0.030289155 | B17: COMERCIO Y SERVICIOS TIPO 3 Comercios y servicios básico - sobre plaza pública | C17: =+CalcCyST3!E21 -> 1323 | D17: =+CalcCyST3!D21-CalcCyST3!E21 -> 157 | E17: =+C17+D17 -> 1480 | F17: =+C17/200 -> 6.615
A18: =+C18/C$20 -> 0.092607431 | B18: COMERCIO Y SERVICIOS TIPO 3 Servicios de oficinas - sobre plaza pública | C18: =+CalcCyST3!H35 -> 4045 | D18: =+CalcCyST3!G35-CalcCyST3!H35 -> 807 | E18: =+C18+D18 -> 4852
A19: =+C19/C$20 -> 0.29142151 | B19: DOTACIONAL Equipamiento Tipo 2 - Sobre plaza pública | C19: =+CalcDOTpriv!H6 -> 12729 | D19: =+CalcDOTpriv!G6-CalcDOTpriv!H6 -> 2391 | E19: =+C19+D19 -> 15120 | F19: 1
A20: =SUM(A13:A19) -> 1 | B20: TOTALES | C20: =SUM(C13:C19) -> 43679 | D20: =SUM(D13:D19) -> 8651.96 | E20: =SUM(E13:E19) -> 52330.96
A22: CONSOLIDADO APROVECHAMIENTOS - TOTAL PLAN PARCIAL
A23: % | B23: USO | C23: AREA VENDIBLE | D23: ZONAS COMUNES | E23: AREA CONSTRUIDA | F23: UNIDADES
A24: =+C24/C$31 -> 0.49066747 | B24: RESIDENCIAL VIS | C24: =+C3+C13 -> 38880 | D24: =+D3+D13 -> 8316 | E24: =+E3+E13 -> 47196 | F24: =+F3+F13 -> 864
A25: =+C25/C$31 -> 0.10338343 | B25: RESIDENCIAL NO VIS | C25: =+C4+C14 -> 8192 | D25: =+D4+D14 -> 2078.72 | E25: =+E4+E14 -> 10270.72 | F25: =+F4+F14 -> 128
A26: =+C26/C$31 -> 0.0098941178 | B26: COMERCIO Y SERVICIOS TIPO 1 Comercios y servicios básicos - bajo bloques de vivienda | C26: =+C5+C15 -> 784 | D26: =+D5+D15 -> 38 | E26: =+E5+E15 -> 822 | F26: =+F5+F15 -> 12.25
A27: =+C27/C$31 -> 0.041747119 | B27: COMERCIO Y SERVICIOS TIPO 2 Comercios y servicios básicos - bajo bloques de vivienda | C27: =+C16+C6 -> 3308 | D27: =+D16+D6 -> 161.2 | E27: =+E16+E6 -> 3469.2 | F27: =+E27/65 -> 53.372308
A28: =+C28/C$31 -> 0.050896654 | B28: COMERCIO Y SERVICIOS TIPO 3 Comercios y servicios básico - sobre plaza pública | C28: =+C7+C16 -> 4033 | D28: =+D7+D16 -> 365.6 | E28: =+E7+E16 -> 4398.6 | F28: =+F7+F16 -> 8.4905263
A29: =+C29/C$31 -> 0.14277061 | B29: COMERCIO Y SERVICIOS TIPO 3 Servicios de oficinas - sobre plaza pública | C29: =+C8+C17 -> 11313 | D29: =+D8+D17 -> 2155 | E29: =+E8+E17 -> 13468 | F29: =+F8+F17 -> 56.565
A30: =+C30/C$31 -> 0.16064059 | B30: DOTACIONAL Equipamiento Tipo 2 - Sobre plaza pública | C30: =+C19 -> 12729 | D30: =+D19 -> 2391 | E30: =+E19 -> 15120 | F30: =+F9+F19 -> 1
A31: =SUM(A24:A30) -> 1 | B31: TOTALES | C31: =SUM(C24:C30) -> 79239 | D31: =SUM(D24:D30) -> 15505.52 | E31: =SUM(E24:E30) -> 94744.52
B33: RES. VIS | C33: 38880
B34: RES. NO VIS | C34: 8192
B35: CyS T1 Com/Serv B | C35: 784
B36: CyS T2 Com/Serv B | C36: 3308
B37: CyS T3 Com/Serv B | C37: 4033
B38: CyS T3 Serv. Ofic. | C38: 11313
B39: DOT T2 | C39: 12729

Sheet 2Res
A1: RESUMEN DE AREAS - UA1
A2: AREA DE VERIFICACION | B2: =+PartSloPyP!E29 -> 15313.66
A3: AREA UTIL | B3: =+B2*0.32 -> 4900.3712
A4: AREA CONSTRUIDA VENDIBLE VIVIENDA | B4: =+'1Aprov'!C3+'1Aprov'!C4 -> 23536
A5: AREA CONSTRUIDA VENDIBLE COMERCIO TIPO 1 Comercios y servicios basicos | B5: =+'1Aprov'!C5 -> 392
A6: AREA CONSTRUIDA VENDIBLE COMERCIO TIPO 2 Comercios y servicios basicos | B6: =+'1Aprov'!C6 -> 1654
A7: AREA CONSTRUIDA VENDIBLE COMERCIO TIPO 3 Comercios y servicios basicos | B7: =+'1Aprov'!C17 -> 1323
A8: AREA CONSTRUIDA VENDIBLE COMERCIO TIPO 3 Servicios de oficinas | B8: =+'1Aprov'!C8 -> 9990
A9: SUBTOTAL AREA CONSTRUIDA VENDIBLE | B9: =SUM(B4:B8) -> 36895
A10: SUBTOTAL AREA CONSTRUIDA ZONAS COMUNES | B10: =+'1Aprov'!D9 -> 7579.96
A11: TOTAL AREA CONSTRUIDA | B11: =+'1Aprov'!E9 -> 45530.96
A12: TOTAL NUMERO DE VIVIENDAS | B12: =+CalcViv!J6+CalcViv!J12+CalcViv!J18 -> 496
A13: INDICE DE CONSTRUCCION EFECTIVO - ICe | B13: =+B9/B3 -> 7.5290215
A14: AREA PRIVADA OCUPADA EN PRIMER PISO | B14: =+PartSloPyP!E19+PartSloPyP!E20+PartSloPyP!E21+PartSloPyP!E22 -> 3568.95
A15: AREA DE PARA EQUIPAMIENTO PUBLICO | B15: 0
A16: AREA PUBLICA EN PRIMER PISO | B16: =+PartSloPyP!E11 -> 11077.3
A17: INDICE DE OCUPACION PLATAFORMA - IO | B17: =+B14/B3 -> 0.72830197
A18: ALTURA DE PISOS | B18: 21
A19: AREA CONSTRUIDA EN SOTANOS | B19: =+CalcParq!C4 -> 4405.51
A20: NUMERO DE SOTANOS | B20: 1
A21: CALCULO ESTACIONAMIENTOS
A22: AREA CONSTRUIDA ESTACIONAMIENTOS | B22: =+CalcParq!C4 -> 4405.51
A23: AREA CIRCULACIONES Y RAMPAS | B23: =+CalcParq!E4 -> 1762.204
A24: AREA UTIL ESTACIONAMIENTOS | B24: =+CalcParq!G4 -> 2643.306
A25: ESTACIONAMIENTO BICICLETAS Y ALTERNATIVOS VIVIENDA | B25: =+B12 -> 496
A26: ESTACIONAMIENTO BICICLETAS Y ALTERNATIVOS OTROS USOS | B26: =151*2 -> 302
A27: TOTAL ESTACIONAMIENTOS BICICLETAS | B27: =+B25+B26 -> 798
A28: AREA DE ESTACIONAMIENTO POR BICICLETA | B28: 1.23
A29: TOTAL AREA ESTACIONAMIENTOS BICICLETAS | B29: =+B27*B28 -> 981.54
A30: TOTAL AREA ESTACIONAMIENTO PARA VEHICULOS | B30: =+B24-B29 -> 1661.766
A31: TOTAL ESTACIONAMIENTO PARA VEHICULOS | B31: =+B30/12.5 -> 132.94128
A32: CALCULO EQUIPAMIENTO PRIVADO
A33: AREA EQUIPAMIENTO PRIVADO PARA VIS | B33: =+CalcViv!I11+CalcViv!I17 -> 1242
A34: AREA PARA EQUIPAMIENTOS PRIVADO PARA NO VIS | B34: =+CalcViv!I5 -> 302.08
A35: TOTAL AREA EQUIPAMIENTOS PRIVADOS | B35: =+B33+B34 -> 1544.08
A38: RESUMEN DE AREAS - UA2
A39: AREA DE VERIFICACION | B39: =+PartSloPyP!G29 -> 17101.45
A40: AREA UTIL | B40: =+B39*0.32 -> 5472.464
A41: AREA CONSTRUIDA VENDIBLE VIVIENDA | B41: =+'1Aprov'!C13+'1Aprov'!C14 -> 23536
A42: AREA CONSTRUIDA VENDIBLE COMERCIO TIPO 1 Comercios y servicios basicos | B42: =+'1Aprov'!C15 -> 392
...

Sheet 3Vtas
A1: VALORES DE VENTA DE PRODUCTOS INMOBILIARIOS
A2: USO | B2: VALOR VENTA EN SMLV | C2: VALOR DE VENTA EN COP | D2: AREA TIPO | E2: VALOR DE VENTA m2 | F2: UNIDADES PARA VENTA
A3: RESIDENCIAL MULTIFAMILIAR VIS | B3: 175 | C3: =+B3*1000000 -> 175000000 | D3: 45 | E3: =+C3/D3 -> 3888888.9 | F3: =+CalcViv!J12+CalcViv!J18+CalcViv!J31+CalcViv!J37 -> 864
A4: RESIDENCIAL MULTIFAMILIAR NO VIS | B4: =+C4/1000000 -> 352 | C4: =+D4*E4 -> 352000000 | D4: 64 | E4: 5500000 | F4: =+CalcViv!J6+CalcViv!J25 -> 128
A5: COMERCIO Y SERVICIOS TIPO 1 Comercios y servicios básicos - bajo bloques de vivienda | B5: =+C5/1000000 -> 544 | C5: =+D5*E5 -> 544000000 | D5: 64 | E5: 8500000 | F5: =+CalcCyST1y2!E10 -> 12
A6: COMERCIO Y SERVICIOS TIPO 2 Comercios y servicios básicos - bajo bloques de vivienda | B6: 544 | C6: =+D6*E6 -> 544000000 | D6: =+D5 -> 64 | E6: =+E5 -> 8500000 | F6: =+CalcCyST1y2!E25 -> 52
A7: COMERCIO Y SERVICIOS TIPO 3 Comercios y servicios básico - sobre plaza pública | B7: =+C7/1000000 -> 5605 | C7: =+D7*E7 -> 5605000000 | D7: 475 | E7: 11800000 | F7: =+'1Aprov'!C28/'3Vtas'!D7 -> 8.4905263
A8: COMERCIO Y SERVICIOS TIPO 3 Servicios de oficinas - sobre plaza pública | B8: =+C8/1000000 -> 1860 | C8: =+D8*E8 -> 1860000000 | D8: 200 | E8: 9300000 | F8: =+'1Aprov'!C29/'3Vtas'!D8 -> 56.565
A9: DOTACIONAL Equipamiento Tipo 2 - sobre plaza pública | B9: =+C9/1000000 -> 110742.3 | C9: =+D9*E9 -> 110742300000 | D9: =+CalcDOTpriv!H6 -> 12729 | E9: 8700000 | F9: 1
A11: RESUMEN DE VENTAS
A12: TOTALES | B12: VENTAS UAU 1 | C12: VENTAS UAU 2 | D12: TOTAL VENTAS P.P. | E12: %
B13: =+B16+B19+B24 -> 236498200000 | C13: =+C16+C19+C24 -> 279491200000 | D13: =+B13+C13 -> 515989400000 | E13: =+E16+E19+E24 -> 1
A14: % PARTICIPACION | B14: =+B13/D13 -> 0.45833926 | C14: =+C13/D13 -> 0.54166074 | D14: =+D13/D13 -> 1
A16: SUBTOTAL RESIDENCIAL | B16: =+B17+B18 -> 98128000000 | C16: =+C17+C18 -> 98128000000 | D16: =+D17+D18 -> 196256000000 | E16: =+D16/D13 -> 0.3803489
A17: RESIDENCIAL MULTIFAMILIAR VIS | B17: =+E3*CalcViv!B43 -> 75600000000 | C17: =+E3*CalcViv!E43 -> 75600000000 | D17: =+B17+C17 -> 151200000000 | E17: =+D17/D13 -> 0.29302928
A18: RESIDENCIAL MULTIFAMILIAR NO VIS | B18: =+E4*CalcViv!B42 -> 22528000000 | C18: =+E4*CalcViv!E42 -> 22528000000 | D18: =+B18+C18 -> 45056000000 | E18: =+D18/D13 -> 0.087319623
A19: SUBTOTAL COMERCIO Y SERVICIOS | B19: =+B20+B21+B22+B23 -> 138370200000 | C19: =+C20+C21+C22+C23 -> 70620900000 | D19: =+D20+D21+D22+D23 -> 208991100000 | E19: =+D19/D13 -> 0.40502983
A20: COMERCIO Y SERVICIO TIPO 1 Comercios y servicios básicos - Bajo bloques de vivienda | B20: =+E5*CalcCyST1y2!D6 -> 3332000000 | C20: =+E5*CalcCyST1y2!D9 -> 3332000000 | D20: =+B20+C20 -> 6664000000 | E20: =+D20/D13 -> 0.012914994
A21: COMERCIO Y SERVICIO TIPO 2 Comercios y servicios básicos - Bajo bloques de vivienda | B21: =+E6*CalcCyST1y2!D19 -> 14059000000 | C21: =+E6*CalcCyST1y2!D24 -> 14059000000 | D21: =+B21+C21 -> 28118000000 | E21: =+D21/D13 -> 0.054493367
A22: COMERCIO Y SERVICIO TIPO 3 Comercios y servicios básico - Sobre plaza pública | B22: =+E7*CalcCyST3!H6 -> 28072200000 | C22: =+E7*CalcCyST3!H15 -> 15611400000 | D22: =+B22+C22 -> 43683600000 | E22: =+D22/D13 -> 0.084659879
A23: COMERCIO Y SERVICIO TIPO 3 Servicios de oficinas - Sobre plaza pública | B23: =+E8*CalcCyST3!B41 -> 92907000000 | C23: =+E8*CalcCyST3!E41 -> 37618500000 | D23: =+B23+C23 -> 130525500000 | E23: =+D23/D13 -> 0.25296159
A24: SUBTOTAL DOTACIONAL | B24: =+B25 -> 0 | C24: =+C25 -> 110742300000 | D24: =+B24+C24 -> 110742300000 | E24: =+D24/D13 -> 0.21462127
A25: DOTACIONAL Equipamiento Tipo 2 - Sobre plaza pública | B25: 0 | C25: =+E9*CalcDOTpriv!H6 -> 110742300000 | D25: =+B25+C25 -> 110742300000 | E25: =+D25/D13 -> 0.21462127

Sheet 4Cd
A1: COSTOS DIRECTOS POR m2
A2: RESIDENCIAL VIS | C2: Area vendible | D2: 1750000
A3: 45 m2 | C3: Areas comunes | D3: 1450000
A4: RESIDENCIAL NO VIS | C4: Area vendible | D4: 1800000
A5: 64 m2 | C5: Areas comunes | D5: 1580000
A6: COMERCIO Y SERVICIOS TIPO 1 Y 2 | C6: Area vendible | D6: 1950000
A7: Comercios y servicios básicos | C7: Areas comunes | D7: 1780000
A8: COMERCIO Y SERVICIOS TIPO 3 | C8: Area vendible | D8: 1950000
A9: Comercios y servicios básicos | C9: Areas comunes | D9: 1780000
A10: COMERCIO Y SERVICIOS TIPO 3 | C10: Area vendible | D10: 1950000
A11: Servicios de oficinas | C11: Areas comunes | D11: 1780000
A12: DOTACIONAL TIPO 2 | C12: Area vendible | D12: 1950000
A13: Centro de bienestar - Caja de Compensación | C13: Areas comunes | D13: 1780000
A14: SOTANOS (PARQUEADEROS) | C14: Areas comunes | D14: 1320000
A16: COSTOS DIRECTOS - UAU 1
A17: USO | B17: COSTO DIRECTO AREA VENDIBLE | C17: COSTO DIRECTO ZONAS COMUNES | D17: TOTAL
A18: TOTAL | B18: =+B20+B23+B28 -> 69502050000 | C18: =+C20+C23+C28 -> 17727590000 | D18: =+B18+C18 -> 87229640000
A20: TOTAL RESIDENCIAL | B20: =+B21+B22 -> 41392800000 | C20: =+C21+C22 -> 7671288800 | D20: =+B20+C20 -> 49064088800
A21: RESIDENCIAL MULTIFAMILIAR VIS | B21: =+D2*'1Aprov'!C3 -> 34020000000 | C21: =+D3*'1Aprov'!D3 -> 6029100000 | D21: =+B21+C21 -> 40049100000
A22: RESIDENCIAL MULTIFAMILIAR NO VIS | B22: =+D4*'1Aprov'!C4 -> 7372800000 | C22: =+D5*'1Aprov'!D4 -> 1.6421888e+09 | D22: =+B22+C22 -> 9014988800
A23: TOTAL COMERCIO Y SERVICIOS | B23: =+B24+B25+B26+B27 -> 28109250000 | C23: =+C24+C25+C26+C27 -> 4241028000 | D23: =+B23+C23 -> 32350278000
A24: COMERCIO Y SERVICIO TIPO 1 Comercios y servicios básicos - Bajo bloques de vivienda | B24: =+D6*'1Aprov'!C5 -> 764400000 | C24: =+D7*'1Aprov'!D5 -> 33820000 | D24: =+B24+C24 -> 798220000
A25: COMERCIO Y SERVICIO TIPO 2 Comercios y servicios básico - Bajo bloques de vivienda | B25: =+D6*'1Aprov'!C6 -> 3225300000 | C25: =+D7*'1Aprov'!D6 -> 1.43468e+08 | D25: =+B25+C25 -> 3368768000
A26: COMERCIO Y SERVICIO TIPO 3 Comercio y servicios - Sobre plaza pública | B26: =+D10*'1Aprov'!C7 -> 4639050000 | C26: =+D9*'1Aprov'!D7 -> 507300000 | D26: =+B26+C26 -> 5146350000
A27: COMERCIO Y SERVICIO TIPO 3 Servicios de oficinas - Sobre plaza pública | B27: =+D10*'1Aprov'!C8 -> 19480500000 | C27: =+D11*'1Aprov'!D8 -> 3556440000 | D27: =+B27+C27 -> 23036940000
A28: TOTAL SOTANOS | C28: =+C29 -> 5815273200 | D28: =+B28+C28 -> 5815273200
A29: SOTANOS - Parqueadero | C29: =+D14*CalcParq!C4 -> 5815273200 | D29: =+B29+C29 -> 5815273200
A31: COSTOS DIRECTOS - UAU 2
A32: USO | B32: COSTO DIRECTO AREA VENDIBLE | C32: COSTO DIRECTO ZONAS COMUNES | D32: TOTAL
A33: TOTAL | B33: =+B35+B38+B43+B45 -> 80671650000 | C33: =+C35+C38+C43+C45 -> 19650943200 | D33: =+B33+C33 -> 100322593200
A35: TOTAL RESIDENCIAL | B35: =+B36+B37 -> 41392800000 | C35: =+C36+C37 -> 7671288800 | D35: =+B35+C35 -> 49064088800
A36: RESIDENCIAL MULTIFAMILIAR VIS | B36: =+D2*'1Aprov'!C13 -> 34020000000 | C36: =+D3*'1Aprov'!D13 -> 6029100000 | D36: =+B36+C36 -> 40049100000
A37: RESIDENCIAL MULTIFAMILIAR NO VIS | B37: =+D4*'1Aprov'!C14 -> 7372800000 | C37: =+D5*'1Aprov'!D14 -> 1.6421888e+09 | D37: =+B37+C37 -> 9014988800
A38: TOTAL COMERCIO Y SERVICIOS | B38: =+B39+B40+B41+B42 -> 14457300000 | C38: =+C39+C40+C41+C42 -> 1893208000 | D38: =+B38+C38 -> 16350508000
A39: COMERCIO Y SERVICIO TIPO 1 Comercios y servicios básicos - Bajo bloques de vivienda | B39: =+D6*'1Aprov'!C15 -> 764400000 | C39: =+D7*'1Aprov'!D15 -> 33820000 | D39: =+B39+C39 -> 798220000
A40: COMERCIO Y SERVICIO TIPO 2 Comercios y servicios básico - Bajo bloques de vivienda | B40: =+D6*'1Aprov'!C16 -> 3225300000 | C40: =+D7*'1Aprov'!D16 -> 1.43468e+08 | D40: =+B40+C40 -> 3368768000
A41: COMERCIO Y SERVICIO TIPO 3 Comercio y servicios - Sobre plaza pública | B41: =+D8*'1Aprov'!C17 -> 2579850000 | C41: =+D9*'1Aprov'!D17 -> 279460000 | D41: =+B41+C41 -> 2859310000
A42: COMERCIO Y SERVICIO TIPO 3 Servicios de oficinas - Sobre plaza pública | B42: =+D10*'1Aprov'!C18 -> 7887750000 | C42: =+D11*'1Aprov'!D18 -> 1436460000 | D42: =+B42+C42 -> 9324210000
A43: TOTAL DOTACIONAL | B43: =+B44 -> 24821550000 | C43: =+C44 -> 4255980000 | D43: =+B43+C43 -> 29077530000
A44: DOTACIONAL Equipamiento Tipo 2 - Sobre plaza pública | B44: =+D12*'1Aprov'!C19 -> 24821550000 | C44: =+D13*'1Aprov'!D19 -> 4255980000 | D44: =+B44+C44 -> 29077530000
...

Sheet 05Carg
A1: COSTOS CARGAS DE URBANISMO POR DISTRIBUCION SEGÚN MODELO
B2: UAU 1 | C2: UAU 2 | D2: TOTAL
A3: COSTO DIRECTO - DEMOLICIONES | B3: =+B5*B4 -> 735712400 | C3: =+C5*C4 -> 911081850 | D3: =+D5*D4 -> 1.6467943e+09
A4: Valor demoliciones edificaciones - m2 lote | B4: 85000 | C4: 85000 | D4: 85000
A5: Area a demoler manzanas (Aporte m2 a area de verificación) | B5: =+PartSloPyP!E30 -> 8655.44 | C5: =+PartSloPyP!G30 -> 10718.61 | D5: =+B5+C5 -> 19374.05
A6: COSTO DIRECTO ESPACIO PUBLICO - VIAS | B6: =+B7*(B8+B9+B10+B11+B12+B13+B14) -> 8.82684e+08 | C6: =+C7*(C8+C9+C10+C11+C12+C13+C14) -> 1172043000 | D6: =+B6+C6 -> 2054727000
A7: Valor construccion via local - m2 | B7: =+D7 -> 300000 | C7: =+D7 -> 300000 | D7: 300000
A8: Area conformacion perfil I6 en Calle 129D | B8: =+PartSloPyP!E4 -> 674.62 | C8: =+PartSloPyP!G4 -> 262.92 | D8: =+B8+C8 -> 937.54
A9: Area ampliacion anden Calle 129D | B9: =+PartSloPyP!E5 -> 715.03 | C9: =+PartSloPyP!G5 -> 260.2 | D9: =+B9+C9 -> 975.23
A10: Area conformacion perfil I6 en Calle 129 | B10: =+PartSloPyP!E6 -> 90.54 | C10: =+PartSloPyP!G6 -> 1336.05 | D10: =+B10+C10 -> 1426.59
A11: Area ampliacion anden Calle 129 | B11: =+PartSloPyP!E7 -> 95.16 | C11: =+PartSloPyP!G7 -> 703.42 | D11: =+B11+C11 -> 798.58
A12: Area circulacion peatonal al interior manzana | B12: =+PartSloPyP!E8 -> 699.52 | C12: =+PartSloPyP!G8 -> 664.29 | D12: =+B12+C12 -> 1363.81
A13: Area afecta al uso publico rampas acceso parquederos | B13: =+PartSloPyP!E17 -> 196 | C13: =+PartSloPyP!G17 -> 196 | D13: =+B13+C13 -> 392
A14: Area afecta al uso publico circulaciones entre bloques vivienda | B14: =+PartSloPyP!E18 -> 471.41 | C14: =+PartSloPyP!G18 -> 483.93 | D14: =+B14+C14 -> 955.34
A15: COSTO DIRECTO ESPACIO PUBLICO - PARQUE / PLAZA | B15: =+B16*(B17+B18) -> 2596716850 | C15: =+C16*(C17+C18) -> 2360365800 | D15: =+B15+C15 -> 4957082650
A16: Valor construccion espacio publico de proximidad - m2 | B16: 295000 | C16: 295000 | D16: 295000
A17: Espacio publico para encuentro - Parque | B17: =+PartSloPyP!E9 -> 5433 | C17: =+PartSloPyP!G9 -> 1107.14 | D17: =+B17+C17 -> 6540.14
A18: Espacio Publico para encuentro - Plaza | B18: =+PartSloPyP!E10 -> 3369.43 | C18: =+PartSloPyP!G10 -> 6894.1 | D18: =+B18+C18 -> 10263.53
A19: COSTO DIRECTO - DOTACION SERVICIOS PUBLICOS (Art. 320 Dcto 555 OSP: CS * Vref * 0,064) | B19: =+B22*B21*B20 -> 1.5126908e+09 | C19: =+C22*C21*C20 -> 1.5332864e+09 | D19: =+D22*D21*D20 -> 3.0459772e+09
A20: (Cs) Areas cesion suelo | B20: =+PartSloPyP!E11 -> 11077.3 | C20: =+PartSloPyP!G11 -> 11228.12 | D20: =+'0Model'!C5 -> 22305.42
A21: (Vref) Valor de referencia | B21: =+VrSlo!E12 -> 2133714.3 | C21: =+VrSlo!E12 -> 2133714.3 | D21: =+VrSlo!E12 -> 2133714.3
A22: (0,064) Factor | B22: 0.064 | C22: 0.064 | D22: 0.064
A23: COSTO DIRECTO CONSTRUCCION EQ. PUBLICO | B23: =+B25*B24 -> 1896277500 | C23: =+(C25*C24)+(C26*C27) -> 2538094500 | D23: =+B23+C23 -> 4434372000
A24: Valor construccion equipamiento publico - m2 | B24: =+'4Cd'!D6 -> 1950000 | C24: =+'4Cd'!D6 -> 1950000 | D24: =+'4Cd'!D6 -> 1950000
A25: Equipamiento publico (hasta 2 pisos) | B25: =+PartSloPyP!C14 -> 972.45 | C25: =+PartSloPyP!C14 -> 972.45 | D25: =+B25+C25 -> 1944.9
A26: Valor construccion sotanos parquederos equipamiento público | B26: =+'4Cd'!D14 -> 1320000 | C26: =+'4Cd'!D14 -> 1320000 | D26: =+'4Cd'!D14 -> 1320000
B27: =+PartSloPyP!C14/2 -> 486.225 | C27: =+PartSloPyP!C14/2 -> 486.225 | D27: =+B27+C27 -> 972.45
A28: TOTAL COSTOS DIRECTO URBANISMO | B28: =+B23+B19+B15+B6+B3 -> 7.6240815e+09 | C28: =+C23+C19+C15+C6+C3 -> 8.5148716e+09 | D28: =+B28+C28 -> 1.6138953e+10
B29: =+B28/D28 -> 0.47240248 | C29: =+C28/D28 -> 0.52759752 | D29: =+D28/D28 -> 1
A31: COSTOS CARGAS DE GESTION SOCIAL
B32: UAU 1 | C32: UAU 2 | D32: TOTAL
A33: COSTO DE PROGRAMA GESTION A MORADORES | B33: =+D33*B34 -> 6.5598627e+09 | C33: =+C34*D33 -> 8.2510773e+09 | D33: 14810940000
B34: =+SloPri!E31 -> 0.44290657 | C34: =+SloPri!G31 -> 0.55709343 | D34: =+B34+C34 -> 1
A36: COSTOS CARGAS FORMULACION PLAN PARCIAL
B37: UAU 1 | C37: UAU 2 | D37: TOTAL
A38: COSTO CARGAS DE FORMULACION Y GESTOR PLAN PARCIAL | B38: =+B40+B44 -> 1613748340 | C38: =+C40+C44 -> 1.855968e+09 | D38: =+D40+D44 -> 3.4697163e+09
B39: =+B38/D38 -> 0.46509518 | C39: =+C38/D38 -> 0.53490482 | D39: =+B39+C39 -> 1
A40: Costo de formulacion | B40: =+B42*B41 -> 305303740 | C40: =+C42*C41 -> 3.5112908e+08 | D40: =+B40+C40 -> 6.5643282e+08
A41: Porcentaje | B41: 0.0035 | C41: 0.0035 | D41: 0.004
A42: Base costos directos | B42: =+'4Cd'!D18 -> 87229640000 | C42: =+'4Cd'!D33 -> 100322593200 | D42: =+B42+C42 -> 187552233200
...

Sheet 6Ci
A1: COSTOS INDIRECTOS
A3: CONCEPTO | C3: UAU 1 | D3: UAU 2 | E3: TOTAL
A4: % Participacion sobre el 100% | C4: 1 | D4: 1 | E4: 1
A5: Base Costos Ingresos por Ventas | C5: =+'3Vtas'!B13 -> 236498200000 | D5: =+'3Vtas'!C13 -> 279491200000 | E5: =+'3Vtas'!D13 -> 515989400000
A7: 0.006 | B7: Encargo fiduciario | C7: =+C$5*A7 -> 1418989200 | D7: =+D$5*A7 -> 1676947200 | E7: =+E$5*A7 -> 3095936400
A8: 0.03 | B8: Diseños y estudios | C8: =+C$5*A8 -> 7094946000 | D8: =+D$5*A8 -> 8384736000 | E8: =+E$5*A8 -> 15479682000
A9: 0.03 | B9: Gerencia del proyecto | C9: =+C$5*A9 -> 7094946000 | D9: =+D$5*A9 -> 8384736000 | E9: =+E$5*A9 -> 15479682000
A10: 0.01 | B10: Plan de gestion predial | C10: =+C$5*A10 -> 2364982000 | D10: =+D$5*A10 -> 2794912000 | E10: =+E$5*A10 -> 5159894000
A11: 0.008 | B11: Publicidad | C11: =+C$5*A11 -> 1891985600 | D11: =+D$5*A11 -> 2235929600 | E11: =+E$5*A11 -> 4127915200
A12: 0.03 | B12: Comercializacion y ventas | C12: =+C$5*A12 -> 7094946000 | D12: =+D$5*A12 -> 8384736000 | E12: =+E$5*A12 -> 15479682000
A13: 0.01 | B13: R.P.H. - Escrituracion | C13: =+C$5*A13 -> 2364982000 | D13: =+D$5*A13 -> 2794912000 | E13: =+E$5*A13 -> 5159894000
A14: 0.013 | B14: Licencias, aprobaciones | C14: =+C$5*A14 -> 3074476600 | D14: =+D$5*A14 -> 3633385600 | E14: =+E$5*A14 -> 6707862200
A15: 0.04 | B15: Costos financieros | C15: =+C$5*A15 -> 9459928000 | D15: =+D$5*A15 -> 11179648000 | E15: =+E$5*A15 -> 20639576000
A16: 0.015 | B16: Interventoria | C16: =+C$5*A16 -> 3547473000 | D16: =+D$5*A16 -> 4192368000 | E16: =+E$5*A16 -> 7739841000
A17: 0.013 | B17: Polizas | C17: =+C$5*A17 -> 3074476600 | D17: =+D$5*A17 -> 3633385600 | E17: =+E$5*A17 -> 6707862200
A18: =SUM(A7:A17) -> 0.205 | B18: TOTALES | C18: =SUM(C7:C17) -> 48482131000 | D18: =SUM(D7:D17) -> 57295696000 | E18: =SUM(E7:E17) -> 105777827000
A19: TOTAL PARTICIPACION % | C19: =+C5/E5 -> 0.45833926 | D19: =+D5/E5 -> 0.54166074 | E19: =+E5/E5 -> 1
A21: COSTOS INDIRECTOS
A22: CONCEPTO | C22: UAU 1 | D22: UAU 2 | E22: TOTAL P.P.
A23: Base Costos Ingresos por Ventas | C23: =+C5 -> 236498200000 | D23: =+D5 -> 279491200000 | E23: =+C23+D23 -> 515989400000
A24: =+E24/E23 -> 0.205 | B24: TOTALES | C24: =+C18 -> 48482131000 | D24: =+D18 -> 57295696000 | E24: =+C24+D24 -> 105777827000
B25: % INCIDENCIA | C25: =+C23/E23 -> 0.45833926 | D25: =+D23/E23 -> 0.54166074 | E25: =+E23/E23 -> 1

Sheet 7Util
A1: CALCULO UTILIDAD
A3: CONCEPTO | C3: UAU 1 | D3: UAU 2 | E3: TOTAL
A4: Base Costos Ingresos por Ventas | C4: =+'3Vtas'!B13 -> 236498200000 | D4: =+'3Vtas'!C13 -> 279491200000 | E4: =+'3Vtas'!D13 -> 515989400000
A5: Residencial VIS | C5: =+'3Vtas'!B17 -> 75600000000 | D5: =+'3Vtas'!C17 -> 75600000000 | E5: =+C5+D5 -> 151200000000
A6: Residencial NO VIS | C6: =+'3Vtas'!B18 -> 22528000000 | D6: =+'3Vtas'!C18 -> 22528000000 | E6: =+C6+D6 -> 45056000000
A7: Comercio y servicios Tipo 1 - Comercios y servicios básicos | C7: =+'3Vtas'!B20 -> 3332000000 | D7: =+'3Vtas'!C20 -> 3332000000 | E7: =+C7+D7 -> 6664000000
A8: Comercio y servicios Tipo 2 - Comercios y servicios básicos | C8: =+'3Vtas'!B21 -> 14059000000 | D8: =+'3Vtas'!C21 -> 14059000000 | E8: =+C8+D8 -> 28118000000
A9: Comercio y servicios Tipo 3 - Comercios y servicios básicos | C9: =+'3Vtas'!B22 -> 28072200000 | D9: =+'3Vtas'!C22 -> 15611400000 | E9: =+C9+D9 -> 43683600000
A10: Comercio y servicios Tipo 3 - Servicios de oficinas | C10: =+'3Vtas'!B23 -> 92907000000 | D10: =+'3Vtas'!C23 -> 37618500000 | E10: =+C10+D10 -> 130525500000
A11: Dotacional Tipo 2 | C11: =+'3Vtas'!B25 -> 0 | D11: =+'3Vtas'!C25 -> 110742300000 | E11: =+C11+D11 -> 110742300000
A13: UTILIDADES
A14: =+(A18+A19+A20+A21+A22+A23+A24)/7 -> 0.15142857 | B14: UTILIDAD PROMEDIO | C14: UAU 1 | D14: UAU 2 | E14: TOTAL
A15: TOTALES | C15: =SUM(C18:C24) -> 35993940000 | D15: =SUM(D18:D24) -> 41891658000 | E15: =SUM(E18:E24) -> 77885598000
A16: % PARTICIPACION | C16: =+C15/E15 -> 0.46213858 | D16: =+D15/E15 -> 0.53786142 | E16: =+E4/E4 -> 1
A17: % | B17: CONCEPTO | C17: UAU 1 | D17: UAU 2 | E17: TOTAL
A18: 0.12 | B18: Residencial VIS | C18: =+C5*A18 -> 9072000000 | D18: =+D5*A18 -> 9072000000 | E18: =+C18+D18 -> 18144000000
A19: 0.15 | B19: Residencial NO VIS | C19: =+C6*A19 -> 3379200000 | D19: =+D6*A19 -> 3379200000 | E19: =+C19+D19 -> 6758400000
A20: 0.15 | B20: Comercio y servicios Tipo 1 - Comercios y servicios básicos | C20: =+C7*A20 -> 499800000 | D20: =+D7*A20 -> 499800000 | E20: =+C20+D20 -> 999600000
A21: 0.15 | B21: Comercio y servicios Tipo 2 - Comercios y servicios básicos | C21: =+C8*A21 -> 2108850000 | D21: =+D8*A21 -> 2108850000 | E21: =+C21+D21 -> 4217700000
A22: 0.15 | B22: Comercio y servicios Tipo 3 - Comercios y servicios básicos | C22: =+C9*A22 -> 4210830000 | D22: =+D9*A22 -> 2341710000 | E22: =+C22+D22 -> 6552540000
A23: 0.18 | B23: Comercio y servicios Tipo 3 - Servicios de oficinas | C23: =+C10*A23 -> 16723260000 | D23: =+D10*A23 -> 6771330000 | E23: =+C23+D23 -> 23494590000
A24: 0.16 | B24: Dotacional Tipo 2 | C24: =+C11*A24 -> 0 | D24: =+D11*A24 -> 17718768000 | E24: =+C24+D24 -> 17718768000

Sheet 8Bal
A1: BALANCE GENERAL DEL PLAN PARCIAL
A3: TOTAL INGRESOS | D3: =+D4+D5 -> 520525400000 | E3: =+D3/D$3 -> 1
A4: 1 | B4: Valor total ingresos por ventas (VTv) | D4: =+'3Vtas'!D13 -> 515989400000 | E4: =+D4/D$3 -> 0.99128573
A5: 2 | B5: Ingresos por recuperacion IVA (3% sobre ventas VIS) | D5: =+'3Vtas'!D17*3% -> 4536000000 | E5: =+D5/D$3 -> 0.0087142722
A6: TOTAL EGRESOS | D6: =+D7+D8+D9+D10+D11 -> 3.8949631e+11 | E6: =+D6/D$3 -> 0.74827533
A7: 3 | B7: Total Costos directos de construcción (Cc) | D7: =+'4Cd'!D50 -> 187552233200 | E7: =+D7/D$3 -> 0.36031332
A8: 4 | B8: Total Costos Indirectos de construcción (Cic) | D8: =+'6Ci'!E18 -> 105777827000 | E8: =+D8/D$4 -> 0.205
A9: 5 | B9: Costos total cargas gestion social (programa de gestion a moradores) | D9: =+'05Carg'!D33 -> 14810940000 | E9: =+D9/D$3 -> 0.028453828
A10: 6 | B10: Costos total cargas de formulacion gestor plan parcial | D10: =+'05Carg'!D38 -> 3.4697163e+09 | E10: =+D10/D$3 -> 0.0066657964
A11: 7 | B11: Utilidad (U) | D11: =+'7Util'!E15 -> 77885598000 | E11: =+D11/D$3 -> 0.14962881
A12: VALOR DEL SUELO URBANIZADO (Ingresos - Egresos) | D12: =+D3-D6 -> 1.3102909e+11 | E12: =+D12/D$3 -> 0.25172467
A13: 8 | B13: Costo total del urbanismo | D13: =+'05Carg'!D28 -> 1.6138953e+10 | E13: =+D13/D$3 -> 0.031005121
A14: VALOR RESIDUAL DEL SUELO BRUTO | D14: =+D12-D13 -> 1.1489013e+11 | E14: =+D14/D$3 -> 0.22071955
A15: 9 | B15: Valor inicial | D15: =+VrSlo!F12 -> 4.1338688e+10 | E15: =+D15/D$3 -> 0.079417234
A16: 10 | B16: Mayor valor del suelo | D16: =+D14-D15 -> 7.3551445e+10 | E16: =+D16/D$3 -> 0.14130232
A18: DETALLE VALOR DE SUELO
A19: DETALLE | C19: VALOR m2 | D19: VALOR TOTAL | E19: %
A20: 1 | B20: Valor inicial del suelo | C20: =+VrSlo!E12 -> 2133714.3 | D20: =+D15 -> 4.1338688e+10 | E20: 1
A21: 2 | B21: Valor residual del suelo | C21: =+D14/PartSloPyP!C30 -> 5930104.1 | D21: =+D14 -> 1.1489013e+11 | E21: =+D21/D20 -> 2.77924
A22: 3 | B22: Diferencia - Porcentaje de incremento | C22: =+C21-C20 -> 3796389.7 | D22: =+D21-D20 -> 7.3551445e+10 | E22: =+E21-E20 -> 1.77924

Sheet 9RepSegMod
A1: REPARTO DE CARGAS Y BENEFICIOS SEGUN MODELO URBANÍSTICO
A3: CONCEPTO | C3: UAU 1 | D3: UAU 2 | E3: TOTAL
A4: 1 | B4: Valor total ingresos por ventas (VTv) | C4: =+'3Vtas'!B13 -> 236498200000 | D4: =+'3Vtas'!C13 -> 279491200000 | E4: =+C4+D4 -> 515989400000
A5: 2 | B5: Ingresos por rescuperacion IVA (3% sobre ventas VIS) | C5: =+'3Vtas'!C17*3% -> 2268000000 | D5: =+'3Vtas'!C17*3% -> 2268000000 | E5: =+C5+D5 -> 4536000000
A6: 3 | B6: Total Costos directos de construcción (Cc) | C6: =+'4Cd'!D18 -> 87229640000 | D6: =+'4Cd'!D33 -> 100322593200 | E6: =+C6+D6 -> 187552233200
A7: 4 | B7: Total Costos Indirectos de construcción (Cic) | C7: =+'6Ci'!C18 -> 48482131000 | D7: =+'6Ci'!D18 -> 57295696000 | E7: =+C7+D7 -> 105777827000
A8: 5 | B8: Utilidad (U) | C8: =+'7Util'!C15 -> 35993940000 | D8: =+'7Util'!D15 -> 41891658000 | E8: =+C8+D8 -> 77885598000
A9: 6 | B9: VALOR DEL SUELO URBANIZADO (1+2)-(3+4+5) | C9: =+(C4+C5)-C6-C7-C8 -> 67060489000 | D9: =+(D4+D5)-D6-D7-D8 -> 82249252800 | E9: =+E4+E5-E6-E7-E8 -> 149309741800
A10: 7 | B10: % De distribucion de las cargas según modelo (Hoja 05 Carg) | C10: =+'05Carg'!B57 -> 0.45897362 | D10: =+'05Carg'!C57 -> 0.54102638 | E10: =+E4/E4 -> 1
A11: 8 | B11: Costo total del urbanismo | C11: =+C10*E11 -> 7.4073537e+09 | D11: =+D10*E11 -> 8.7315994e+09 | E11: =+'8Bal'!D13 -> 1.6138953e+10
A12: 9 | B12: Costos total cargas gestion social (programa de gestion a moradores) | C12: =+C10*E12 -> 6.7978307e+09 | D12: =+D10*E12 -> 8.0131093e+09 | E12: =+'8Bal'!D9 -> 14810940000
A13: 10 | B13: Costos total cargas de formulacion gestor plan parcial | C13: =+C10*E13 -> 1.5925082e+09 | D13: =+D10*E13 -> 1.8772081e+09 | E13: =+'8Bal'!D10 -> 3.4697163e+09
A14: 11 | B14: VALOR RESIDUAL DEL SUELO UTIL (6-8-9-10) | C14: =+C9-C11-C12-C13 -> 5.1262796e+10 | D14: =+D9-D11-D12-D13 -> 6.3627336e+10 | E14: =+C14+D14 -> 1.1489013e+11
A15: 12 | B15: Suelo privado aportado | C15: =+SloPri!H13 -> 8655.44 | D15: =+SloPri!K13 -> 10718.61 | E15: =+C15+D15 -> 19374.05
A16: 13 | B16: Valor residual del suelo por m2 - antes del reparto (11/12) | C16: =+C14/C15 -> 5922610.1 | D16: =+D14/D15 -> 5936155.5 | E16: =+E14/E15 -> 5930104.1
A17: 14 | B17: Valor residual del suelo por m2 - despues del reparto | C17: =+E16 -> 5930104.1 | D17: =+E16 -> 5930104.1 | E17: =+E16 -> 5930104.1
A18: 15 | B18: Valor del suelo privado - despues del reparto (12*14) | C18: =+C15*C17 -> 5.132766e+10 | D18: =+D15*D17 -> 6.3562473e+10 | E18: =+C18+D18 -> 1.1489013e+11
A19: 16 | B19: VALOR DE TRANSFERENCIAS (11+15) | C19: =+C14-C18 -> -64863377 | D19: =+D14-D18 -> 64863377 | E19: =+C19+D19 -> 1.5258789e-05
C20: Menor Valor | D20: Mayor Valor | E20: Balance

Sheet 9RepPartVtas
A1: REPARTO DE CARGAS Y BENEFICIOS POR PARTICIPACION EN VENTAS
A3: CONCEPTO | C3: UA1 | D3: UA2 | E3: TOTAL
A4: 1 | B4: Valor total ingresos por ventas (VTv) | C4: =+'3Vtas'!B13 -> 236498200000 | D4: =+'3Vtas'!C13 -> 279491200000 | E4: =+C4+D4 -> 515989400000
A5: 2 | B5: Ingresos por rescuperacion IVA (3% sobre ventas VIS) | C5: =+'3Vtas'!C17*3% -> 2268000000 | D5: =+'3Vtas'!C17*3% -> 2268000000 | E5: =+C5+D5 -> 4536000000
A6: 3 | B6: Total Costos directos de construcción (Cc) | C6: =+'4Cd'!D18 -> 87229640000 | D6: =+'4Cd'!D33 -> 100322593200 | E6: =+C6+D6 -> 187552233200
A7: 4 | B7: Total Costos Indirectos de construcción (Cic) | C7: =+'6Ci'!C18 -> 48482131000 | D7: =+'6Ci'!D18 -> 57295696000 | E7: =+C7+D7 -> 105777827000
A8: 5 | B8: Utilidad (U) | C8: =+'7Util'!C15 -> 35993940000 | D8: =+'7Util'!D15 -> 41891658000 | E8: =+C8+D8 -> 77885598000
A9: 6 | B9: VALOR DEL SUELO URBANIZADO (1+2)-(3+4+5) | C9: =+(C4+C5)-C6-C7-C8 -> 67060489000 | D9: =+(D4+D5)-D6-D7-D8 -> 82249252800 | E9: =+E4+E5-E6-E7-E8 -> 149309741800
A10: 7 | B10: % De distribucion de las cargas por ventas (1) | C10: =+C4/E4 -> 0.45833926 | D10: =+D4/E4 -> 0.54166074 | E10: =+E4/E4 -> 1
A11: 8 | B11: Costo total del urbanismo | C11: =+C$10*E11 -> 7.3971158e+09 | D11: =+D$10*E11 -> 8.7418373e+09 | E11: =+'8Bal'!D13 -> 1.6138953e+10
A12: 9 | B12: Costos total cargas gestion social (programa de gestion a moradores) | C12: =+C$10*E12 -> 6.7884353e+09 | D12: =+D$10*E12 -> 8.0225047e+09 | E12: =+'8Bal'!D9 -> 14810940000
A13: 10 | B13: Costos total cargas de formulacion gestor plan parcial | C13: =+C$10*E13 -> 1.5903072e+09 | D13: =+D$10*E13 -> 1.8794091e+09 | E13: =+'8Bal'!D10 -> 3.4697163e+09
A14: 11 | B14: VALOR RESIDUAL DEL SUELO UTIL (6-8-9-10) | C14: =+C9-C11-C12-C13 -> 5.1284631e+10 | D14: =+D9-D11-D12-D13 -> 6.3605502e+10 | E14: =+C14+D14 -> 1.1489013e+11
A15: 12 | B15: Suelo privado aportado | C15: =+PartSloPyP!E30 -> 8655.44 | D15: =+PartSloPyP!G30 -> 10718.61 | E15: =+C15+D15 -> 19374.05
A16: 13 | B16: Valor residual del suelo por m2 - antes del reparto (11/12) | C16: =+C14/C15 -> 5925132.7 | D16: =+D14/D15 -> 5934118.5 | E16: =+E14/E15 -> 5930104.1
A17: 14 | B17: Valor residual del suelo por m2 - despues del reparto | C17: =+E16 -> 5930104.1 | D17: =+E16 -> 5930104.1 | E17: =+E16 -> 5930104.1
A18: 15 | B18: Valor del suelo privado - despues del reparto (12*14) | C18: =+C15*C17 -> 5.132766e+10 | D18: =+D15*D17 -> 6.3562473e+10 | E18: =+C18+D18 -> 1.1489013e+11
A19: 16 | B19: VALOR DE TRANSFERECIAS (11-15) | C19: =+C14-C18 -> -43029130 | D19: =+D14-D18 -> 43029130 | E19: =+C19+D19 -> 1.5258789e-05
C20: Menor Valor | D20: Mayor Valor | E20: Balance

Sheet 10Equiv
A1: DETALLE VALOR DE SUELO
A2: DETALLE | C2: VALOR m2 | D2: VALOR TOTAL
